Workbook

Sheet IBU YUSTI
A1: REALISASI FISIK DAN KEUANGAN
A2: APBD KABUPATEN KEPULAUAN SELAYAR
A3: TAHUN ANGGARAN 2025
A5: SKPD | B5: : | C5: Badan Kepegawaian Dan Pengembangan Sumber Daya Manusia
A6: Kegiatan | B6: : | C6: Pengelolaan Mutasi ASN
A7: Belanja | B7: : | C7: Langsung
M8: ='B'' IDA'!M8 -> Keadaan Desember 2025
A9: No. Urt | B9: Uraian / Rincian Kegiatan / Target | E9: Lokasi | G9: Jumlah Dana ( Rp ) | H9: Nilai Kontrak ( Rp ) | I9: Nama Pelaksana | J9: Bobot ( % ) | K9: Realisasi Komunikatif ( % ) | M9: Realisasi Tertimbang ( % ) | P9: Sisa Dana (Rp )
E10: Desa / Kel | F10: Kec | K10: Fisik | L10: Keuangan | M10: Fisik | N10: Keuangan
N11: Rp. | O11: %
A12: 1 | B12: 2 | E12: 3 | F12: 4 | G12: 5 | H12: 6 | I12: 7 | J12: 8 | K12: 9 | L12: 10 | M12: 11 | N12: 12 | O12: 13 | P12: 14
A14: 1 | B14: Belanja Alat dan bahan Untuk Kegiatan Kantor- ATK | G14: 2382200 | J14: =G14/G27*100 -> 8.1037134 | K14: 100 | L14: =N14/G14*100 -> 92.842457 | M14: =J14*K14/100 -> 8.1037134 | N14: 2211693 | O14: =J14*L14/100 -> 7.5236866 | P14: =G14-N14 -> 170507
A15: 2 | B15: Belanja alat dan bahan untuk kegiatan Kantor -Kertas Cover | G15: 2142800 | J15: =G15/G27*100 -> 7.2893279 | K15: 100 | L15: =N15/G15*100 -> 91.481239 | M15: =J15*K15/100 -> 7.2893279 | N15: 1960260 | O15: =J15*L15/100 -> 6.6683676 | P15: =G15-N15 -> 182540
A16: 3 | B16: Belanja alat dan bahan untuk kegiatan Kantor -bahan Cetak | G16: 1447000 | J16: =G16/G27*100 -> 4.9223714 | K16: 100 | L16: =N16/G16*100 -> 83.292122 | M16: =J16*K16/100 -> 4.9223714 | N16: 1205237 | O16: =J16*L16/100 -> 4.0999476 | P16: =G16-N16 -> 241763
A17: 4 | B17: Belanja Alat dan Bahan untuk kegiatan Kantor- Bahan Komputer | G17: 1596400 | J17: =G17/G27*100 -> 5.4305969 | K17: 100 | L17: =N17/G17*100 -> 93.50664 | M17: =J17*K17/100 -> 5.4305969 | N17: 1492740 | O17: =J17*L17/100 -> 5.0779687 | P17: =G17-N17 -> 103660
A18: 5 | B18: Makan dan Minum rapat | G18: 8472000 | J18: =G18/G27*100 -> 28.819855 | K18: =N18:N19/G18*100 -> 100 | L18: =N18/G18*100 -> 100 | M18: =J18*K18/100 -> 28.819855 | N18: 8472000 | O18: =J18*L18/100 -> 28.819855 | P18: =G18-N18 -> 0
A19: 6 | B19: Honorarium Narasumbar atau Pembahas moderator | G19: 2400000 | J19: =G19/G27*100 -> 8.164265 | K19: =N19:N20/G19*100 -> 100 | L19: =N19/G19*100 -> 100 | M19: =J19*K19/100 -> 8.164265 | N19: 2400000 | O19: =J19*L19/100 -> 8.164265 | P19: =G19-N19 -> 0
A20: 7 | B20: Belanja jasa Tenaga Administrasi | G20: 3600000 | J20: =G20/G27*100 -> 12.246398 | K20: =N20:N21/G20*100 -> 100 | L20: =N20/G20*100 -> 100 | M20: =J20*K20/100 -> 12.246398 | N20: 3600000 | O20: =J20*L20/100 -> 12.246398 | P20: =G20-N20 -> 0
A21: 8 | B21: Belanja Perjalanan Dinas Dalam Negeri | G21: 7106000 | J21: =G21/G27*100 -> 24.173028 | K21: 100 | L21: =N21/G21*100 -> 99.08528 | M21: =J21*K21/100 -> 24.173028 | N21: 7041000 | O21: =J21*L21/100 -> 23.951912 | P21: =G21-N21 -> 65000
A22: 9 | B22: Belanja jasa yang diberikan Kepada Phak Ketiga | G22: 250000 | J22: =G22/G27*100 -> 0.85044427 | K22: =N22:N23/G22*100 -> 100 | L22: =N22/G22*100 -> 100 | M22: =J22*K22/100 -> 0.85044427 | N22: 250000 | O22: =J22*L22/100 -> 0.85044427 | P22: =G22-N22 -> 0
A27: TOTAL | G27: =SUM(G14:G26) -> 29396400 | J27: =SUM(J14:J26) -> 100 | K27: =SUM(K14:K21)/4 -> 200 | L27: =N27/G27*100 -> 97.402845 | M27: =SUM(M14:M22) -> 100 | N27: =SUM(N14:N26) -> 28632930 | O27: =SUM(O14:O22) -> 97.402845 | P27: =SUM(P14:P22) -> 763470
L29: ='B'' IDA'!L330 -> Benteng, 31 Desember 2025
L31: Pejabat Pelaksana Teknis Kegiatan
L35: YUSTI ULIYANTI,S.Sos
L36: NIP. 19860830 2014072002
A41: Kegiatan | B41: : | C41: Pengelolaan Kenaikan Pangkat ASN
A42: Belanja | B42: : | C42: Langsung
M43: ='B'' IDA'!M39 -> Keadaan Desember 2025
A44: No. Urt | B44: Uraian / Rincian Kegiatan / Target | E44: Lokasi | G44: Jumlah Dana ( Rp ) | H44: Nilai Kontrak ( Rp ) | I44: Nama Pelaksana | J44: Bobot ( % ) | K44: Realisasi Komunikatif ( % ) | M44: Realisasi Tertimbang ( % ) | P44: Sisa Dana (Rp )
E45: Desa / Kel | F45: Kec | K45: Fisik | L45: Keuangan | M45: Fisik | N45: Keuangan
N46: Rp. | O46: %
A47: 1 | B47: 2 | E47: 3 | F47: 4 | G47: 5 | H47: 6 | I47: 7 | J47: 8 | K47: 9 | L47: 10 | M47: 11 | N47: 12 | O47: 13 | P47: 14
A49: 1 | B49: Belanja Alat dan bahan Untuk Kegiatan Kantor- ATK | G49: 411200 | J49: =G49/G56*100 -> 0.90699147 | K49: 100 | L49: =N49/G49*100 -> 91.240272 | M49: =J49*K49/100 -> 0.90699147 | N49: 375180 | O49: =J49*L49/100 -> 0.82754148 | P49: =G49-N49 -> 36020
A50: 2 | B50: Belanja alat dan bahan untuk kegiatan Kantor -Kertas Cover | G50: 1458600 | J50: =G50/G56*100 -> 3.2172611 | K50: 100 | L50: =N50/G50*100 -> 92.690251 | M50: =J50*K50/100 -> 3.2172611 | N50: 1351980 | O50: =J50*L50/100 -> 2.9820874 | P50: =G50-N50 -> 106620
A51: 3 | B51: Belanja alat dan bahan untuk kegiatan Kantor -bahan Cetak | G51: 1950000 | J51: =G51/G56*100 -> 4.3011512 | K51: 100 | L51: =N51/G51*100 -> 69.930051 | M51: =J51*K51/100 -> 4.3011512 | N51: 1363636 | O51: =J51*L51/100 -> 3.0077972 | P51: =G51-N51 -> 586364
A52: 4 | B52: Belanja Alat dan Bahan untuk kegiatan Kantor- Bahan Komputer | G52: 3700900 | J52: =G52/G56*100 -> 8.1631438 | K52: 100 | L52: =N52/G52*100 -> 93.731011 | M52: =J52*K52/100 -> 8.1631438 | N52: 3468891 | O52: =J52*L52/100 -> 7.6513972 | P52: =G52-N52 -> 232009
A53: 5 | B53: Belanja Tenaga Administrasi | G53: 3600000 | J53: =G53/G56*100 -> 7.9405868 | K53: =N53/G53*100 -> 100 | L53: =N53/G53*100 -> 100 | M53: =J53*K53/100 -> 7.9405868 | N53: 3600000 | O53: =J53*L53/100 -> 7.9405868 | P53: =G53-N53 -> 0
A54: 6 | B54: Belanja Perjalanan Dinas Dalam Negeri | G54: 28816000 | J54: =G54/G56*100 -> 63.559986 | K54: 100 | L54: =N54/G54*100 -> 96.943712 | M54: =J54*K54/100 -> 63.559986 | N54: 27935300 | O54: =J54*L54/100 -> 61.617409 | P54: =G54-N54 -> 880700
A55: 7 | B55: Honorarium Narasumbar atau Pembahas moderator | G55: 5400000 | J55: =G55/G56*100 -> 11.91088 | K55: =N55/G55*100 -> 100 | L55: =N55/G55*100 -> 100 | M55: =J55*K55/100 -> 11.91088 | N55: 5400000 | O55: =J55*L55/100 -> 11.91088 | P55: =G55-N55 -> 0
A56: TOTAL | G56: =SUM(G49:G55) -> 45336700 | J56: =SUM(J49:J55) -> 100 | L56: =N56/G56*100 -> 95.937699 | M56: =SUM(M49:M55) -> 100 | N56: =SUM(N49:N55) -> 43494987 | O56: =SUM(O49:O55) -> 95.937699 | P56: =SUM(P49:P55) -> 1841713
...

Sheet IBU ASNI
A1: REALISASI FISIK DAN KEUANGAN
A2: APBD KABUPATEN KEPULAUAN SELAYAR
A3: TAHUN ANGGARAN 2025
A5: SKPD | B5: : | C5: Badan Kepegawaian Dan Pengembangan Sumber Daya Manusia
A6: Kegiatan | B6: : | C6: Pengelolaan Pendidikan Lanjutan ASN
A7: Belanja | B7: : | C7: Langsung
M8: ='B'' IDA'!M8 -> Keadaan Desember 2025
A9: 85 | B9: Uraian / Rincian Kegiatan / Target | E9: Lokasi | G9: Jumlah Dana ( Rp ) | H9: Nilai Kontrak ( Rp ) | I9: Nama Pelaksana | J9: Bobot ( % ) | K9: Realisasi Komunikatif ( % ) | M9: Realisasi Tertimbang ( % ) | P9: Sisa Dana (Rp )
E10: Desa / Kel | F10: Kec | K10: Fisik | L10: Keuangan | M10: Fisik | N10: Keuangan
N11: Rp. | O11: %
A12: 1 | B12: 2 | E12: 3 | F12: 4 | G12: 5 | H12: 6 | I12: 7 | J12: 8 | K12: 9 | L12: 10 | M12: 11 | N12: 12 | O12: 13 | P12: 14
A14: 1 | B14: Belanja alat /bahan untuk Kegiatan Kantor -Bahan Cetak | G14: 230000 | J14: =G14/G22*100 -> 0.097973232 | K14: 100 | L14: =N14/G14*100 -> 69.93 | M14: =J14*K14/100 -> 0.097973232 | N14: 160839 | O14: =J14*L14/100 -> 0.068512681 | P14: =G14-N14 -> 69161
A15: 2 | B15: Belanja Jasa Tenaga Administrasi | G15: 4800000 | J15: =G15/G22*100 -> 2.0446588 | K15: =N15/G15*100 -> 100 | L15: =N15/G15*100 -> 100 | M15: =J15*L15/100 -> 2.0446588 | N15: 4800000 | O15: =J15*L15/100 -> 2.0446588 | P15: =G15-N15 -> 0
A16: 3 | B16: Belanja Beasiswa Tugas Belajar S! | G16: 5000000 | J16: =G16/G22*100 -> 2.1298529 | K16: =N16/G16*100 -> 100 | L16: =N16/G16*100 -> 100 | M16: =J16*L16/100 -> 2.1298529 | N16: 5000000 | O16: =J16*L16/100 -> 2.1298529 | P16: =G16-N16 -> 0
A17: 4 | B17: Belanja Beasiswa Tugas Belajar S2 | G17: 215000000 | J17: =G17/G22*100 -> 91.583673 | K17: =N17/G17*100 -> 100 | L17: =N17/G17*100 -> 100 | M17: =J17*L17/100 -> 91.583673 | N17: 215000000 | O17: =J17*L17/100 -> 91.583673 | P17: =G17-N17 -> 0
A18: 5 | B18: Belanja Perjalanan Dinas Biasa | G18: 9728000 | J18: =G18/G22*100 -> 4.1438417 | K18: 100 | L18: =N18/G18*100 -> 96.905839 | M18: =J18*K18/100 -> 4.1438417 | N18: 9427000 | O18: =J18*L18/100 -> 4.0156246 | P18: =G18-N18 -> 301000
A22: TOTAL | G22: =SUM(G14:G21) -> 234758000 | J22: =SUM(J14:J21) -> 100 | K22: =SUM(#REF!)/2 -> #REF! | L22: =N22/G22*100 -> 99.842322 | M22: =SUM(M14:M18) -> 100 | N22: =SUM(N14:N19) -> 234387839 | O22: =SUM(O14:O18) -> 99.842322 | P22: =SUM(P14:P18) -> 370161
L24: ='B'' IDA'!L330 -> Benteng, 31 Desember 2025
L26: Pejabat Pelaksana Teknis Kegiatan
L30: NUR HASNIATI,S.Sos,M.Si
L31: NIP. 19710623 201001 2 003
A45: Kegiatan | B45: : | C45: Koordinasi dan Kerjasama Pelaksanaan Diklat Jabatan Fungsional
A46: Belanja | B46: : | C46: Langsung
M47: ='B'' IDA'!M8 -> Keadaan Desember 2025
A48: No. Urt | B48: Uraian / Rincian Kegiatan / Target | E48: Lokasi | G48: Jumlah Dana ( Rp ) | H48: Nilai Kontrak ( Rp ) | I48: Nama Pelaksana | J48: Bobot ( % ) | K48: Realisasi Komunikatif ( % ) | M48: Realisasi Tertimbang ( % ) | P48: Sisa Dana (Rp )
E49: Desa / Kel | F49: Kec | K49: Fisik | L49: Keuangan | M49: Fisik | N49: Keuangan
N50: Rp. | O50: %
A51: 1 | B51: 2 | E51: 3 | F51: 4 | G51: 5 | H51: 6 | I51: 7 | J51: 8 | K51: 9 | L51: 10 | M51: 11 | N51: 12 | O51: 13 | P51: 14
A54: 1 | B54: Belanja uang atau jasa yang diberikan kepada Pihak | G54: 32000000 | J54: =G54/G60*100 -> 71.111111 | K54: =N54/G54*100 -> 100 | L54: =N54/G54*100 -> 100 | M54: =J54*K54/100 -> 71.111111 | N54: 32000000 | O54: =J54*L54/100 -> 71.111111 | P54: =G54-N54 -> 0
A55: 2 | B55: Belanja alat dan bahan untuk kegiatan Kantor -Alat Tulis Kantor | G55: 751000 | J55: =G55/G60*100 -> 1.6688889 | K55: 100 | L55: =N55/G55*100 -> 92.330226 | M55: =J55*K55/100 -> 1.6688889 | N55: 693400 | O55: =J55*L55/100 -> 1.5408889 | P55: =G55-N55 -> 57600
A56: 3 | B56: Belanja alat dan bahan untuk kegiatan Kantor -Kertas Cover | G56: 661000 | J56: =G56/G60*100 -> 1.4688889 | K56: 100 | L56: =N56/G56*100 -> 95.214826 | M56: =J56*K56/100 -> 1.4688889 | N56: 629370 | O56: =J56*L56/100 -> 1.3986 | P56: =G56-N56 -> 31630
A57: 4 | B57: Belanja alat /bahan untuk Kegiatan Kantor -Bahan Cetak | G57: 2116000 | J57: =G57/G60*100 -> 4.7022222 | K57: 100 | L57: =N57/G57*100 -> 70 | M57: =J57*K57/100 -> 4.7022222 | N57: 1481200 | O57: =J57*L57/100 -> 3.2915556 | P57: =G57-N57 -> 634800
A58: 5 | B58: Belanja Perjalanan Biasa | G58: 9472000 | J58: =G58/G60*100 -> 21.048889 | K58: 100 | L58: =N58/G58*100 -> 98.660262 | M58: =J58*K58/100 -> 21.048889 | N58: 9345100 | O58: =J58*L58/100 -> 20.766889 | P58: =G58-N58 -> 126900
A60: TOTAL | G60: =SUM(G53:G59) -> 45000000 | J60: =SUM(J53:J59) -> 100 | K60: =SUM(K53:K58)/12 -> 41.666667 | L60: =N60/G60*100 -> 98.109044 | M60: =SUM(M53:M58) -> 100 | N60: =SUM(N53:N58) -> 44149070 | O60: =SUM(O53:O58) -> 98.109044 | P60: =SUM(P53:P58) -> 850930
L62: =L24 -> Benteng, 31 Desember 2025
L64: Pejabat Pelaksana Teknis Kegiatan
L68: NUR HASNIATI,S.Sos,M.Si
L69: NIP. 19710623 201001 2 003
A86: Kegiatan | B86: : | C86: Penyelenggaraan Pengembangan Kompotensi Teknis Umum ,inti,dan Pilihan bagi jabatan Administrasi Penyelenggara urusan Pemerintah Konkuren,
A87: Belanja | B87: : | C87: Langsung
...

Sheet Pak Alex
A1: REALISASI FISIK DAN KEUANGAN
A2: APBD KABUPATEN KEPULAUAN SELAYAR
A3: TAHUN ANGGARAN 2025
A5: SKPD | B5: : | C5: Badan Kepegawaian Dan Pengembangan Sumber Daya Manusia
A6: Kegiatan | B6: : | C6: Penyusunan Rencana Kebutuhan ,Jenis dan Jumlah Jabatan untuk Pelaksanaan Pengadaan ASN
A7: Belanja | B7: : | C7: Langsung
M8: ='B'' IDA'!M8 -> Keadaan Desember 2025
A9: No. Urt | B9: Uraian / Rincian Kegiatan / Target | E9: Lokasi | G9: Jumlah Dana ( Rp ) | H9: Nilai Kontrak ( Rp ) | I9: Nama Pelaksana | J9: Bobot ( % ) | K9: Realisasi Komunikatif ( % ) | M9: Realisasi Tertimbang ( % ) | P9: Sisa Dana (Rp )
E10: Desa / Kel | F10: Kec | K10: Fisik | L10: Keuangan | M10: Fisik | N10: Keuangan
N11: Rp. | O11: %
A12: 1 | B12: 2 | E12: 3 | F12: 4 | G12: 5 | H12: 6 | I12: 7 | J12: 8 | K12: 9 | L12: 10 | M12: 11 | N12: 12 | O12: 13 | P12: 14
A14: 1 | B14: Belanja Alat dan bahan Untuk Kegiatan Kantor- ATK | G14: 216300 | J14: =G14/G22*100 -> 3.279111 | K14: 100 | L14: =N14/G14*100 -> 95.02589 | M14: =J14*K14/100 -> 3.279111 | N14: 205541 | O14: =J14*L14/100 -> 3.1160044 | P14: =G14-N14 -> 10759
A15: 2 | B15: Belanja alat dan bahan untuk kegiatan Kantor -bahan Cetak | G15: 100000 | J15: =G15/G22*100 -> 1.5160014 | K15: 100 | L15: =N15/G15*100 -> 70 | M15: =J15*K15/100 -> 1.5160014 | N15: 70000 | O15: =J15*L15/100 -> 1.061201 | P15: =G15-N15 -> 30000
A16: 3 | B16: Belanja Alat dan Bahan untuk kegiatan Kantor- Bahan Komputer | G16: 332000 | J16: =G16/G22*100 -> 5.0331246 | K16: 100 | L16: =N16/G16*100 -> 88.960843 | M16: =J16*K16/100 -> 5.0331246 | N16: 295350 | O16: =J16*L16/100 -> 4.4775101 | P16: =G16-N16 -> 36650
A17: 4 | B17: Belanja Perjalanan Dinas Dalam Negeri | G17: 5948000 | J17: =G17/G22*100 -> 90.171763 | K17: 100 | L17: =N17/G17*100 -> 97.637861 | M17: =J17*K17/100 -> 90.171763 | N17: 5807500 | O17: =J17*L17/100 -> 88.041781 | P17: =G17-N17 -> 140500
A22: TOTAL | G22: =SUM(G14:G21) -> 6596300 | J22: =SUM(J14:J21) -> 100 | K22: =SUM(K14:K20)/6 -> 66.666667 | L22: =N22/G22*100 -> 96.696497 | M22: =SUM(M14:M21) -> 100 | N22: =SUM(N14:N17) -> 6378391 | O22: =SUM(O14:O21) -> 96.696497 | P22: =SUM(P14:P17) -> 217909
L24: Benteng, 9 Desember 2025
L26: Pejabat Pelaksana Teknis Kegiatan
L30: AHMAD ANSAR,S.Sos
L31: NIP. 197907312007011014
A38: Kegiatan | B38: : | C38: Koordinasi dan Fasilitasi Pengadaan PNS dan PPPK
A39: Belanja | B39: : | C39: Langsung
M40: =M8 -> Keadaan Desember 2025
A41: No. Urt | B41: Uraian / Rincian Kegiatan / Target | E41: Lokasi | G41: Jumlah Dana ( Rp ) | H41: Nilai Kontrak ( Rp ) | I41: Nama Pelaksana | J41: Bobot ( % ) | K41: Realisasi Komunikatif ( % ) | M41: Realisasi Tertimbang ( % ) | P41: Sisa Dana (Rp )
E42: Desa / Kel | F42: Kec | K42: Fisik | L42: Keuangan | M42: Fisik | N42: Keuangan
N43: Rp. | O43: %
A44: 1 | B44: 2 | E44: 3 | F44: 4 | G44: 5 | H44: 6 | I44: 7 | J44: 8 | K44: 9 | L44: 10 | M44: 11 | N44: 12 | O44: 13 | P44: 14
A46: 1 | B46: Belanja Alat dan bahan Untuk Kegiatan Kantor- ATK | G46: 536000 | J46: =G46/G56*100 -> 0.65469887 | K46: 100 | L46: =N46/G46*100 -> 93.32444 | M46: =J46*K46/100 -> 0.65469887 | N46: 500219 | O46: =J46*L46/100 -> 0.61099406 | P46: =G46-N46 -> 35781
A47: 2 | B47: Belanja alat dan bahan untuk kegiatan Kantor -Kertas Cover | G47: 922200 | J47: =G47/G56*100 -> 1.1264241 | K47: 100 | L47: =N47/G47*100 -> 80.080243 | M47: =J47*K47/100 -> 1.1264241 | N47: 738500 | O47: =J47*L47/100 -> 0.90204312 | P47: =G47-N47 -> 183700
A48: 3 | B48: Belanja alat dan bahan untuk kegiatan Kantor -bahan Cetak | G48: 956700 | J48: =G48/G56*100 -> 1.1685642 | K48: 100 | L48: =N48/G48*100 -> 88.119055 | M48: =J48*K48/100 -> 1.1685642 | N48: 843035 | O48: =J48*L48/100 -> 1.0297277 | P48: =G48-N48 -> 113665
A49: 4 | B49: Belanja Alat dan Bahan untuk kegiatan Kantor- Bahan Komputer | G49: 1525800 | J49: =G49/G56*100 -> 1.8636932 | K49: 100 | L49: =N49/G49*100 -> 87.589461 | M49: =J49*K49/100 -> 1.8636932 | N49: 1336440 | O49: =J49*L49/100 -> 1.6323988 | P49: =G49-N49 -> 189360
B50: Belanja Alat/Bahan untuk Kegiatan Kantor- Benda Pos | G50: 260000 | J50: =G50/G56*100 -> 0.31757781 | K50: 100 | L50: =N50/G50*100 -> 95.002308 | M50: =J50*K50/100 -> 0.31757781 | N50: 247006 | O50: =J50*L50/100 -> 0.30170625 | P50: =G50-N50 -> 12994
A51: 5 | B51: Belanja Makan dan Minum Rapat | G51: 1200000 | J51: =G51/G56*100 -> 1.4657437 | K51: =N50:N51/G51*100 -> 100 | L51: =N51/G51*100 -> 100 | M51: =J51*K51/100 -> 1.4657437 | N51: 1200000 | O51: =J51*L51/100 -> 1.4657437 | P51: =G51-N51 -> 0
B52: Belanja Makan dan Minum Aktifitas Lapangan | G52: 9300000 | J52: =G52/G56*100 -> 11.359514 | K52: 100 | L52: =N52/G52*100 -> 80.322581 | M52: =J52*K52/100 -> 11.359514 | N52: 7470000 | O52: =J52*L52/100 -> 9.1242548 | P52: =G52-N52 -> 1830000
A53: 6 | B53: Belanja jasa Tenaga Administasi | G53: 3600000 | J53: =G53/G56*100 -> 4.3972312 | K53: =N52:N53/G53*100 -> 100 | L53: =N53/G53*100 -> 100 | M53: =J53*K53/100 -> 4.3972312 | N53: 3600000 | O53: =J53*L53/100 -> 4.3972312 | P53: =G53-N53 -> 0
A54: 7 | B54: Belanja Perjalanan Dinas Dalam Negeri | G54: 63569000 | J54: =G54/G56*100 -> 77.646553 | K54: 100 | L54: =N54/G54*100 -> 99.664459 | M54: =J54*K54/100 -> 77.646553 | N54: 63355700 | O54: =J54*L54/100 -> 77.386017 | P54: =G54-N54 -> 213300
J55: =G55/G56*100 -> 0 | M55: =J55*K55/100 -> 0 | O55: =J55*L55/100 -> 0 | P55: =G55-N55 -> 0
A56: TOTAL | G56: =SUM(G46:G55) -> 81869700 | J56: =SUM(J46:J55) -> 100 | K56: =SUM(K46:K54)/6 -> 150 | L56: =N56/G56*100 -> 96.850117 | M56: =SUM(M46:M54) -> 100 | N56: =SUM(N46:N54) -> 79290900 | O56: =SUM(O46:O55) -> 96.850117 | P56: =SUM(P46:P55) -> 2578800
L58: Benteng, 9 Desember 2025
L60: Pejabat Pelaksana Teknis Kegiatan
...

Sheet B' LIA
A1: REALISASI FISIK DAN KEUANGAN
A2: APBD KABUPATEN KEPULAUAN SELAYAR
A3: TAHUN ANGGARAN 2025
A4: SKPD | B4: : | C4: Badan Kepegawaian dan Pengembangan Sumber Daya Manusia
A5: Kegiatan | B5: : | C5: Penyedian Gaji dan Tunjangan ASN
A6: Belanja | B6: : | C6: Langsung
M7: ='B'' IDA'!M8 -> Keadaan Desember 2025
A8: No. Urt | B8: Uraian / Rincian Kegiatan / Target | E8: Lokasi | G8: Jumlah Dana ( Rp ) | H8: Nilai Kontrak ( Rp ) | I8: Nama Pelaksana | J8: Bobot ( % ) | K8: Realisasi Komunikatif ( % ) | M8: Realisasi Tertimbang ( % ) | P8: Sisa Dana (Rp )
E9: Desa / Kel | F9: Kec | K9: Fisik | L9: Keuangan | M9: Fisik | N9: Keuangan
N10: Rp. | O10: %
A11: 1 | B11: 2 | E11: 3 | F11: 4 | G11: 5 | H11: 6 | I11: 7 | J11: 8 | K11: 9 | L11: 10 | M11: 11 | N11: 12 | O11: 13 | P11: 14
A13: 1 | B13: Belanja Gaji pokok PNS | G13: 2070000000 | J13: =G13/G32*100 -> 54.002949 | K13: 100 | L13: =N13/G13*100 -> 96.305693 | M13: =J13*K13/100 -> 54.002949 | N13: 1993527846 | O13: =J13*L13/100 -> 52.007914 | P13: =G13-N13 -> 76472154
A14: 2 | B14: Belanja Gaji pokok PPPK | G14: 180000000 | J14: =G14/G32*100 -> 4.6959086 | K14: 100 | L14: =N14/G14*100 -> 93.981276 | M14: =J14*K14/100 -> 4.6959086 | N14: 169166296 | O14: =J14*L14/100 -> 4.4132748 | P14: =G14-N14 -> 10833704
A15: 3 | B15: Belanja Tunjangan keluarga PNS | G15: 152000000 | J15: =G15/G32*100 -> 3.9654339 | K15: 100 | L15: =N15/G15*100 -> 94.200297 | M15: =J15*K15/100 -> 3.9654339 | N15: 143184452 | O15: =J15*L15/100 -> 3.7354506 | P15: =G15-N15 -> 8815548
A16: 4 | B16: Belanja Tunjangan keluarga PPPK | G16: 9000000 | J16: =G16/G32*100 -> 0.23479543 | K16: 100 | L16: =N16/G16*100 -> 0 | M16: =J16*K16/100 -> 0.23479543 | O16: =J16*L16/100 -> 0 | P16: =G16-N16 -> 9000000
A17: 5 | B17: Belanja Tunjangan Jabatan PNS | G17: 100000000 | J17: =G17/G32*100 -> 2.6088381 | K17: 100 | L17: =N17/G17*100 -> 91.155 | M17: =J17*K17/100 -> 2.6088381 | N17: 91155000 | O17: =J17*L17/100 -> 2.3780864 | P17: =G17-N17 -> 8845000
A18: 6 | B18: Belanja Tunjangan Fungsional PNS | G18: 170000000 | J18: =G18/G32*100 -> 4.4350248 | K18: 100 | L18: =N18/G18*100 -> 98.4 | M18: =J18*K18/100 -> 4.4350248 | N18: 167280000 | O18: =J18*L18/100 -> 4.3640644 | P18: =G18-N18 -> 2720000
A19: 7 | B19: Belanja Tunjangan Funsional Umum PNS | G19: 50000000 | J19: =G19/G32*100 -> 1.3044191 | K19: 100 | L19: =N19/G19*100 -> 86.46 | M19: =J19*K19/100 -> 1.3044191 | N19: 43230000 | O19: =J19*L19/100 -> 1.1278007 | P19: =G19-N19 -> 6770000
A20: 8 | B20: Belanja Tunjangan Funsional Umum PPPK | G20: 15000000 | J20: =G20/G32*100 -> 0.39132572 | K20: 100 | L20: =N20/G20*100 -> 68.29166 | M20: =J20*K20/100 -> 0.39132572 | N20: 10243749 | O20: =J20*L20/100 -> 0.26724283 | P20: =G20-N20 -> 4756251
A21: 9 | B21: Belanja Tunjangan Beras ASN DAN PPPK | G21: 106000000 | J21: =G21/G32*100 -> 2.7653684 | K21: 100 | L21: =N21/G21*100 -> 93.787316 | M21: =J21*K21/100 -> 2.7653684 | N21: 99414555 | O21: =J21*L21/100 -> 2.5935648 | P21: =G21-N21 -> 6585445
A22: 11 | B22: Belanja TunjanganPPh/Tunjangan Khusus ASN | G22: 15300000 | J22: =G22/G32*100 -> 0.39915223 | K22: 100 | L22: =N22/G22*100 -> 83.541196 | M22: =J22*K22/100 -> 0.39915223 | N22: 12781803 | O22: =J22*L22/100 -> 0.33345655 | P22: =G22-N22 -> 2518197
A23: 12 | B23: Belanja Pembulatan Gaji PNS DAN PPPK | G23: 200000 | J23: =G23/G32*100 -> 0.0052176762 | K23: 100 | L23: =N23/G23*100 -> 16.3395 | M23: =J23*K23/100 -> 0.0052176762 | N23: 32679 | O23: =J23*L23/100 -> 0.00085254221 | P23: =G23-N23 -> 167321
A24: 14 | B24: Belanja iuran Jaminan Kesehatan PNS | G24: 130000000 | J24: =G24/G32*100 -> 3.3914896 | K24: 100 | L24: =N24/G24*100 -> 87.525966 | M24: =J24*K24/100 -> 3.3914896 | N24: 113783756 | O24: =J24*L24/100 -> 2.968434 | P24: =G24-N24 -> 16216244
A25: 15 | B25: Belanja Iuran Jaminan Kesehatan PPPK | G25: 9500000 | J25: =G25/G32*100 -> 0.24783962 | K25: 100 | L25: =N25/G25*100 -> 67.229726 | M25: =J25*K25/100 -> 0.24783962 | N25: 6386824 | O25: =J25*L25/100 -> 0.1666219 | P25: =G25-N25 -> 3113176
A26: 16 | B26: Belanja iuran Jaminan kecelakaan PNS dan PPPK | G26: 8700000 | J26: =G26/G32*100 -> 0.22696892 | K26: 100 | L26: =N26/G26*100 -> 51.140621 | M26: =J26*K26/100 -> 0.22696892 | N26: 4449234 | O26: =J26*L26/100 -> 0.11607331 | P26: =G26-N26 -> 4250766
A27: 17 | B27: Belanja Iuran Jaminan Kematian PNS dan PPPK | G27: 17000000 | J27: =G27/G32*100 -> 0.44350248 | K27: 100 | L27: =N27/G27*100 -> 78.515876 | M27: =J27*K27/100 -> 0.44350248 | N27: 13347699 | O27: =J27*L27/100 -> 0.34821986 | P27: =G27-N27 -> 3652301
A28: 18 | B28: Belanja Iuran Simpanan Peserta Tabungan Perumahan Rakyat PNS | J28: =G28/G32*100 -> 0 | P28: =G28-N28 -> 0
A29: 19 | B29: Tambahan Penghasilan Berdasarkan Beban kerja PNS | G29: 800424000 | J29: =G29/G32*100 -> 20.881766 | K29: 100 | L29: =N29/G29*100 -> 94.626042 | M29: =J29*K29/100 -> 20.881766 | N29: 757409553 | O29: =J29*L29/100 -> 19.759589 | P29: =G29-N29 -> 43014447
O30: =J30*L30/100 -> 0 | P30: =G30-N30 -> 0
A32: TOTAL | G32: =SUM(G13:G30) -> 3833124000 | J32: =SUM(J13:J31) -> 100 | K32: =SUM(K13:K13)/4 -> 25 | L32: =N32/G32*100 -> 94.580646 | M32: =SUM(M13:M29) -> 100 | N32: =SUM(N13:N30) -> 3625393446 | O32: =SUM(O13:O30) -> 94.580646 | P32: =SUM(P13:P30) -> 207730554
L34: ='B'' IDA'!L28 -> Benteng, 31 Desember 2025
L36: Pejabat Pelaksana Teknis Kegiatan
L39: ANDI NURWALIYAH,SE
L40: NIP. 197601022005022005
A43: Kegiatan | B43: : | C43: Penyediaan Administrasi Pelaksanaan Tugas ASN
A44: Belanja | B44: : | C44: Langsung
M45: ='B'' IDA'!M8 -> Keadaan Desember 2025
A46: No. Urt | B46: Uraian / Rincian Kegiatan / Target | E46: Lokasi | G46: Jumlah Dana ( Rp ) | H46: Nilai Kontrak ( Rp ) | I46: Nama Pelaksana | J46: Bobot ( % ) | K46: Realisasi Komunikatif ( % ) | M46: Realisasi Tertimbang ( % ) | P46: Sisa Dana (Rp )
E47: Desa / Kel | F47: Kec | K47: Fisik | L47: Keuangan | M47: Fisik | N47: Keuangan
N48: Rp. | O48: %
...

Sheet B' IDA
A1: REALISASI FISIK DAN KEUANGAN
A2: APBD KABUPATEN KEPULAUAN SELAYAR
A3: TAHUN ANGGARAN 2025
A5: SKPD | B5: : | C5: Badan Kepegawaian dan Pengembangan Sumber Daya Manusia
A6: Kegiatan | B6: : | C6: Penatausahaan Barang Milik Daerah pada SKPD
A7: Belanja | B7: : | C7: Langsung
M8: Keadaan Desember 2025
A9: No. Urt | B9: Uraian / Rincian Kegiatan / Target | E9: Lokasi | G9: Jumlah Dana (Rp) | H9: Nilai Kontrak ( Rp ) | I9: Nama Pelaksana | J9: Bobot ( % ) | K9: Realisasi Komunikatif ( % ) | M9: Realisasi Tertimbang ( % ) | P9: Sisa Dana (Rp )
E10: Desa / Kel | F10: Kec | K10: Fisik | L10: Keuangan | M10: Fisik | N10: Keuangan
N11: Rp. | O11: %
A12: 1 | B12: 2 | E12: 3 | F12: 4 | G12: 5 | H12: 6 | I12: 7 | J12: 8 | K12: 9 | L12: 10 | M12: 11 | N12: 12 | O12: 13 | P12: 14
A14: 1 | B14: Belanja Alat/Bahan Untuk Kegiatan Kantor-Alat Tulis Kantor | G14: 697700 | J14: =G14/G25*100 -> 6.4472906 | K14: 100 | L14: =N14/G14*100 -> 92.314605 | M14: =J14*K14/100 -> 6.4472906 | N14: 644079 | O14: =J14*L14/100 -> 5.9517909 | P14: =G14-N14 -> 53621
A15: 2 | B15: Belanja alat bahan untuk kegiatan kantor -kertas dan Cover | G15: 384500 | J15: =G15/G25*100 -> 3.553079 | K15: 100 | L15: =N15/G15*100 -> 90.689207 | M15: =J15*K15/100 -> 3.553079 | N15: 348700 | O15: =J15*L15/100 -> 3.2222592 | P15: =G15-N15 -> 35800
A16: 3 | B16: Belanja Alat /Bahan Untuk Kegiatan Kantor- Bahan Cetak | G16: 999500 | J16: =G16/G25*100 -> 9.2361573 | K16: 100 | L16: =N16/G16*100 -> 69.929965 | M16: =J16*K16/100 -> 9.2361573 | N16: 698950 | O16: =J16*L16/100 -> 6.4588416 | P16: =G16-N16 -> 300550
A17: 4 | B17: Belanja Alat /bahan Untuk Kegiatan Kantor- Bahan komputer | G17: 1539900 | J17: =G17/G25*100 -> 14.229874 | K17: 100 | L17: =N17/G17*100 -> 93.551529 | M17: =J17*K17/100 -> 14.229874 | N17: 1440600 | O17: =J17*L17/100 -> 13.312264 | P17: =G17-N17 -> 99300
A18: 5 | B18: Belanja Jasa Tenaga Administrasi | G18: 7200000 | J18: =G18/G25*100 -> 66.533599 | K18: =N18/G18*100 -> 100 | L18: =N18/G18*100 -> 100 | M18: =J18*K18/100 -> 66.533599 | N18: 7200000 | O18: =J18*L18/100 -> 66.533599 | P18: =G18-N18 -> 0
A25: TOTAL | G25: =SUM(G14:G24) -> 10821600 | J25: =SUM(J14:J24) -> 100 | K25: =SUM(K14:K24)/3 -> 166.66667 | L25: =N25/G25*100 -> 95.478755 | M25: =SUM(M14:M24) -> 100 | N25: =SUM(N14:N18) -> 10332329 | O25: =SUM(O14:O24) -> 95.478755 | P25: =SUM(P14:P24) -> 489271
L28: Benteng, 31 Desember 2025
L30: Pejabat Pelaksana Teknis Kegiatan
L34: NURWAHIDA, S.Sos
L35: NIP. 19761231 200701 2 040
A37: Kegiatan | B37: : | C37: Pendataan dan Pengolahan Administrasi Kepegawaian
A38: Belanja | B38: : | C38: Langsung
M39: Keadaan Desember 2025
A40: No. Urt | B40: Uraian / Rincian Kegiatan / Target | E40: Lokasi | G40: Jumlah Dana (Rp) | H40: Nilai Kontrak ( Rp ) | I40: Nama Pelaksana | J40: Bobot ( % ) | K40: Realisasi Komunikatif ( % ) | M40: Realisasi Tertimbang ( % ) | P40: Sisa Dana (Rp )
E41: Desa / Kel | F41: Kec | K41: Fisik | L41: Keuangan | M41: Fisik | N41: Keuangan
N42: Rp. | O42: %
A43: 1 | B43: 2 | E43: 3 | F43: 4 | G43: 5 | H43: 6 | I43: 7 | J43: 8 | K43: 9 | L43: 10 | M43: 11 | N43: 12 | O43: 13 | P43: 14
A45: 1 | B45: Belanja Alat/Bahan Untuk Kegiatan Kantor-Alat Tulis Kantor | G45: 725100 | J45: =G45/G53*100 -> 8.6115367 | K45: 100 | L45: =N45/G45*100 -> 84.710109 | M45: =J45*K45/100 -> 8.6115367 | N45: 614233 | O45: =J45*L45/100 -> 7.2948421 | P45: =G45-N45 -> 110867
A46: 2 | B46: Belanja alat bahan untuk kegiatan kantor -kertas dan Cover | G46: 802000 | J46: =G46/G53*100 -> 9.5248275 | K46: 100 | L46: =N46/G46*100 -> 73.630923 | M46: =J46*K46/100 -> 9.5248275 | N46: 590520 | O46: =J46*L46/100 -> 7.0132184 | P46: =G46-N46 -> 211480
A47: 3 | B47: Belanja Alat /Bahan Untuk Kegiatan Kantor- Bahan Cetak | G47: 1456700 | J47: =G47/G53*100 -> 17.30027 | K47: 100 | L47: =N47/G47*100 -> 72.676186 | M47: =J47*K47/100 -> 17.30027 | N47: 1058674 | O47: =J47*L47/100 -> 12.573176 | P47: =G47-N47 -> 398026
A48: 4 | B48: Belanja Alat /bahan Untuk Kegiatan Kantor- Bahan komputer | G48: 1836300 | J48: =G48/G53*100 -> 21.80853 | K48: 100 | L48: =N48/G48*100 -> 42.434243 | M48: =J48*K48/100 -> 21.80853 | N48: 779220 | O48: =J48*L48/100 -> 9.2542844 | P48: =G48-N48 -> 1057080
A49: 5 | B49: Belanja Jasa Tenaga Administrasi | G49: 3600000 | J49: =G49/G53*100 -> 42.754837 | K49: =N49/G49*100 -> 100 | L49: =N49/G49*100 -> 100 | M49: =J49*K49/100 -> 42.754837 | N49: 3600000 | O49: =J49*L49/100 -> 42.754837 | P49: =G49-N49 -> 0
A53: TOTAL | G53: =SUM(G45:G52) -> 8420100 | J53: =SUM(J45:J52) -> 100 | K53: =SUM(K45:K52)/3 -> 166.66667 | L53: =N53/G53*100 -> 78.890358 | M53: =SUM(M45:M52) -> 100 | N53: =SUM(N45:N49) -> 6642647 | O53: =SUM(O45:O52) -> 78.890358 | P53: =SUM(P45:P52) -> 1777453
L56: Benteng, 31 Desember 2025
L58: Pejabat Pelaksana Teknis Kegiatan
L62: NURWAHIDA, S.Sos
L63: NIP. 19761231 200701 2 040
A68: Kegiatan | B68: : | C68: Penyediaan Komponen Instalasi Listrik /Penerangan Bangunan Kantor
A69: Belanja | B69: : | C69: Langsung
...

Sheet B Nini
A1: REALISASI FISIK DAN KEUANGAN
A2: APBD KABUPATEN KEPULAUAN SELAYAR
A3: TAHUN ANGGARAN 2025
A5: SKPD | B5: : | C5: Badan Kepegawaian dan Pengembangan Sumber Daya Manusia
A6: Kegiatan | B6: : | C6: Penyusunan Dokumen Perencanaan Perangkat Daerah
A7: Belanja | B7: : | C7: Langsung
M8: ='B'' IDA'!M8 -> Keadaan Desember 2025
A9: No. Urt | B9: Uraian / Rincian Kegiatan / Target | E9: Lokasi | G9: Jumlah Dana ( Rp ) | H9: Nilai Kontrak ( Rp ) | I9: Nama Pelaksana | J9: Bobot ( % ) | K9: Realisasi Komunikatif ( % ) | M9: Realisasi Tertimbang ( % ) | P9: Sisa Dana (Rp )
E10: Desa / Kel | F10: Kec | K10: Fisik | L10: Keuangan | M10: Fisik | N10: Keuangan
N11: Rp. | O11: %
A12: 1 | B12: 2 | E12: 3 | F12: 4 | G12: 5 | H12: 6 | I12: 7 | J12: 8 | K12: 9 | L12: 10 | M12: 11 | N12: 12 | O12: 13 | P12: 14
A14: 1 | B14: Belanja Alat dan bahan Untuk Kegiatan Kantor- ATK | G14: 1379200 | J14: =G14/G21*100 -> 11.179923 | K14: 100 | L14: 89.1 | M14: =J14*K14/100 -> 11.179923 | N14: 1228908 | O14: =J14*K14/100 -> 11.179923 | P14: =G14-N14 -> 150292
A15: 2 | B15: Belanja Alat/bahan Untuk kegiatan Kantor -Bahan cetak | G15: 2228900 | J15: =G15/G21*100 -> 18.06767 | K15: 100 | L15: 98.64 | M15: =J15*K15/100 -> 18.06767 | N15: 2198610 | O15: =J15*K15/100 -> 18.06767 | P15: =G15-N15 -> 30290
A16: 3 | B16: Belanja Alat dan bahan Untuk Kegiatan Kantor- kertas dan cover | G16: 878300 | J16: =G16/G21*100 -> 7.1195811 | K16: 100 | L16: 92.05 | M16: =J16*K16/100 -> 7.1195811 | N16: 808500 | O16: =J16*K16/100 -> 7.1195811 | P16: =G16-N16 -> 69800
A17: 4 | B17: Belanja Alat/bahan Untuk kegiatan Kantor -Bahan komputer | G17: 1300000 | J17: =G17/G21*100 -> 10.53792 | K17: 100 | L17: 85.38 | M17: =J17*K17/100 -> 10.53792 | N17: 1110000 | O17: =J17*K17/100 -> 10.53792 | P17: =G17-N17 -> 190000
A18: 5 | B18: Belanja jasa Tenaga Administrasi | G18: 6550000 | J18: =G18/G21*100 -> 53.094906 | K18: =N18/G18*100 -> 100 | L18: =N18/G18*100 -> 100 | M18: =J18*K18/100 -> 53.094906 | N18: 6550000 | O18: =J18*K18/100 -> 53.094906 | P18: =G18-N18 -> 0
M19: =J19*K19/100 -> 0 | O19: =J19*K19/100 -> 0
A21: TOTAL | G21: =SUM(G14:G20) -> 12336400 | J21: =SUM(J14:J20) -> 100 | K21: =SUM(K14:K15)/2 -> 100 | L21: =N21/G21*100 -> 96.430223 | M21: =SUM(M14:M19) -> 100 | N21: =SUM(N14:N18) -> 11896018 | O21: =SUM(O14:O20) -> 100 | P21: =SUM(P14:P18) -> 440382
L23: ='B'' IDA'!L87 -> Benteng, 31 Desember 2025
L24: Pejabat Pelaksana Teknis Kegiatan
L28: NUR SURYA NINGRAT, SE
L29: NIP. 19770815 201410 2 001
A32: Kegiatan | B32: : | C32: Evaluasi Kinerja Perangkat Daerah | J32: ='B Nini'!N182 -> 0
A33: Belanja | B33: : | C33: Langsung
M34: ='B'' IDA'!M8 -> Keadaan Desember 2025
A35: No. Urt | B35: Uraian / Rincian Kegiatan / Target | E35: Lokasi | G35: Jumlah Dana ( Rp ) | H35: Nilai Kontrak ( Rp ) | I35: Nama Pelaksana | J35: Bobot ( % ) | K35: Realisasi Komunikatif ( % ) | M35: Realisasi Tertimbang ( % ) | P35: Sisa Dana (Rp )
E36: Desa / Kel | F36: Kec | K36: Fisik | L36: Keuangan | M36: Fisik | N36: Keuangan
N37: Rp. | O37: %
A38: 1 | B38: 2 | E38: 3 | F38: 4 | G38: 5 | H38: 6 | I38: 7 | J38: 8 | K38: 9 | L38: 10 | M38: 11 | N38: 12 | O38: 13 | P38: 14
A40: 1 | B40: Belanja Alat dan bahan Untuk Kegiatan Kantor- ATK | G40: 257400 | J40: =G40/G47*100 -> 7.3844565 | K40: 100 | L40: =N40/G40*100 -> 87.773504 | M40: =J40*K40/100 -> 7.3844565 | N40: 225929 | O40: =J40*L40/100 -> 6.4815962 | P40: =G40-N40 -> 31471
A41: 2 | B41: Belanja Alat/bahan Untuk kegiatan Kantor -Bahan cetak | G41: 819900 | J41: =G41/G47*100 -> 23.521818 | K41: 100 | L41: =N41/G41*100 -> 95.665081 | M41: =J41*K41/100 -> 23.521818 | N41: 784358 | O41: =J41*L41/100 -> 22.502166 | P41: =G41-N41 -> 35542
A42: 3 | B42: Belanja Alat dan bahan Untuk Kegiatan Kantor- kertas dan cover | G42: 557500 | J42: =G42/G47*100 -> 15.993918 | K42: 100 | L42: =N42/G42*100 -> 92.035874 | M42: =J42*K42/100 -> 15.993918 | N42: 513100 | O42: =J42*L42/100 -> 14.720142 | P42: =G42-N42 -> 44400
A43: 4 | B43: Belanja Alat/bahan Untuk kegiatan Kantor -Bahan komputer | G43: 1850900 | J43: =G43/G47*100 -> 53.099808 | K43: 100 | L43: =N43/G43*100 -> 90.118861 | M43: =J43*K43/100 -> 53.099808 | N43: 1668010 | O43: =J43*L43/100 -> 47.852942 | P43: =G43-N43 -> 182890
A47: TOTAL | G47: =G40+G41+G42+G43 -> 3485700 | J47: =SUM(J40:J46) -> 100 | K47: =SUM(K40:K42)/3 -> 100 | L47: =N47/G47*100 -> 91.556847 | M47: =SUM(M40:M46) -> 100 | N47: =N40+N41+N42+N43 -> 3191397 | O47: =SUM(O40:O46) -> 91.556847 | P47: =SUM(P40:P45) -> 294303
L50: =L23 -> Benteng, 31 Desember 2025
L51: Pejabat Pelaksana Teknis Kegiatan
L55: =L28 -> NUR SURYA NINGRAT, SE
L56: =L29 -> NIP. 19770815 201410 2 001
A68: Kegiatan | B68: : | C68: Koordinasi dan Penyusunan Dokumen RKA-SKPD
A69: Belanja | B69: : | C69: Langsung
...

Sheet Sheet1
A1: DANA SERAPAN DAN REALISASI BELANJA LANGSUNG
A2: APBD KABUPATEN KEPULAUAN SELAYAR
A3: TAHUN ANGGARAN 2025
A4: SKPD : Badan Kepegawaian Dan Pengembangan Sumber Daya Manusia
A5: Belanja : Langsung | L5: ='B'' IDA'!M8 -> Keadaan Desember 2025
A7: No. Urt | B7: PROGRAM | C7: Jumlah Kegiatan / Nama Kegiatan | E7: Jumlah Dana ( Rp ) | F7: Bobot ( % ) | G7: Realisasi Komulatif (%) | I7: Realisasi Tertimbang (%) | L7: Sisa Dana (Rp ) | M7: Masalah Yang dihadapi | N7: Pemecahan Masalah | O7: Saran Tindak Lanjut
G9: Fisik | H9: Keu | I9: Fisik | J9: Keuangan | K9: %
A11: 1 | B11: 2 | C11: 3 | E11: 4 | F11: 5 | G11: 6 | H11: 7 | I11: 8 | J11: 9 | K11: 10 | L11: 11 | M11: 12 | N11: 13 | O11: 14
E12: =E13+E41+E56 -> 5706403500 | F12: =F13+F56+F41 -> 100
A13: 1 | D13: Jumlah 14 Keg | E13: =SUM(E14:E39) -> 4578056500 | F13: =SUM(F14:F39) -> 80.226652 | I13: =SUM(I14:I39) -> 80.226652 | J13: =SUM(J14:J39) -> 4346300568 | K13: =SUM(K14:K39) -> 76.172962 | L13: =E13-J13 -> 231755932
B14: PENUNJANG URUSAN PEMERINTAH DAERAH DAN KABUPATEN | C14: 1 | D14: ='B'' IDA'!C6 -> Penatausahaan Barang Milik Daerah pada SKPD | E14: ='B'' IDA'!G25 -> 10821600 | F14: =E14/E12*100 -> 0.18963959 | G14: ='B'' IDA'!M25 -> 100 | H14: =J14/E14*100 -> 95.478755 | I14: =F14*G14/100 -> 0.18963959 | J14: ='B'' IDA'!N25 -> 10332329 | K14: =F14*H14/100 -> 0.18106552 | L14: =E14-J14 -> 489271
C15: 2 | D15: ='B'' IDA'!C37 -> Pendataan dan Pengolahan Administrasi Kepegawaian | E15: ='B'' IDA'!G53 -> 8420100 | F15: =E15/E12*100 -> 0.14755529 | G15: ='B'' IDA'!M53 -> 100 | H15: =J15/E15*100 -> 78.890358 | I15: =F15*G15/100 -> 0.14755529 | J15: ='B'' IDA'!N53 -> 6642647 | K15: =F15*H15/100 -> 0.11640689 | L15: =E15-J15 -> 1777453
C16: 3 | D16: ='B'' IDA'!C68 -> Penyediaan Komponen Instalasi Listrik /Penerangan Bangunan Kantor | E16: ='B'' IDA'!G84 -> 6238400 | F16: =E16/E12*100 -> 0.1093228 | G16: ='B'' IDA'!M84 -> 100 | H16: =J16/E16*100 -> 96.273051 | I16: =F16*G16/100 -> 0.1093228 | J16: ='B'' IDA'!N84 -> 6005898 | K16: =F16*H16/100 -> 0.10524839 | L16: =E16-J16 -> 232502
C17: 4 | D17: ='B'' IDA'!C99 -> Penyediaan Barang Cetakan dan Penggandaan | E17: ='B'' IDA'!G115 -> 9334600 | F17: =E17/E12*100 -> 0.16358114 | G17: ='B'' IDA'!M115 -> 100 | H17: =J17/E17*100 -> 88.053093 | I17: =F17*G17/100 -> 0.16358114 | J17: ='B'' IDA'!N115 -> 8219404 | K17: =F17*H17/100 -> 0.14403825 | L17: =E17-J17 -> 1115196
C18: 5 | D18: ='B'' IDA'!C135 -> Penyediaan Bahan Bacaan dan Peraturan Perundang- undangan | E18: ='B'' IDA'!G151 -> 2380000 | F18: =E18/E12*100 -> 0.041707531 | G18: ='B'' IDA'!M151 -> 100 | H18: =J18/E18*100 -> 100 | I18: =F18*G18/100 -> 0.041707531 | J18: ='B'' IDA'!N151 -> 2380000 | K18: =F18*H18/100 -> 0.041707531 | L18: =E18-J18 -> 0
C19: 6 | D19: ='B'' IDA'!C172 -> Penyediaan Jasa Peralatan dan Perlengkapan Kantor | E19: ='B'' IDA'!G183 -> 4350000 | F19: =E19/E12*100 -> 0.076230151 | G19: ='B'' IDA'!M183 -> 100 | H19: =J19/E19*100 -> 99.425287 | I19: =F19*G19/100 -> 0.076230151 | J19: ='B'' IDA'!N183 -> 4325000 | K19: =F19*H19/100 -> 0.075792047 | L19: =E19-J19 -> 25000
C20: 7 | D20: ='B'' IDA'!C209 -> Penyelenggaraan Rapat Koordinasi dan Konsultasi SKPD | E20: ='B'' IDA'!G223 -> 153794000 | F20: =E20/E12*100 -> 2.6951126 | G20: ='B'' IDA'!M223 -> 100 | H20: =J20/E20*100 -> 99.993329 | I20: =F20*G20/100 -> 2.6951126 | J20: ='B'' IDA'!N223 -> 153783740 | K20: =F20*H20/100 -> 2.6949328 | L20: =E20-J20 -> 10260
C21: 8 | D21: ='B'' IDA'!C241 -> Penyediaan Jasa Surat Menyurat | E21: ='B'' IDA'!G256 -> 13679200 | F21: =E21/E12*100 -> 0.23971666 | G21: ='B'' IDA'!M256 -> 100 | H21: =J21/E21*100 -> 84.714362 | I21: =F21*G21/100 -> 0.23971666 | J21: ='B'' IDA'!N256 -> 11588247 | K21: 0.23 | L21: =E21-J21 -> 2090953
C22: 9 | D22: ='B'' IDA'!C274 -> Penyediaan Jasa Komunikasi Sumber Daya Air dan Listrik | E22: ='B'' IDA'!G290 -> 78353450 | F22: =E22/E12*100 -> 1.3730794 | G22: ='B'' IDA'!M290 -> 100 | H22: =J22/E22*100 -> 88.770607 | I22: =F22*G22/100 -> 1.3730794 | J22: ='B'' IDA'!N290 -> 69554833 | K22: =F22*H22/100 -> 1.2188909 | L22: =E22-J22 -> 8798617
C23: 10 | D23: ='B'' IDA'!C310 -> Penyediaan Jasa Pemeliharaan ,Biaya Pemeliharaan ,Pajak dan Perizinan Kendaraan Dinas | E23: ='B'' IDA'!G327 -> 95540000 | F23: =E23/E12*100 -> 1.6742595 | G23: ='B'' IDA'!M327 -> 100 | H23: =J23/E23*100 -> 96.789457 | I23: =F23*G23/100 -> 1.6742595 | J23: ='B'' IDA'!N327 -> 92472647 | K23: =F23*H23/100 -> 1.6205066 | L23: =E23-J23 -> 3067353
C24: 11 | D24: Belanja Peralatan dan Perlengkapan Kantor | E24: ='B'' IDA'!G362 -> 92545000 | F24: =E24/E12*100 -> 1.6217746 | G24: ='B'' IDA'!M362 -> 100 | H24: ='B'' IDA'!O362 -> 98.806958 | I24: =F24*G24/100 -> 1.6217746 | J24: ='B'' IDA'!N362 -> 91440899 | K24: =F24*H24/100 -> 1.6024261 | L24: =E24-J24 -> 1104101
C25: 12 | D25: Dukungan Pelaksanaan Sistem Pemerintahan Berbasis Elektonik pada SKPD | E25: ='B'' IDA'!G395 -> 115000000 | F25: =E25/E12*100 -> 2.0152799 | G25: ='B'' IDA'!M395 -> 100 | H25: =J25/E25*100 -> 99.926087 | I25: =F25*G25/100 -> 2.0152799 | J25: ='B'' IDA'!N395 -> 114915000 | K25: =F25*H25/100 -> 2.0137903 | L25: =E25-J25 -> 85000
C26: 13 | D26: ='B'' IDA'!C420 -> Pemeliharaan /Rehabilitasi sarana dan Prasarana Gedung Kantor atau bangunan Lainnya | E26: 35150000 | F26: =E26/E12*100 -> 0.61597467 | G26: ='B'' IDA'!M435 -> 100 | H26: =J26/E26*100 -> 100 | I26: =F26*G26/100 -> 0.61597467 | J26: ='B'' IDA'!N435 -> 35150000 | K26: =F26*H26/100 -> 0.61597467 | L26: =E26-J26 -> 0
C27: 14 | D27: Penyediaan Jasa Pelayanan Umum Kantor | E27: ='B'' IDA'!G471 -> 9360000 | F27: =E27/E12*100 -> 0.16402626 | G27: ='B'' IDA'!M471 -> 100 | H27: =J27/E27*100 -> 100 | I27: =F27*G27/100 -> 0.16402626 | J27: ='B'' IDA'!N471 -> 9360000 | K27: =F27*H27/100 -> 0.16402626 | L27: =E27-J27 -> 0
C28: 15 | D28: ='B Nini'!C6 -> Penyusunan Dokumen Perencanaan Perangkat Daerah | E28: ='B Nini'!G21 -> 12336400 | F28: =E28/E12*100 -> 0.2161852 | G28: ='B Nini'!M21 -> 100 | H28: ='B Nini'!O21 -> 100 | I28: =F28*G28/100 -> 0.2161852 | J28: ='B Nini'!N21 -> 11896018 | K28: =F28*H28/100 -> 0.2161852 | L28: =E28-J28 -> 440382
C29: 16 | D29: ='B Nini'!C32 -> Evaluasi Kinerja Perangkat Daerah | E29: ='B Nini'!G47 -> 3485700 | F29: =E29/E12*100 -> 0.061084009 | G29: ='B Nini'!M47 -> 100 | H29: =J29/E29*100 -> 91.556847 | I29: =F29*G29/100 -> 0.061084009 | J29: ='B Nini'!N47 -> 3191397 | K29: =F29*H29/100 -> 0.055926592 | L29: =E29-J29 -> 294303
C30: 17 | D30: ='B Nini'!C68 -> Koordinasi dan Penyusunan Dokumen RKA-SKPD | E30: ='B Nini'!G83 -> 1509700 | F30: =E30/E12*100 -> 0.026456243 | G30: ='B Nini'!M83 -> 100 | H30: =J30/E30*100 -> 91.916937 | I30: =F30*G30/100 -> 0.026456243 | J30: ='B Nini'!N83 -> 1387670 | K30: =F30*H30/100 -> 0.024317769 | L30: =E30-J30 -> 122030
C31: 18 | D31: ='B Nini'!C98 -> Koordinasi dan Penyusunan Dokumen Perubahan RKA-SKPD | E31: ='B Nini'!G114 -> 1491000 | F31: =E31/E12*100 -> 0.026128541 | G31: ='B Nini'!M114 -> 100 | H31: =J31/E31*100 -> 90.424883 | I31: =F31*G31/100 -> 0.026128541 | J31: ='B Nini'!N114 -> 1348235 | K31: =F31*H31/100 -> 0.023626703 | L31: =E31-J31 -> 142765
C32: 19 | D32: ='B Nini'!C132 -> Koordinasi dan Penyusunan Dokumen DPA-SKPD | E32: ='B Nini'!G147 -> 1861100 | F32: =E32/E12*100 -> 0.032614238 | G32: ='B Nini'!M147 -> 100 | H32: =J32/E32*100 -> 91.887217 | I32: =F32*G32/100 -> 0.032614238 | J32: ='B Nini'!N147 -> 1710113 | K32: =F32*H32/100 -> 0.029968315 | L32: =E32-J32 -> 150987
C33: 20 | D33: ='B Nini'!C166 -> Koordinasi dan Penyusunan Dokumen Perubahan DPA-SKPD | E33: ='B Nini'!G183 -> 1522300 | F33: =E33/E12*100 -> 0.026677048 | G33: ='B Nini'!M183 -> 100 | H33: =J33/E33*100 -> 88.568548 | I33: =F33*G33/100 -> 0.026677048 | J33: ='B Nini'!N183 -> 1348279 | K33: =F33*H33/100 -> 0.023627474 | L33: =E33-J33 -> 174021
C34: 21 | D34: ='B Nini'!C195 -> Koordinasi dan Penyusunan Laporan Capaian Kinerja dan Iktisar Realisasi Kerja SKPD | E34: ='B Nini'!G212 -> 3108200 | F34: =E34/E12*100 -> 0.054468633 | G34: ='B Nini'!M212 -> 100 | H34: =J34/E34*100 -> 92.76755 | I34: =F34*G34/100 -> 0.054468633 | J34: ='B Nini'!N212 -> 2883401 | K34: =F34*H34/100 -> 0.050529217 | L34: =E34-J34 -> 224799
C35: 22 | D35: ='B'' LIA'!C5 -> Penyedian Gaji dan Tunjangan ASN | E35: ='B'' LIA'!G32 -> 3833124000 | F35: =E35/E12*100 -> 67.172327 | G35: ='B'' LIA'!M32 -> 100 | H35: =J35/E35*100 -> 94.580646 | I35: =F35*G35/100 -> 67.172327 | J35: ='B'' LIA'!N32 -> 3625393446 | K35: 63.51 | L35: =E35-J35 -> 207730554
C36: 23 | D36: ='B'' LIA'!C43 -> Penyediaan Administrasi Pelaksanaan Tugas ASN | E36: ='B'' LIA'!G63 -> 61866600 | F36: =E36/E12*100 -> 1.084161 | G36: ='B'' LIA'!M63 -> 100 | H36: =J36/E36*100 -> 97.260397 | I36: =F36*G36/100 -> 1.084161 | J36: ='B'' LIA'!N63 -> 60171701 | K36: =F36*H36/100 -> 1.0544593 | L36: =E36-J36 -> 1694899
C37: 24 | D37: ='B'' LIA'!C84 -> Koordinasi dan Pelaksanaan Angkuntansi SKPD | E37: ='B'' LIA'!G98 -> 13414600 | F37: =E37/E12*100 -> 0.23507977 | G37: ='B'' LIA'!M98 -> 100 | H37: ='B'' LIA'!O98 -> 91.450479 | I37: =F37*G37/100 -> 0.23507977 | J37: ='B'' LIA'!N98 -> 12267716 | K37: 0.21 | L37: =E37-J37 -> 1146884
C38: 24 | D38: ='B'' LIA'!C124 -> Koordinasi dan Penyusunan Laporan Keuangan Akhir Tahun SKPD | E38: ='B'' LIA'!G138 -> 2501000 | F38: =E38/E12*100 -> 0.043827956 | G38: ='B'' LIA'!M138 -> 100 | H38: =J38/E38*100 -> 92.166733 | I38: =F38*G38/100 -> 0.043827956 | J38: ='B'' LIA'!N138 -> 2305090 | K38: =F38*H38/100 -> 0.040394795 | L38: =E38-J38 -> 195910
C39: 26 | D39: ='B'' LIA'!C164 -> Penyusunan Pelaporan dan Analisis Prognosis Realisasi Anggaran | E39: ='B'' LIA'!G181 -> 6869550 | F39: =E39/E12*100 -> 0.12038318 | G39: ='B'' LIA'!M181 -> 100 | H39: =J39/E39*100 -> 90.644336 | I39: =F39*G39/100 -> 0.12038318 | J39: ='B'' LIA'!N181 -> 6226858 | K39: =F39*H39/100 -> 0.10912053 | L39: =E39-J39 -> 642692
A41: 4 | B41: KEPEGAWAIAN DAERAH | D41: Jumlah 8 Keg | E41: =SUM(E42:E54) -> 520277500 | F41: =F42+F43+F44+F45+F46+F47+F48+F49+F50+F51+F52+F53+F54 -> 9.1174327 | G41: =SUM(G42:G44) -> 300 | H41: =SUM(H42:H44) -> 291.52371 | I41: =SUM(I42:I54) -> 9.1174327 | J41: =SUM(J42:J54) -> 505491540 | K41: =SUM(K42:K54) -> 8.858321 | L41: =SUM(L42:L54) -> 14785960
C42: 1 | D42: ='Pak Alex'!C6 -> Penyusunan Rencana Kebutuhan ,Jenis dan Jumlah Jabatan untuk Pelaksanaan Pengadaan ASN | E42: ='Pak Alex'!G22 -> 6596300 | F42: =E42/E12*100 -> 0.1155947 | G42: ='Pak Alex'!M22 -> 100 | H42: =J42/E42*100 -> 96.696497 | I42: =F42*G42/100 -> 0.1155947 | J42: ='Pak Alex'!N22 -> 6378391 | K42: =F42*H42/100 -> 0.11177602 | L42: =E42-J42 -> 217909
C43: 2 | D43: ='Pak Alex'!C38 -> Koordinasi dan Fasilitasi Pengadaan PNS dan PPPK | E43: ='Pak Alex'!G56 -> 81869700 | F43: =E43/E12*100 -> 1.4346988 | G43: ='Pak Alex'!M56 -> 100 | H43: =J43/E43*100 -> 96.850117 | I43: =F43*G43/100 -> 1.4346988 | J43: ='Pak Alex'!N56 -> 79290900 | K43: =F43*H43/100 -> 1.3895074 | L43: =E43-J43 -> 2578800
C44: 3 | D44: ='Pak Alex'!C72 -> Evaluasi Pengadaan ASN dan Pengadaan ASN | E44: ='Pak Alex'!G89 -> 18975900 | F44: =E44/E12*100 -> 0.33253695 | G44: ='Pak Alex'!M89 -> 100 | H44: ='Pak Alex'!O89 -> 97.977092 | I44: =F44*G44/100 -> 0.33253695 | J44: ='Pak Alex'!N89 -> 18592035 | K44: =F44*H44/100 -> 0.32581003 | L44: =E44-J44 -> 383865
...

Sheet Sheet2

Sheet RFK II
A2: APBD KABUPATEN KEPULAUAN SELAYAR
A3: TAHUN ANGGARAN 2025
A4: SKPD : Badan Kepegawaian Dan Pengembangan Sumber Daya Manusia
A5: Belanja : Langsung | L5: ='B'' IDA'!M8 -> Keadaan Desember 2025
A7: No. Urt | B7: Nama PPTK | C7: Jumlah Kegiatan / Nama Kegiatan | E7: Jumlah Dana ( Rp ) | F7: Bobot ( % ) | G7: Realisasi Komulatif (%) | I7: Realisasi Tertimbang (%) | L7: Sisa Dana (Rp ) | M7: Masalah Yang dihadapi | N7: Pemecahan Masalah | O7: Saran Tindak Lanjut
G9: Fisik | H9: Keu | I9: Fisik | J9: Keuangan | K9: %
A11: 1 | B11: 2 | C11: 3 | E11: 4 | F11: 5 | G11: 6 | H11: 7 | I11: 8 | J11: 9 | K11: 10 | L11: 11 | M11: 12 | N11: 13 | O11: 14
A13: 1 | B13: ='B'' IDA'!L62 -> NURWAHIDA, S.Sos | D13: Jumlah 14 Keg | E13: =SUM(E14:E27) -> 634966350 | F13: =SUM(F14:F29) -> 11.12726 | I13: =SUM(I14:I29) -> 11.12726 | J13: =SUM(J14:J29) -> 616170644 | K13: =SUM(K14:K29) -> 10.824806 | L13: =SUM(L14:L29) -> 18795706
B14: ='B'' IDA'!L63 -> NIP. 19761231 200701 2 040 | C14: 1 | D14: ='B'' IDA'!C6 -> Penatausahaan Barang Milik Daerah pada SKPD | E14: ='B'' IDA'!G25 -> 10821600 | F14: =E14/E72*100 -> 0.18963959 | G14: ='B'' IDA'!M25 -> 100 | H14: =J14/E14*100 -> 95.478755 | I14: =F14*G14/100 -> 0.18963959 | J14: ='B'' IDA'!N25 -> 10332329 | K14: =F14*H14/100 -> 0.18106552 | L14: =E14-J14 -> 489271
C15: 2 | D15: ='B'' IDA'!C37 -> Pendataan dan Pengolahan Administrasi Kepegawaian | E15: ='B'' IDA'!G53 -> 8420100 | F15: =E15/E72*100 -> 0.14755529 | G15: ='B'' IDA'!M53 -> 100 | H15: =J15/E15*100 -> 78.890358 | I15: =F15*G15/100 -> 0.14755529 | J15: ='B'' IDA'!N53 -> 6642647 | K15: =F15*H15/100 -> 0.11640689 | L15: =E15-J15 -> 1777453
C16: 3 | D16: ='B'' IDA'!C68 -> Penyediaan Komponen Instalasi Listrik /Penerangan Bangunan Kantor | E16: ='B'' IDA'!G84 -> 6238400 | F16: =E16/E72*100 -> 0.1093228 | G16: ='B'' IDA'!M84 -> 100 | H16: =J16/E16*100 -> 96.273051 | I16: =F16*G16/100 -> 0.1093228 | J16: ='B'' IDA'!N84 -> 6005898 | K16: =F16*H16/100 -> 0.10524839 | L16: =E16-J16 -> 232502
C17: 4 | D17: ='B'' IDA'!C99 -> Penyediaan Barang Cetakan dan Penggandaan | E17: ='B'' IDA'!G115 -> 9334600 | F17: =E17/E72*100 -> 0.16358114 | G17: ='B'' IDA'!M115 -> 100 | H17: =J17/E17*100 -> 88.053093 | I17: =F17*G17/100 -> 0.16358114 | J17: ='B'' IDA'!N115 -> 8219404 | K17: =F17*H17/100 -> 0.14403825 | L17: =E17-J17 -> 1115196
C18: 5 | D18: ='B'' IDA'!C135 -> Penyediaan Bahan Bacaan dan Peraturan Perundang- undangan | E18: ='B'' IDA'!G151 -> 2380000 | F18: =E18/E72*100 -> 0.041707531 | G18: ='B'' IDA'!M151 -> 100 | H18: =J18/E18*100 -> 100 | I18: =F18*G18/100 -> 0.041707531 | J18: ='B'' IDA'!N151 -> 2380000 | K18: =F18*H18/100 -> 0.041707531 | L18: =E18-J18 -> 0
C19: 6 | D19: ='B'' IDA'!C172 -> Penyediaan Jasa Peralatan dan Perlengkapan Kantor | E19: ='B'' IDA'!G183 -> 4350000 | F19: =E19/E72*100 -> 0.076230151 | G19: ='B'' IDA'!M183 -> 100 | H19: =J19/E19*100 -> 99.425287 | I19: =F19*G19/100 -> 0.076230151 | J19: ='B'' IDA'!N183 -> 4325000 | K19: =F19*H19/100 -> 0.075792047 | L19: =E19-J19 -> 25000
C20: 7 | D20: ='B'' IDA'!C209 -> Penyelenggaraan Rapat Koordinasi dan Konsultasi SKPD | E20: ='B'' IDA'!G223 -> 153794000 | F20: =E20/E72*100 -> 2.6951126 | G20: ='B'' IDA'!M223 -> 100 | H20: =J20/E20*100 -> 99.993329 | I20: =F20*G20/100 -> 2.6951126 | J20: ='B'' IDA'!N223 -> 153783740 | K20: =F20*H20/100 -> 2.6949328 | L20: =E20-J20 -> 10260
C21: 8 | D21: ='B'' IDA'!C241 -> Penyediaan Jasa Surat Menyurat | E21: ='B'' IDA'!G256 -> 13679200 | F21: =E21/E72*100 -> 0.23971666 | G21: ='B'' IDA'!M256 -> 100 | H21: =J21/E21*100 -> 84.714362 | I21: =F21*G21/100 -> 0.23971666 | J21: ='B'' IDA'!N256 -> 11588247 | K21: 0.23 | L21: =E21-J21 -> 2090953
C22: 9 | D22: ='B'' IDA'!C274 -> Penyediaan Jasa Komunikasi Sumber Daya Air dan Listrik | E22: ='B'' IDA'!G290 -> 78353450 | F22: =E22/E72*100 -> 1.3730794 | G22: ='B'' IDA'!M290 -> 100 | H22: =J22/E22*100 -> 88.770607 | I22: =F22*G22/100 -> 1.3730794 | J22: ='B'' IDA'!N290 -> 69554833 | K22: =F22*H22/100 -> 1.2188909 | L22: =E22-J22 -> 8798617
C23: 10 | D23: ='B'' IDA'!C310 -> Penyediaan Jasa Pemeliharaan ,Biaya Pemeliharaan ,Pajak dan Perizinan Kendaraan Dinas | E23: ='B'' IDA'!G327 -> 95540000 | F23: =E23/E72*100 -> 1.6742595 | G23: ='B'' IDA'!M327 -> 100 | H23: =J23/E23*100 -> 96.789457 | I23: =F23*G23/100 -> 1.6742595 | J23: ='B'' IDA'!N327 -> 92472647 | K23: =F23*H23/100 -> 1.6205066 | L23: =E23-J23 -> 3067353
C24: 11 | D24: Belanja Peralatan dan Perlengkapan Kantor | E24: ='B'' IDA'!G362 -> 92545000 | F24: =E24/E72*100 -> 1.6217746 | G24: ='B'' IDA'!M362 -> 100 | H24: ='B'' IDA'!O362 -> 98.806958 | I24: =F24*G24/100 -> 1.6217746 | J24: ='B'' IDA'!N362 -> 91440899 | K24: =F24*H24/100 -> 1.6024261 | L24: =E24-J24 -> 1104101
C25: 12 | D25: Dukungan Pelaksanaan Sistem Pemerintahan Berbasis Elektonik pada SKPD | E25: ='B'' IDA'!G395 -> 115000000 | F25: =E25/E72*100 -> 2.0152799 | G25: ='B'' IDA'!M395 -> 100 | H25: =J25/E25*100 -> 99.926087 | I25: =F25*G25/100 -> 2.0152799 | J25: ='B'' IDA'!N395 -> 114915000 | K25: =F25*H25/100 -> 2.0137903 | L25: =E25-J25 -> 85000
C26: 13 | D26: ='B'' IDA'!C420 -> Pemeliharaan /Rehabilitasi sarana dan Prasarana Gedung Kantor atau bangunan Lainnya | E26: 35150000 | F26: =E26/E72*100 -> 0.61597467 | G26: ='B'' IDA'!M435 -> 100 | H26: =J26/E26*100 -> 100 | I26: =F26*G26/100 -> 0.61597467 | J26: ='B'' IDA'!N435 -> 35150000 | K26: =F26*H26/100 -> 0.61597467 | L26: =E26-J26 -> 0
C27: 14 | D27: Penyediaan Jasa Pelayanan Umum Kantor | E27: ='B'' IDA'!G471 -> 9360000 | F27: =E27/E72*100 -> 0.16402626 | G27: ='B'' IDA'!M471 -> 100 | H27: =J27/E27*100 -> 100 | I27: =F27*G27/100 -> 0.16402626 | J27: ='B'' IDA'!N471 -> 9360000 | K27: =F27*H27/100 -> 0.16402626 | L27: =E27-J27 -> 0
A31: 2 | B31: ='B Nini'!L55 -> NUR SURYA NINGRAT, SE | D31: Jumlah 7 Keg | E31: =SUM(E32:E38) -> 25314400 | F31: =SUM(F32:F38) -> 0.44361392 | G31: =SUM(G32:G33) -> 200 | H31: =SUM(H32:H33) -> 191.55685 | I31: =SUM(I32:I38) -> 0.44361392 | J31: =SUM(J32:J38) -> 23765113 | K31: =SUM(K32:K38) -> 0.42418127 | L31: =SUM(L32:L38) -> 1549287
B32: ='B Nini'!L56 -> NIP. 19770815 201410 2 001 | C32: 1 | D32: ='B Nini'!C6 -> Penyusunan Dokumen Perencanaan Perangkat Daerah | E32: ='B Nini'!G21 -> 12336400 | F32: =E32/E72*100 -> 0.2161852 | G32: ='B Nini'!M21 -> 100 | H32: ='B Nini'!O21 -> 100 | I32: =F32*G32/100 -> 0.2161852 | J32: ='B Nini'!N21 -> 11896018 | K32: =F32*H32/100 -> 0.2161852 | L32: =E32-J32 -> 440382
C33: 2 | D33: ='B Nini'!C32 -> Evaluasi Kinerja Perangkat Daerah | E33: ='B Nini'!G47 -> 3485700 | F33: =E33/E72*100 -> 0.061084009 | G33: ='B Nini'!M47 -> 100 | H33: =J33/E33*100 -> 91.556847 | I33: =F33*G33/100 -> 0.061084009 | J33: ='B Nini'!N47 -> 3191397 | K33: =F33*H33/100 -> 0.055926592 | L33: =E33-J33 -> 294303
C34: 3 | D34: ='B Nini'!C68 -> Koordinasi dan Penyusunan Dokumen RKA-SKPD | E34: ='B Nini'!G83 -> 1509700 | F34: =E34/E72*100 -> 0.026456243 | G34: ='B Nini'!M83 -> 100 | H34: =J34/E34*100 -> 91.916937 | I34: =F34*G34/100 -> 0.026456243 | J34: ='B Nini'!N83 -> 1387670 | K34: =F34*H34/100 -> 0.024317769 | L34: =E34-J34 -> 122030
C35: 4 | D35: ='B Nini'!C98 -> Koordinasi dan Penyusunan Dokumen Perubahan RKA-SKPD | E35: ='B Nini'!G114 -> 1491000 | F35: =E35/E72*100 -> 0.026128541 | G35: ='B Nini'!M114 -> 100 | H35: =J35/E35*100 -> 90.424883 | I35: =F35*G35/100 -> 0.026128541 | J35: ='B Nini'!N114 -> 1348235 | K35: =F35*H35/100 -> 0.023626703 | L35: =E35-J35 -> 142765
C36: 5 | D36: ='B Nini'!C132 -> Koordinasi dan Penyusunan Dokumen DPA-SKPD | E36: ='B Nini'!G147 -> 1861100 | F36: =E36/E72*100 -> 0.032614238 | G36: ='B Nini'!M147 -> 100 | H36: =J36/E36*100 -> 91.887217 | I36: =F36*G36/100 -> 0.032614238 | J36: ='B Nini'!N147 -> 1710113 | K36: =F36*H36/100 -> 0.029968315 | L36: =E36-J36 -> 150987
C37: 6 | D37: ='B Nini'!C166 -> Koordinasi dan Penyusunan Dokumen Perubahan DPA-SKPD | E37: ='B Nini'!G183 -> 1522300 | F37: =E37/E72*100 -> 0.026677048 | G37: ='B Nini'!M183 -> 100 | H37: =J37/E37*100 -> 88.568548 | I37: =F37*G37/100 -> 0.026677048 | J37: ='B Nini'!N183 -> 1348279 | K37: =F37*H37/100 -> 0.023627474 | L37: =E37-J37 -> 174021
C38: 7 | D38: ='B Nini'!C195 -> Koordinasi dan Penyusunan Laporan Capaian Kinerja dan Iktisar Realisasi Kerja SKPD | E38: ='B Nini'!G212 -> 3108200 | F38: =E38/E72*100 -> 0.054468633 | G38: ='B Nini'!M212 -> 100 | H38: =J38/E38*100 -> 92.76755 | I38: =F38*G38/100 -> 0.054468633 | J38: ='B Nini'!N212 -> 2883401 | K38: =F38*H38/100 -> 0.050529217 | L38: =E38-J38 -> 224799
A40: 3 | B40: ANDI NURWALIYAH,SE | D40: Jumlah 5 Keg | E40: =SUM(E41:E45) -> 3917775750 | F40: =SUM(F41:F45) -> 68.655779 | G40: =SUM(G41:G45) -> 500 | H40: =SUM(H41:H45) -> 466.10259 | I40: =SUM(I41:I45) -> 68.655779 | J40: =SUM(J41:J45) -> 3706364811 | K40: =SUM(K41:K45) -> 64.923975 | L40: =SUM(L41:L45) -> 211410939
B41: NIP.197602012005022005 | C41: 1 | D41: ='B'' LIA'!C5 -> Penyedian Gaji dan Tunjangan ASN | E41: ='B'' LIA'!G32 -> 3833124000 | F41: =E41/E72*100 -> 67.172327 | G41: ='B'' LIA'!M32 -> 100 | H41: =J41/E41*100 -> 94.580646 | I41: =F41*G41/100 -> 67.172327 | J41: ='B'' LIA'!N32 -> 3625393446 | K41: 63.51 | L41: =E41-J41 -> 207730554
C42: 2 | D42: ='B'' LIA'!C43 -> Penyediaan Administrasi Pelaksanaan Tugas ASN | E42: ='B'' LIA'!G63 -> 61866600 | F42: =E42/E72*100 -> 1.084161 | G42: ='B'' LIA'!M63 -> 100 | H42: =J42/E42*100 -> 97.260397 | I42: =F42*G42/100 -> 1.084161 | J42: ='B'' LIA'!N63 -> 60171701 | K42: =F42*H42/100 -> 1.0544593 | L42: =E42-J42 -> 1694899
C43: 3 | D43: ='B'' LIA'!C84 -> Koordinasi dan Pelaksanaan Angkuntansi SKPD | E43: ='B'' LIA'!G98 -> 13414600 | F43: =E43/E72*100 -> 0.23507977 | G43: ='B'' LIA'!M98 -> 100 | H43: ='B'' LIA'!O98 -> 91.450479 | I43: =F43*G43/100 -> 0.23507977 | J43: ='B'' LIA'!N98 -> 12267716 | K43: 0.21 | L43: =E43-J43 -> 1146884
C44: 4 | D44: ='B'' LIA'!C124 -> Koordinasi dan Penyusunan Laporan Keuangan Akhir Tahun SKPD | E44: ='B'' LIA'!G138 -> 2501000 | F44: =E44/E72*100 -> 0.043827956 | G44: ='B'' LIA'!M138 -> 100 | H44: =J44/E44*100 -> 92.166733 | I44: =F44*G44/100 -> 0.043827956 | J44: ='B'' LIA'!N138 -> 2305090 | K44: =F44*H44/100 -> 0.040394795 | L44: =E44-J44 -> 195910
C45: 5 | D45: ='B'' LIA'!C164 -> Penyusunan Pelaporan dan Analisis Prognosis Realisasi Anggaran | E45: ='B'' LIA'!G181 -> 6869550 | F45: =E45/E72*100 -> 0.12038318 | G45: ='B'' LIA'!M181 -> 100 | H45: =J45/E45*100 -> 90.644336 | I45: =F45*G45/100 -> 0.12038318 | J45: ='B'' LIA'!N181 -> 6226858 | K45: =F45*H45/100 -> 0.10912053 | L45: =E45-J45 -> 642692
A48: 4 | B48: ='Pak Alex'!L30 -> AHMAD ANSAR,S.Sos | D48: Jumlah 8 Keg | E48: =SUM(E49:E56) -> 183059100 | F48: =SUM(F49:F56) -> 3.2079593 | G48: =SUM(G49:G51) -> 300 | H48: =SUM(H49:H51) -> 291.52371 | I48: =SUM(I49:I56) -> 3.2079593 | J48: =SUM(J49:J56) -> 176769229 | K48: =SUM(K49:K56) -> 3.0977345 | L48: =SUM(L49:L56) -> 6289871
C49: 1 | D49: ='Pak Alex'!C6 -> Penyusunan Rencana Kebutuhan ,Jenis dan Jumlah Jabatan untuk Pelaksanaan Pengadaan ASN | E49: ='Pak Alex'!G22 -> 6596300 | F49: =E49/E72*100 -> 0.1155947 | G49: ='Pak Alex'!M22 -> 100 | H49: =J49/E49*100 -> 96.696497 | I49: =F49*G49/100 -> 0.1155947 | J49: ='Pak Alex'!N22 -> 6378391 | K49: =F49*H49/100 -> 0.11177602 | L49: =E49-J49 -> 217909
B50: ='Pak Alex'!L31 -> NIP. 197907312007011014 | C50: 2 | D50: ='Pak Alex'!C38 -> Koordinasi dan Fasilitasi Pengadaan PNS dan PPPK | E50: ='Pak Alex'!G56 -> 81869700 | F50: =E50/E72*100 -> 1.4346988 | G50: ='Pak Alex'!M56 -> 100 | H50: =J50/E50*100 -> 96.850117 | I50: =F50*G50/100 -> 1.4346988 | J50: ='Pak Alex'!N56 -> 79290900 | K50: =F50*H50/100 -> 1.3895074 | L50: =E50-J50 -> 2578800
C51: 3 | D51: ='Pak Alex'!C72 -> Evaluasi Pengadaan ASN dan Pengadaan ASN | E51: ='Pak Alex'!G89 -> 18975900 | F51: =E51/E72*100 -> 0.33253695 | G51: ='Pak Alex'!M89 -> 100 | H51: ='Pak Alex'!O89 -> 97.977092 | I51: =F51*G51/100 -> 0.33253695 | J51: ='Pak Alex'!N89 -> 18592035 | K51: =F51*H51/100 -> 0.32581003 | L51: =E51-J51 -> 383865
...
