Workbook

Sheet IBU YUSTI
A1: REALISASI FISIK DAN KEUANGAN
A2: APBD KABUPATEN KEPULAUAN SELAYAR
A3: TAHUN ANGGARAN 2025
A5: SKPD | B5: : | C5: Badan Kepegawaian Dan Pengembangan Sumber Daya Manusia
A6: Kegiatan | B6: : | C6: Pengelolaan Mutasi ASN
A7: Belanja | B7: : | C7: Langsung
M8: ='B'' IDA'!M8 -> Keadaan Desember 2025
A9: No. Urt | B9: Uraian / Rincian Kegiatan / Target | E9: Lokasi | G9: Jumlah Dana ( Rp ) | H9: Nilai Kontrak ( Rp ) | I9: Nama Pelaksana | J9: Bobot ( % ) | K9: Realisasi Komunikatif ( % ) | M9: Realisasi Tertimbang ( % ) | P9: Sisa Dana (Rp )
E10: Desa / Kel | F10: Kec | K10: Fisik | L10: Keuangan | M10: Fisik | N10: Keuangan
N11: Rp. | O11: %
A12: 1 | B12: 2 | E12: 3 | F12: 4 | G12: 5 | H12: 6 | I12: 7 | J12: 8 | K12: 9 | L12: 10 | M12: 11 | N12: 12 | O12: 13 | P12: 14
A14: 1 | B14: Belanja Alat dan bahan Untuk Kegiatan Kantor- ATK | G14: 2382200 | J14: =G14/G27*100 -> 8.1037134 | K14: 100 | L14: =N14/G14*100 -> 92.842457 | M14: =J14*K14/100 -> 8.1037134 | N14: 2211693 | O14: =J14*L14/100 -> 7.5236866 | P14: =G14-N14 -> 170507
A15: 2 | B15: Belanja alat dan bahan untuk kegiatan Kantor -Kertas Cover | G15: 2142800 | J15: =G15/G27*100 -> 7.2893279 | K15: 100 | L15: =N15/G15*100 -> 91.481239 | M15: =J15*K15/100 -> 7.2893279 | N15: 1960260 | O15: =J15*L15/100 -> 6.6683676 | P15: =G15-N15 -> 182540
A16: 3 | B16: Belanja alat dan bahan untuk kegiatan Kantor -bahan Cetak | G16: 1447000 | J16: =G16/G27*100 -> 4.9223714 | K16: 100 | L16: =N16/G16*100 -> 83.292122 | M16: =J16*K16/100 -> 4.9223714 | N16: 1205237 | O16: =J16*L16/100 -> 4.0999476 | P16: =G16-N16 -> 241763
A17: 4 | B17: Belanja Alat dan Bahan untuk kegiatan Kantor- Bahan Komputer | G17: 1596400 | J17: =G17/G27*100 -> 5.4305969 | K17: 100 | L17: =N17/G17*100 -> 93.50664 | M17: =J17*K17/100 -> 5.4305969 | N17: 1492740 | O17: =J17*L17/100 -> 5.0779687 | P17: =G17-N17 -> 103660
A18: 5 | B18: Makan dan Minum rapat | G18: 8472000 | J18: =G18/G27*100 -> 28.819855 | K18: =N18:N19/G18*100 -> 100 | L18: =N18/G18*100 -> 100 | M18: =J18*K18/100 -> 28.819855 | N18: 8472000 | O18: =J18*L18/100 -> 28.819855 | P18: =G18-N18 -> 0
A19: 6 | B19: Honorarium Narasumbar atau Pembahas moderator | G19: 2400000 | J19: =G19/G27*100 -> 8.164265 | K19: =N19:N20/G19*100 -> 100 | L19: =N19/G19*100 -> 100 | M19: =J19*K19/100 -> 8.164265 | N19: 2400000 | O19: =J19*L19/100 -> 8.164265 | P19: =G19-N19 -> 0
A20: 7 | B20: Belanja jasa Tenaga Administrasi | G20: 3600000 | J20: =G20/G27*100 -> 12.246398 | K20: =N20:N21/G20*100 -> 100 | L20: =N20/G20*100 -> 100 | M20: =J20*K20/100 -> 12.246398 | N20: 3600000 | O20: =J20*L20/100 -> 12.246398 | P20: =G20-N20 -> 0
A21: 8 | B21: Belanja Perjalanan Dinas Dalam Negeri | G21: 7106000 | J21: =G21/G27*100 -> 24.173028 | K21: 100 | L21: =N21/G21*100 -> 99.08528 | M21: =J21*K21/100 -> 24.173028 | N21: 7041000 | O21: =J21*L21/100 -> 23.951912 | P21: =G21-N21 -> 65000
A22: 9 | B22: Belanja jasa yang diberikan Kepada Phak Ketiga | G22: 250000 | J22: =G22/G27*100 -> 0.85044427 | K22: =N22:N23/G22*100 -> 100 | L22: =N22/G22*100 -> 100 | M22: =J22*K22/100 -> 0.85044427 | N22: 250000 | O22: =J22*L22/100 -> 0.85044427 | P22: =G22-N22 -> 0
A27: TOTAL | G27: =SUM(G14:G26) -> 29396400 | J27: =SUM(J14:J26) -> 100 | K27: =SUM(K14:K21)/4 -> 200 | L27: =N27/G27*100 -> 97.402845 | M27: =SUM(M14:M22) -> 100 | N27: =SUM(N14:N26) -> 28632930 | O27: =SUM(O14:O22) -> 97.402845 | P27: =SUM(P14:P22) -> 763470
L29: ='B'' IDA'!L330 -> Benteng, 31 Desember 2025
L31: Pejabat Pelaksana Teknis Kegiatan
L35: YUSTI ULIYANTI,S.Sos
L36: NIP. 19860830 2014072002
A41: Kegiatan | B41: : | C41: Pengelolaan Kenaikan Pangkat ASN
A42: Belanja | B42: : | C42: Langsung
M43: ='B'' IDA'!M39 -> Keadaan Desember 2025
A44: No. Urt | B44: Uraian / Rincian Kegiatan / Target | E44: Lokasi | G44: Jumlah Dana ( Rp ) | H44: Nilai Kontrak ( Rp ) | I44: Nama Pelaksana | J44: Bobot ( % ) | K44: Realisasi Komunikatif ( % ) | M44: Realisasi Tertimbang ( % ) | P44: Sisa Dana (Rp )
E45: Desa / Kel | F45: Kec | K45: Fisik | L45: Keuangan | M45: Fisik | N45: Keuangan
N46: Rp. | O46: %
A47: 1 | B47: 2 | E47: 3 | F47: 4 | G47: 5 | H47: 6 | I47: 7 | J47: 8 | K47: 9 | L47: 10 | M47: 11 | N47: 12 | O47: 13 | P47: 14
A49: 1 | B49: Belanja Alat dan bahan Untuk Kegiatan Kantor- ATK | G49: 411200 | J49: =G49/G56*100 -> 0.90699147 | K49: 100 | L49: =N49/G49*100 -> 91.240272 | M49: =J49*K49/100 -> 0.90699147 | N49: 375180 | O49: =J49*L49/100 -> 0.82754148 | P49: =G49-N49 -> 36020
A50: 2 | B50: Belanja alat dan bahan untuk kegiatan Kantor -Kertas Cover | G50: 1458600 | J50: =G50/G56*100 -> 3.2172611 | K50: 100 | L50: =N50/G50*100 -> 92.690251 | M50: =J50*K50/100 -> 3.2172611 | N50: 1351980 | O50: =J50*L50/100 -> 2.9820874 | P50: =G50-N50 -> 106620
A51: 3 | B51: Belanja alat dan bahan untuk kegiatan Kantor -bahan Cetak | G51: 1950000 | J51: =G51/G56*100 -> 4.3011512 | K51: 100 | L51: =N51/G51*100 -> 69.930051 | M51: =J51*K51/100 -> 4.3011512 | N51: 1363636 | O51: =J51*L51/100 -> 3.0077972 | P51: =G51-N51 -> 586364
A52: 4 | B52: Belanja Alat dan Bahan untuk kegiatan Kantor- Bahan Komputer | G52: 3700900 | J52: =G52/G56*100 -> 8.1631438 | K52: 100 | L52: =N52/G52*100 -> 93.731011 | M52: =J52*K52/100 -> 8.1631438 | N52: 3468891 | O52: =J52*L52/100 -> 7.6513972 | P52: =G52-N52 -> 232009
A53: 5 | B53: Belanja Tenaga Administrasi | G53: 3600000 | J53: =G53/G56*100 -> 7.9405868 | K53: =N53/G53*100 -> 100 | L53: =N53/G53*100 -> 100 | M53: =J53*K53/100 -> 7.9405868 | N53: 3600000 | O53: =J53*L53/100 -> 7.9405868 | P53: =G53-N53 -> 0
A54: 6 | B54: Belanja Perjalanan Dinas Dalam Negeri | G54: 28816000 | J54: =G54/G56*100 -> 63.559986 | K54: 100 | L54: =N54/G54*100 -> 96.943712 | M54: =J54*K54/100 -> 63.559986 | N54: 27935300 | O54: =J54*L54/100 -> 61.617409 | P54: =G54-N54 -> 880700
A55: 7 | B55: Honorarium Narasumbar atau Pembahas moderator | G55: 5400000 | J55: =G55/G56*100 -> 11.91088 | K55: =N55/G55*100 -> 100 | L55: =N55/G55*100 -> 100 | M55: =J55*K55/100 -> 11.91088 | N55: 5400000 | O55: =J55*L55/100 -> 11.91088 | P55: =G55-N55 -> 0
A56: TOTAL | G56: =SUM(G49:G55) -> 45336700 | J56: =SUM(J49:J55) -> 100 | L56: =N56/G56*100 -> 95.937699 | M56: =SUM(M49:M55) -> 100 | N56: =SUM(N49:N55) -> 43494987 | O56: =SUM(O49:O55) -> 95.937699 | P56: =SUM(P49:P55) -> 1841713
L58: ='B'' IDA'!L330 -> Benteng, 31 Desember 2025
L60: Pejabat Pelaksana Teknis Kegiatan
L64: YUSTI ULIYANTI,S.Sos
L65: NIP. 19860830 2014072002
A77: Kegiatan | B77: : | C77: Pengelolaan Promosi ASN
A78: Belanja | B78: : | C78: Langsung
M79: =M8 -> Keadaan Desember 2025
A80: No. Urt | B80: Uraian / Rincian Kegiatan / Target | E80: Lokasi | G80: Jumlah Dana ( Rp ) | H80: Nilai Kontrak ( Rp ) | I80: Nama Pelaksana | J80: Bobot ( % ) | K80: Realisasi Komunikatif ( % ) | M80: Realisasi Tertimbang ( % ) | P80: Sisa Dana (Rp )
E81: Desa / Kel | F81: Kec | K81: Fisik | L81: Keuangan | M81: Fisik | N81: Keuangan
N82: Rp. | O82: %
A83: 1 | B83: 2 | E83: 3 | F83: 4 | G83: 5 | H83: 6 | I83: 7 | J83: 8 | K83: 9 | L83: 10 | M83: 11 | N83: 12 | O83: 13 | P83: 14
A85: 1 | B85: Belanja Alat dan bahan Untuk Kegiatan Kantor- ATK | G85: 584900 | J85: =G85/G95*100 -> 0.253323 | K85: 100 | L85: =N85/G85*100 -> 91.799453 | M85: =J85*K85/100 -> 0.253323 | N85: 536935 | O85: =J85*L85/100 -> 0.23254912 | P85: =G85-N85 -> 47965
A86: 2 | B86: Belanja alat dan bahan untuk kegiatan Kantor -Kertas Cover | G86: 1009200 | J86: =G86/G95*100 -> 0.43708936 | K86: 100 | L86: =N86/G86*100 -> 92.390012 | M86: =J86*K86/100 -> 0.43708936 | N86: 932400 | O86: =J86*L86/100 -> 0.40382691 | P86: =G86-N86 -> 76800
A87: 3 | B87: Belanja alat dan bahan untuk kegiatan Kantor -bahan Cetak | G87: 518500 | J87: =G87/G95*100 -> 0.22456484 | K87: 100 | L87: =N87/G87*100 -> 69.92999 | M87: =J87*K87/100 -> 0.22456484 | N87: 362587 | O87: =J87*L87/100 -> 0.15703817 | P87: =G87-N87 -> 155913
A88: 4 | B88: Belanja Alat dan Bahan untuk kegiatan Kantor- Bahan Komputer | G88: 1709400 | J88: =G88/G95*100 -> 0.74034934 | K88: 100 | L88: =N88/G88*100 -> 93.436293 | M88: =J88*K88/100 -> 0.74034934 | N88: 1597200 | O88: =J88*L88/100 -> 0.69175498 | P88: =G88-N88 -> 112200
A89: 5 | B89: Makan dan Minum rapat | G89: 13050000 | J89: =G89/G95*100 -> 5.6520176 | K89: 100 | L89: =N89/G89*100 -> 96.429119 | M89: =J89*K89/100 -> 5.6520176 | N89: 12584000 | O89: =J89*L89/100 -> 5.4501908 | P89: =G89-N89 -> 466000
A90: 6 | B90: Honorarium Narasumber atau pembahas, moderator,pembawa acara | G90: 8000000 | J90: =G90/G95*100 -> 3.4648384 | K90: 100 | L90: =N90/G90*100 -> 93.75 | M90: =J90*K90/100 -> 3.4648384 | N90: 7500000 | O90: =J90*L90/100 -> 3.248286 | P90: =G90-N90 -> 500000
A91: 7 | B91: Belanja Perjalanan Dinas Dalam Negeri | G91: 59019000 | J91: =G91/G95*100 -> 25.561412 | K91: 100 | L91: =N91/G91*100 -> 99.297904 | M91: =J91*K91/100 -> 25.561412 | N91: 58604630 | O91: =J91*L91/100 -> 25.381946 | P91: =G91-N91 -> 414370
A92: 8 | B92: Belanja jasa yang diberikan kepada pihak ketiga/pihak Lain | G92: 120000000 | J92: =G92/G95*100 -> 51.972576 | K92: 100 | L92: =N92/G92*100 -> 97.916667 | M92: =J92*K92/100 -> 51.972576 | N92: 117500000 | O92: =J92*L92/100 -> 50.889814 | P92: =G92-N92 -> 2500000
A93: 9 | B93: Belanja Tenaga Ahli | G93: 27000000 | J93: =G93/G95*100 -> 11.69383 | K93: 100 | L93: =N93/G93*100 -> 96.296296 | M93: =J93*K93/100 -> 11.69383 | N93: 26000000 | O93: =J93*L93/100 -> 11.260725 | P93: =G93-N93 -> 1000000
C94: Khusus
A95: TOTAL | G95: =SUM(G85:G93) -> 230891000 | J95: =SUM(J85:J94) -> 100 | K95: =SUM(K85:K90)/8 -> 75 | L95: =N95/G95*100 -> 97.716131 | M95: =SUM(M85:M93) -> 100 | N95: =SUM(N85:N93) -> 225617752 | O95: =SUM(O85:O93) -> 97.716131 | P95: =SUM(P85:P93) -> 5273248
L97: =L58 -> Benteng, 31 Desember 2025
L98: =L26 -> 0
L99: Pejabat Pelaksana Teknis Kegiatan
L103: YUSTI ULIYANTI,S.Sos
L104: NIP. 19860830 2014072002
A113: Kegiatan | B113: : | C113: Evaluasi Pelaksanaan Pemberian Penghargaan dan tanda Jasa Aparatur
A114: Belanja | B114: : | C114: Langsung
M115: =M8 -> Keadaan Desember 2025
A116: No. Urt | B116: Uraian / Rincian Kegiatan / Target | E116: Lokasi | G116: Jumlah Dana ( Rp ) | H116: Nilai Kontrak ( Rp ) | I116: Nama Pelaksana | J116: Bobot ( % ) | K116: Realisasi Komunikatif ( % ) | M116: Realisasi Tertimbang ( % ) | P116: Sisa Dana (Rp )
E117: Desa / Kel | F117: Kec | K117: Fisik | L117: Keuangan | M117: Fisik | N117: Keuangan
N118: Rp. | O118: %
A119: 1 | B119: 2 | E119: 3 | F119: 4 | G119: 5 | H119: 6 | I119: 7 | J119: 8 | K119: 9 | L119: 10 | M119: 11 | N119: 12 | O119: 13 | P119: 14
A121: 1 | B121: Belanja alat dan bahan untuk kegiatan Kantor -Kertas Cover | J121: =G121/G127*100 -> 0 | M121: =J121*K121/100 -> 0 | O121: =J121*L121/100 -> 0 | P121: =G121-N121 -> 0
A122: 2 | B122: Belanja alat dan bahan untuk kegiatan Kantor -Alat Tulis Kantor | G122: 220300 | J122: =G122/G127*100 -> 0.81180377 | K122: 100 | L122: =N122/G122*100 -> 95.861099 | M122: =J122*K122/100 -> 0.81180377 | N122: 211182 | O122: =J122*L122/100 -> 0.77820401 | P122: =G122-N122 -> 9118
A123: 3 | B123: Belanja alat/Bahan untuk kegiatan Kantor-Bahan Komputer | G123: 529800 | J123: =G123/G127*100 -> 1.9523088 | K123: 100 | L123: =N123/G123*100 -> 83.531521 | M123: =J123*K123/100 -> 1.9523088 | N123: 442550 | O123: =J123*L123/100 -> 1.6307933 | P123: =G123-N123 -> 87250
A124: 4 | B124: Belanja Perjalanan Dinas Biasa | G124: 16787000 | J124: =G124/G127*100 -> 61.859963 | K124: 100 | L124: =N124/G124*100 -> 99.132364 | M124: =J124*K124/100 -> 61.859963 | N124: 16641350 | O124: =J124*L124/100 -> 61.323244 | P124: =G124-N124 -> 145650
A125: 5 | B125: Belanja Jasa Tenaga administrasi | G125: 9600000 | J125: =G125/G127*100 -> 35.375924 | K125: =N125/G125*100 -> 100 | L125: =N125/G125*100 -> 100 | M125: =J125*K125/100 -> 35.375924 | N125: 9600000 | O125: =J125*L125/100 -> 35.375924 | P125: =G125-N125 -> 0
A127: TOTAL | G127: =SUM(G121:G126) -> 27137100 | J127: =SUM(J121:J126) -> 100 | K127: =SUM(K121:K123)/5 -> 40 | L127: =N127/G127*100 -> 99.108166 | M127: =SUM(M121:M125) -> 100 | N127: =SUM(N121:N125) -> 26895082 | O127: =SUM(O121:O125) -> 99.108166 | P127: =SUM(P121:P125) -> 242018
L129: =L58 -> Benteng, 31 Desember 2025
L131: Pejabat Pelaksana Teknis Kegiatan
L134: YUSTI ULIYANTI,S.Sos
L135: NIP. 19860830 2014072002
A150: Kegiatan | B150: : | C150: Pembinaan Disiplin ASN
A151: Belanja | B151: : | C151: Langsung
M152: =M8 -> Keadaan Desember 2025
A153: No. Urt | B153: Uraian / Rincian Kegiatan / Target | E153: Lokasi | G153: Jumlah Dana ( Rp ) | H153: Nilai Kontrak ( Rp ) | I153: Nama Pelaksana | J153: Bobot ( % ) | K153: Realisasi Komunikatif ( % ) | M153: Realisasi Tertimbang ( % ) | P153: Sisa Dana (Rp )
E154: Desa / Kel | F154: Kec | K154: Fisik | L154: Keuangan | M154: Fisik | N154: Keuangan
N155: Rp. | O155: %
A156: 1 | B156: 2 | E156: 3 | F156: 4 | G156: 5 | H156: 6 | I156: 7 | J156: 8 | K156: 9 | L156: 10 | M156: 11 | N156: 12 | O156: 13 | P156: 14
A158: 1 | B158: Belanja alat dan bahan untuk kegiatan - Alat Tulis Kantor | G158: 234300 | J158: =G158/G166*100 -> 5.2566634 | K158: 100 | L158: =N158/G158*100 -> 91.90781 | M158: =J158*K158/100 -> 5.2566634 | N158: 215340 | O158: =J158*L158/100 -> 4.8312842 | P158: =G158-N158 -> 18960
A159: 2 | B159: Belanja alat dan bahan untuk kegiatan Kantor -Kertas Cover | G159: 904100 | J159: =G159/G166*100 -> 20.284035 | K159: 100 | L159: =N159/G159*100 -> 91.09833 | M159: =J159*K159/100 -> 20.284035 | N159: 823620 | O159: =J159*L159/100 -> 18.478417 | P159: =G159-N159 -> 80480
A160: 3 | B160: Belanja Alat dan Bahan untuk kegiatan Kantor- Bahan Komputer | G160: 2118800 | J160: =G160:G160/G166*100 -> 47.53657 | K160: 100 | L160: =N160/G160*100 -> 86.964319 | M160: =J160*K160/100 -> 47.53657 | N160: 1842600 | O160: =J160*L160/100 -> 41.339855 | P160: =G160-N160 -> 276200
A161: 4 | B161: Belanja Makanan Dan Minuman Rapat | G161: 1200000 | J161: =G161/G166*100 -> 26.922732 | K161: =N161/G161*100 -> 100 | L161: =N161/G161*100 -> 100 | M161: =J161*K161/100 -> 26.922732 | N161: 1200000 | O161: =J161*L161/100 -> 26.922732 | P161: =G161-N161 -> 0
A162: 5 | B162: Belanja Perjalanan Dinas Biasa ( Luar Daerah) | J162: =G162/G166*100 -> 0 | M162: =J162*K162/100 -> 0 | O162: =J162*L162/100 -> 0 | P162: =G162-N162 -> 0
A166: TOTAL | G166: =SUM(G158:G165) -> 4457200 | J166: =SUM(J158:J165) -> 100 | K166: =SUM(K158:K161)/5 -> 80 | L166: =N166/G166*100 -> 91.572288 | M166: =SUM(M158:M163) -> 100 | N166: =SUM(N158:N162) -> 4081560 | O166: =SUM(O158:O163) -> 91.572288 | P166: =SUM(P158:P162) -> 375640
L169: =L58 -> Benteng, 31 Desember 2025
L170: Pejabat Pelaksana Teknis Kegiatan
L173: YUSTI ULIYANTI,S.Sos
...

Sheet IBU ASNI
A1: REALISASI FISIK DAN KEUANGAN
A2: APBD KABUPATEN KEPULAUAN SELAYAR
A3: TAHUN ANGGARAN 2025
A5: SKPD | B5: : | C5: Badan Kepegawaian Dan Pengembangan Sumber Daya Manusia
A6: Kegiatan | B6: : | C6: Pengelolaan Pendidikan Lanjutan ASN
A7: Belanja | B7: : | C7: Langsung
M8: ='B'' IDA'!M8 -> Keadaan Desember 2025
A9: 85 | B9: Uraian / Rincian Kegiatan / Target | E9: Lokasi | G9: Jumlah Dana ( Rp ) | H9: Nilai Kontrak ( Rp ) | I9: Nama Pelaksana | J9: Bobot ( % ) | K9: Realisasi Komunikatif ( % ) | M9: Realisasi Tertimbang ( % ) | P9: Sisa Dana (Rp )
E10: Desa / Kel | F10: Kec | K10: Fisik | L10: Keuangan | M10: Fisik | N10: Keuangan
N11: Rp. | O11: %
A12: 1 | B12: 2 | E12: 3 | F12: 4 | G12: 5 | H12: 6 | I12: 7 | J12: 8 | K12: 9 | L12: 10 | M12: 11 | N12: 12 | O12: 13 | P12: 14
A14: 1 | B14: Belanja alat /bahan untuk Kegiatan Kantor -Bahan Cetak | G14: 230000 | J14: =G14/G22*100 -> 0.097973232 | K14: 100 | L14: =N14/G14*100 -> 69.93 | M14: =J14*K14/100 -> 0.097973232 | N14: 160839 | O14: =J14*L14/100 -> 0.068512681 | P14: =G14-N14 -> 69161
A15: 2 | B15: Belanja Jasa Tenaga Administrasi | G15: 4800000 | J15: =G15/G22*100 -> 2.0446588 | K15: =N15/G15*100 -> 100 | L15: =N15/G15*100 -> 100 | M15: =J15*L15/100 -> 2.0446588 | N15: 4800000 | O15: =J15*L15/100 -> 2.0446588 | P15: =G15-N15 -> 0
A16: 3 | B16: Belanja Beasiswa Tugas Belajar S! | G16: 5000000 | J16: =G16/G22*100 -> 2.1298529 | K16: =N16/G16*100 -> 100 | L16: =N16/G16*100 -> 100 | M16: =J16*L16/100 -> 2.1298529 | N16: 5000000 | O16: =J16*L16/100 -> 2.1298529 | P16: =G16-N16 -> 0
A17: 4 | B17: Belanja Beasiswa Tugas Belajar S2 | G17: 215000000 | J17: =G17/G22*100 -> 91.583673 | K17: =N17/G17*100 -> 100 | L17: =N17/G17*100 -> 100 | M17: =J17*L17/100 -> 91.583673 | N17: 215000000 | O17: =J17*L17/100 -> 91.583673 | P17: =G17-N17 -> 0
A18: 5 | B18: Belanja Perjalanan Dinas Biasa | G18: 9728000 | J18: =G18/G22*100 -> 4.1438417 | K18: 100 | L18: =N18/G18*100 -> 96.905839 | M18: =J18*K18/100 -> 4.1438417 | N18: 9427000 | O18: =J18*L18/100 -> 4.0156246 | P18: =G18-N18 -> 301000
A22: TOTAL | G22: =SUM(G14:G21) -> 234758000 | J22: =SUM(J14:J21) -> 100 | K22: =SUM(#REF!)/2 -> #REF! | L22: =N22/G22*100 -> 99.842322 | M22: =SUM(M14:M18) -> 100 | N22: =SUM(N14:N19) -> 234387839 | O22: =SUM(O14:O18) -> 99.842322 | P22: =SUM(P14:P18) -> 370161
L24: ='B'' IDA'!L330 -> Benteng, 31 Desember 2025
L26: Pejabat Pelaksana Teknis Kegiatan
L30: NUR HASNIATI,S.Sos,M.Si
L31: NIP. 19710623 201001 2 003
A45: Kegiatan | B45: : | C45: Koordinasi dan Kerjasama Pelaksanaan Diklat Jabatan Fungsional
A46: Belanja | B46: : | C46: Langsung
M47: ='B'' IDA'!M8 -> Keadaan Desember 2025
A48: No. Urt | B48: Uraian / Rincian Kegiatan / Target | E48: Lokasi | G48: Jumlah Dana ( Rp ) | H48: Nilai Kontrak ( Rp ) | I48: Nama Pelaksana | J48: Bobot ( % ) | K48: Realisasi Komunikatif ( % ) | M48: Realisasi Tertimbang ( % ) | P48: Sisa Dana (Rp )
E49: Desa / Kel | F49: Kec | K49: Fisik | L49: Keuangan | M49: Fisik | N49: Keuangan
N50: Rp. | O50: %
A51: 1 | B51: 2 | E51: 3 | F51: 4 | G51: 5 | H51: 6 | I51: 7 | J51: 8 | K51: 9 | L51: 10 | M51: 11 | N51: 12 | O51: 13 | P51: 14
A54: 1 | B54: Belanja uang atau jasa yang diberikan kepada Pihak | G54: 32000000 | J54: =G54/G60*100 -> 71.111111 | K54: =N54/G54*100 -> 100 | L54: =N54/G54*100 -> 100 | M54: =J54*K54/100 -> 71.111111 | N54: 32000000 | O54: =J54*L54/100 -> 71.111111 | P54: =G54-N54 -> 0
A55: 2 | B55: Belanja alat dan bahan untuk kegiatan Kantor -Alat Tulis Kantor | G55: 751000 | J55: =G55/G60*100 -> 1.6688889 | K55: 100 | L55: =N55/G55*100 -> 92.330226 | M55: =J55*K55/100 -> 1.6688889 | N55: 693400 | O55: =J55*L55/100 -> 1.5408889 | P55: =G55-N55 -> 57600
A56: 3 | B56: Belanja alat dan bahan untuk kegiatan Kantor -Kertas Cover | G56: 661000 | J56: =G56/G60*100 -> 1.4688889 | K56: 100 | L56: =N56/G56*100 -> 95.214826 | M56: =J56*K56/100 -> 1.4688889 | N56: 629370 | O56: =J56*L56/100 -> 1.3986 | P56: =G56-N56 -> 31630
A57: 4 | B57: Belanja alat /bahan untuk Kegiatan Kantor -Bahan Cetak | G57: 2116000 | J57: =G57/G60*100 -> 4.7022222 | K57: 100 | L57: =N57/G57*100 -> 70 | M57: =J57*K57/100 -> 4.7022222 | N57: 1481200 | O57: =J57*L57/100 -> 3.2915556 | P57: =G57-N57 -> 634800
A58: 5 | B58: Belanja Perjalanan Biasa | G58: 9472000 | J58: =G58/G60*100 -> 21.048889 | K58: 100 | L58: =N58/G58*100 -> 98.660262 | M58: =J58*K58/100 -> 21.048889 | N58: 9345100 | O58: =J58*L58/100 -> 20.766889 | P58: =G58-N58 -> 126900
A60: TOTAL | G60: =SUM(G53:G59) -> 45000000 | J60: =SUM(J53:J59) -> 100 | K60: =SUM(K53:K58)/12 -> 41.666667 | L60: =N60/G60*100 -> 98.109044 | M60: =SUM(M53:M58) -> 100 | N60: =SUM(N53:N58) -> 44149070 | O60: =SUM(O53:O58) -> 98.109044 | P60: =SUM(P53:P58) -> 850930
L62: =L24 -> Benteng, 31 Desember 2025
L64: Pejabat Pelaksana Teknis Kegiatan
L68: NUR HASNIATI,S.Sos,M.Si
L69: NIP. 19710623 201001 2 003
A86: Kegiatan | B86: : | C86: Penyelenggaraan Pengembangan Kompotensi Teknis Umum ,inti,dan Pilihan bagi jabatan Administrasi Penyelenggara urusan Pemerintah Konkuren,
A87: Belanja | B87: : | C87: Langsung
M88: =M8 -> Keadaan Desember 2025
A89: No. Urt | B89: Uraian / Rincian Kegiatan / Target | E89: Lokasi | G89: Jumlah Dana ( Rp ) | H89: Nilai Kontrak ( Rp ) | I89: Nama Pelaksana | J89: Bobot ( % ) | K89: Realisasi Komunikatif ( % ) | M89: Realisasi Tertimbang ( % ) | P89: Sisa Dana (Rp )
E90: Desa / Kel | F90: Kec | K90: Fisik | L90: Keuangan | M90: Fisik | N90: Keuangan
N91: Rp. | O91: %
A92: 1 | B92: 2 | E92: 3 | F92: 4 | G92: 5 | H92: 6 | I92: 7 | J92: 8 | K92: 9 | L92: 10 | M92: 11 | N92: 12 | O92: 13 | P92: 14
A94: 1 | B94: Belanja Alat/Bahanuntuk Kegiatan Kantor- Alat Tulis kantor | G94: 3968400 | J94: =G94/G106*100 -> 2.1070584 | K94: 100 | L94: =N94/G94*100 -> 96.300701 | M94: =J94*K94/100 -> 2.1070584 | N94: 3821597 | O94: =J94*L94/100 -> 2.029112 | P94: =G94-N94 -> 146803
A95: 2 | B95: Belanja alat dan bahan untuk kegiatan Kantor -Kertas Cover | G95: 2100800 | J95: =G95/G106*100 -> 1.115439 | K95: 100 | L95: =N95/G95*100 -> 92.094916 | M95: =J95*K95/100 -> 1.115439 | N95: 1934730 | O95: =J95*L95/100 -> 1.0272626 | P95: =G95-N95 -> 166070
A96: 3 | B96: Belanja alat /bahan untuk Kegiatan Kantor -Bahan Cetak | G96: 8982200 | J96: =G96/G106*100 -> 4.7691814 | K96: 100 | L96: =N96/G96*100 -> 78.218343 | M96: =J96*K96/100 -> 4.7691814 | N96: 7025728 | O96: =J96*L96/100 -> 3.7303747 | P96: =G96-N96 -> 1956472
A97: 4 | B97: Belanja Alat dan Bahan untuk kegiatan Kantor- Bahan Komputer | G97: 6196000 | J97: =G97/G106*100 -> 3.289823 | K97: 100 | L97: =N97/G97*100 -> 92.941898 | M97: =J97*K97/100 -> 3.289823 | N97: 5758680 | O97: =J97*L97/100 -> 3.0576239 | P97: =G97-N97 -> 437320
A98: 5 | B98: Belanja Alat/ Bahan untuk kegiatan Kantor- alat Listrik | G98: 226000 | J98: =G98/G106*100 -> 0.11999677 | K98: 100 | L98: =N98/G98*100 -> 98.230088 | M98: =J98*K98/100 -> 0.11999677 | N98: 222000 | O98: =J98*L98/100 -> 0.11787294 | P98: =G98-N98 -> 4000
A99: 6 | B99: Belanja Makanan dan Minuman rapat | G99: 30000000 | J99: =G99/G106*100 -> 15.928775 | K99: 100 | L99: =N99/G99*100 -> 88.62 | M99: =J99*K99/100 -> 15.928775 | N99: 26586000 | O99: =J99*L99/100 -> 14.11608 | P99: =G99-N99 -> 3414000
A100: 7 | B100: Honorarium Narasumber dan Pembahas,Mederator | G100: 44600000 | J100: =G100/G106*100 -> 23.680779 | K100: 100 | L100: =N100/G100*100 -> 96.860987 | M100: =J100*K100/100 -> 23.680779 | N100: 43200000 | O100: =J100*L100/100 -> 22.937436 | P100: =G100-N100 -> 1400000
A101: 8 | B101: Belanja Jasa Tenaga Administrasi | G101: 9600000 | J101: =G101/G106*100 -> 5.097208 | K101: =N101/G101*100 -> 100 | L101: =N101/G101*100 -> 100 | M101: =J101*K101/100 -> 5.097208 | N101: 9600000 | O101: =J101*L101/100 -> 5.097208 | P101: =G101-N101 -> 0
A102: 9 | B102: Belanja Sewa Gedung dan Bangunan | G102: 9180000 | J102: =G102/G106*100 -> 4.8742052 | K102: =N102/G102*100 -> 100 | L102: =N102/G102*100 -> 100 | M102: =J102*K102/100 -> 4.8742052 | N102: 9180000 | O102: =J102*L102/100 -> 4.8742052 | P102: =G102-N102 -> 0
A103: 10 | B103: Belanja Perjalanan Dinas Biasa | G103: 67035000 | J103: =G103/G106*100 -> 35.592848 | K103: 100 | L103: =N103/G103*100 -> 99.971404 | M103: =J103*K103/100 -> 35.592848 | N103: 67015831 | O103: =J103*L103/100 -> 35.58267 | P103: =G103-N103 -> 19169
A104: 11 | B104: Belanja Jasa yang diberikan kepada Pihak Ketiga | G104: 6450000 | J104: =G104/G106*100 -> 3.4246866 | K104: 100 | L104: =N104/G104*100 -> 39.689922 | M104: =J104*K104/100 -> 3.4246866 | N104: 2560000 | O104: =J104*L104/100 -> 1.3592555 | P104: =G104-N104 -> 3890000
A106: TOTAL | G106: =SUM(G94:G105) -> 188338400 | J106: =SUM(J94:J105) -> 100 | K106: =SUM(K94:K103)/4 -> 250 | L106: =N106/G106*100 -> 93.929101 | M106: =SUM(M94:M104) -> 100 | N106: =SUM(N94:N104) -> 176904566 | O106: =SUM(O94:O104) -> 93.929101 | P106: =SUM(P94:P104) -> 11433834
L108: =L24 -> Benteng, 31 Desember 2025
L110: Pejabat Pelaksana Teknis Kegiatan
L114: NUR HASNIATI,S.Sos,M.Si
L115: NIP. 19710623 201001 2 003
A126: Kegiatan | B126: : | C126: Penyelenggaraan Pengembangan Kompotensi bagi Pimpinan Daerah ,Jabatan Pimpinan
A127: Belanja | B127: : | C127: Langsung
M128: =M8 -> Keadaan Desember 2025
A129: No. Urt | B129: Uraian / Rincian Kegiatan / Target | E129: Lokasi | G129: Jumlah Dana ( Rp ) | H129: Nilai Kontrak ( Rp ) | I129: Nama Pelaksana | J129: Bobot ( % ) | K129: Realisasi Komunikatif ( % ) | M129: Realisasi Tertimbang ( % ) | P129: Sisa Dana (Rp )
E130: Desa / Kel | F130: Kec | K130: Fisik | L130: Keuangan | M130: Fisik | N130: Keuangan
N131: Rp. | O131: %
A132: 1 | B132: 2 | E132: 3 | F132: 4 | G132: 5 | H132: 6 | I132: 7 | J132: 8 | K132: 9 | L132: 10 | M132: 11 | N132: 12 | O132: 13 | P132: 14
A134: 1 | B134: Belanja Jasa Tenaga Administrasi | G134: 8400000 | J134: =G134/G149*100 -> 6.0011531 | K134: =N134/G134*100 -> 100 | L134: =N134/G134*100 -> 100 | M134: =J134*K134/100 -> 6.0011531 | N134: 8400000 | O134: =J134*L134/100 -> 6.0011531 | P134: =G134-N134 -> 0
A135: 2 | B135: Belanja Diklat Kepemimpinan | J135: =G135/G149*100 -> 0 | M135: =J135*K135/100 -> 0 | O135: =J135*L135/100 -> 0 | P135: =G135-N135 -> 0
B136: - Penyelenggaraan Diklat Kepemimpinan Pengawas | J136: =G136/G149*100 -> 0 | M136: =J136*K136/100 -> 0 | O136: =J136*L136/100 -> 0 | P136: =G136-N136 -> 0
B137: - Biaya Pelatihan Kepemimpinan Administrator | J137: =G137/G149*100 -> 0 | M137: =J137*K137/100 -> 0 | O137: =J137*L137/100 -> 0 | P137: =G137-N137 -> 0
B138: - Biaya Pelatihan Kepemimpinan Nasional Tingkat II | J138: =G138/G149*100 -> 0 | M138: =J138*K138/100 -> 0 | O138: =J138*L138/100 -> 0 | P138: =G138-N138 -> 0
A139: 3 | B139: Belanja Alat/Bahanuntuk Kegiatan Kantor- Alat Tulis kantor | G139: 1957600 | J139: =G139/G149*100 -> 1.3985544 | K139: 100 | L139: =N139/G139*100 -> 74.997497 | M139: =J139*K139/100 -> 1.3985544 | N139: 1468151 | O139: =J139*L139/100 -> 1.0488808 | P139: =G139-N139 -> 489449
A140: 4 | B140: Belanja alat dan bahan untuk kegiatan Kantor -Kertas Cover | G140: 3099100 | J140: =G140/G149*100 -> 2.2140683 | K140: 100 | L140: =N140/G140*100 -> 92.192572 | M140: =J140*K140/100 -> 2.2140683 | N140: 2857140 | O140: =J140*L140/100 -> 2.0412065 | P140: =G140-N140 -> 241960
A141: 5 | B141: Belanja alat /bahan untuk Kegiatan Kantor -Bahan Cetak | G141: 14075200 | J141: =G141/G149*100 -> 10.055646 | K141: 100 | L141: =N141/G141*100 -> 67.092134 | M141: =J141*K141/100 -> 10.055646 | N141: 9443352 | O141: =J141*L141/100 -> 6.7465477 | P141: =G141-N141 -> 4631848
A142: 6 | B142: Belanja Alat dan Bahan untuk kegiatan Kantor- Bahan Komputer | G142: 2907200 | J142: =G142/G149*100 -> 2.0769705 | K142: 100 | L142: =N142/G142*100 -> 81.822028 | M142: =J142*K142/100 -> 2.0769705 | N142: 2378730 | O142: =J142*L142/100 -> 1.6994194 | P142: =G142-N142 -> 528470
A143: 8 | B143: Belanja Makanan dan Minuman Rapat | G143: 48816000 | J143: =G143/G149*100 -> 34.875272 | K143: 100 | L143: =N143/G143*100 -> 100 | M143: =J143*K143/100 -> 34.875272 | N143: 48816000 | O143: =J143*L143/100 -> 34.875272 | P143: =G143-N143 -> 0
A144: 9 | B144: Belanja Bimbingan Teknis | G144: 5260000 | J144: =G144/G149*100 -> 3.7578649 | K144: =N144/G144*100 -> 100 | L144: =N144/G144*100 -> 100 | M144: =J144*K144/100 -> 3.7578649 | N144: 5260000 | O144: =J144*L144/100 -> 3.7578649 | P144: =G144-N144 -> 0
A145: 10 | B145: Belanja Diklat Kepemimpinan | G145: 34000000 | J145: =G145/G149*100 -> 24.290382 | K145: =N145/G145*100 -> 100 | L145: =N145/G145*100 -> 100 | M145: =J145*K145/100 -> 24.290382 | N145: 34000000 | O145: =J145*L145/100 -> 24.290382 | P145: =G145-N145 -> 0
A146: 13 | B146: Belanja Jasa Perjalanan Dinas Biasa | G146: 21458000 | J146: =G146/G149*100 -> 15.330088 | K146: 100 | L146: =N146/G146*100 -> 98.165113 | M146: =J146*K146/100 -> 15.330088 | N146: 21064270 | O146: =J146*L146/100 -> 15.048799 | P146: =G146-N146 -> 393730
A149: TOTAL | G149: =SUM(G134:G146) -> 139973100 | J149: =SUM(J134:J148) -> 100 | K149: =SUM(K134:K135)/3 -> 33.333333 | L149: =N149/G149*100 -> 95.509525 | M149: =SUM(M134:M146) -> 100 | N149: =SUM(N134:N147) -> 133687643 | O149: =SUM(O134:O148) -> 95.509525 | P149: =SUM(P134:P146) -> 6285457
L151: =L24 -> Benteng, 31 Desember 2025
L153: Pejabat Pelaksana Teknis Kegiatan
L157: NUR HASNIATI,S.Sos,M.Si
L158: NIP. 19710623 201001 2 003
G181: 2502000
G182: 2329200 | I182: =I176+I179 -> 0
G183: 2502000
G184: 2116800
G185: 3238000
G186: 3238000 | I186: )
G187: =SUM(G171:G186) -> 15926000
I189: 15768000
I190: 5762992
I192: =I189+I190 -> 21530992
G195: 25788400
G196: 2402000
G197: =G195+G196 -> 28190400
L206: =#REF! -> #REF!

Sheet Pak Alex
A1: REALISASI FISIK DAN KEUANGAN
A2: APBD KABUPATEN KEPULAUAN SELAYAR
A3: TAHUN ANGGARAN 2025
A5: SKPD | B5: : | C5: Badan Kepegawaian Dan Pengembangan Sumber Daya Manusia
A6: Kegiatan | B6: : | C6: Penyusunan Rencana Kebutuhan ,Jenis dan Jumlah Jabatan untuk Pelaksanaan Pengadaan ASN
A7: Belanja | B7: : | C7: Langsung
M8: ='B'' IDA'!M8 -> Keadaan Desember 2025
A9: No. Urt | B9: Uraian / Rincian Kegiatan / Target | E9: Lokasi | G9: Jumlah Dana ( Rp ) | H9: Nilai Kontrak ( Rp ) | I9: Nama Pelaksana | J9: Bobot ( % ) | K9: Realisasi Komunikatif ( % ) | M9: Realisasi Tertimbang ( % ) | P9: Sisa Dana (Rp )
E10: Desa / Kel | F10: Kec | K10: Fisik | L10: Keuangan | M10: Fisik | N10: Keuangan
N11: Rp. | O11: %
A12: 1 | B12: 2 | E12: 3 | F12: 4 | G12: 5 | H12: 6 | I12: 7 | J12: 8 | K12: 9 | L12: 10 | M12: 11 | N12: 12 | O12: 13 | P12: 14
A14: 1 | B14: Belanja Alat dan bahan Untuk Kegiatan Kantor- ATK | G14: 216300 | J14: =G14/G22*100 -> 3.279111 | K14: 100 | L14: =N14/G14*100 -> 95.02589 | M14: =J14*K14/100 -> 3.279111 | N14: 205541 | O14: =J14*L14/100 -> 3.1160044 | P14: =G14-N14 -> 10759
A15: 2 | B15: Belanja alat dan bahan untuk kegiatan Kantor -bahan Cetak | G15: 100000 | J15: =G15/G22*100 -> 1.5160014 | K15: 100 | L15: =N15/G15*100 -> 70 | M15: =J15*K15/100 -> 1.5160014 | N15: 70000 | O15: =J15*L15/100 -> 1.061201 | P15: =G15-N15 -> 30000
A16: 3 | B16: Belanja Alat dan Bahan untuk kegiatan Kantor- Bahan Komputer | G16: 332000 | J16: =G16/G22*100 -> 5.0331246 | K16: 100 | L16: =N16/G16*100 -> 88.960843 | M16: =J16*K16/100 -> 5.0331246 | N16: 295350 | O16: =J16*L16/100 -> 4.4775101 | P16: =G16-N16 -> 36650
A17: 4 | B17: Belanja Perjalanan Dinas Dalam Negeri | G17: 5948000 | J17: =G17/G22*100 -> 90.171763 | K17: 100 | L17: =N17/G17*100 -> 97.637861 | M17: =J17*K17/100 -> 90.171763 | N17: 5807500 | O17: =J17*L17/100 -> 88.041781 | P17: =G17-N17 -> 140500
A22: TOTAL | G22: =SUM(G14:G21) -> 6596300 | J22: =SUM(J14:J21) -> 100 | K22: =SUM(K14:K20)/6 -> 66.666667 | L22: =N22/G22*100 -> 96.696497 | M22: =SUM(M14:M21) -> 100 | N22: =SUM(N14:N17) -> 6378391 | O22: =SUM(O14:O21) -> 96.696497 | P22: =SUM(P14:P17) -> 217909
L24: Benteng, 9 Desember 2025
L26: Pejabat Pelaksana Teknis Kegiatan
L30: AHMAD ANSAR,S.Sos
L31: NIP. 197907312007011014
A38: Kegiatan | B38: : | C38: Koordinasi dan Fasilitasi Pengadaan PNS dan PPPK
A39: Belanja | B39: : | C39: Langsung
M40: =M8 -> Keadaan Desember 2025
A41: No. Urt | B41: Uraian / Rincian Kegiatan / Target | E41: Lokasi | G41: Jumlah Dana ( Rp ) | H41: Nilai Kontrak ( Rp ) | I41: Nama Pelaksana | J41: Bobot ( % ) | K41: Realisasi Komunikatif ( % ) | M41: Realisasi Tertimbang ( % ) | P41: Sisa Dana (Rp )
E42: Desa / Kel | F42: Kec | K42: Fisik | L42: Keuangan | M42: Fisik | N42: Keuangan
N43: Rp. | O43: %
A44: 1 | B44: 2 | E44: 3 | F44: 4 | G44: 5 | H44: 6 | I44: 7 | J44: 8 | K44: 9 | L44: 10 | M44: 11 | N44: 12 | O44: 13 | P44: 14
A46: 1 | B46: Belanja Alat dan bahan Untuk Kegiatan Kantor- ATK | G46: 536000 | J46: =G46/G56*100 -> 0.65469887 | K46: 100 | L46: =N46/G46*100 -> 93.32444 | M46: =J46*K46/100 -> 0.65469887 | N46: 500219 | O46: =J46*L46/100 -> 0.61099406 | P46: =G46-N46 -> 35781
A47: 2 | B47: Belanja alat dan bahan untuk kegiatan Kantor -Kertas Cover | G47: 922200 | J47: =G47/G56*100 -> 1.1264241 | K47: 100 | L47: =N47/G47*100 -> 80.080243 | M47: =J47*K47/100 -> 1.1264241 | N47: 738500 | O47: =J47*L47/100 -> 0.90204312 | P47: =G47-N47 -> 183700
A48: 3 | B48: Belanja alat dan bahan untuk kegiatan Kantor -bahan Cetak | G48: 956700 | J48: =G48/G56*100 -> 1.1685642 | K48: 100 | L48: =N48/G48*100 -> 88.119055 | M48: =J48*K48/100 -> 1.1685642 | N48: 843035 | O48: =J48*L48/100 -> 1.0297277 | P48: =G48-N48 -> 113665
A49: 4 | B49: Belanja Alat dan Bahan untuk kegiatan Kantor- Bahan Komputer | G49: 1525800 | J49: =G49/G56*100 -> 1.8636932 | K49: 100 | L49: =N49/G49*100 -> 87.589461 | M49: =J49*K49/100 -> 1.8636932 | N49: 1336440 | O49: =J49*L49/100 -> 1.6323988 | P49: =G49-N49 -> 189360
B50: Belanja Alat/Bahan untuk Kegiatan Kantor- Benda Pos | G50: 260000 | J50: =G50/G56*100 -> 0.31757781 | K50: 100 | L50: =N50/G50*100 -> 95.002308 | M50: =J50*K50/100 -> 0.31757781 | N50: 247006 | O50: =J50*L50/100 -> 0.30170625 | P50: =G50-N50 -> 12994
A51: 5 | B51: Belanja Makan dan Minum Rapat | G51: 1200000 | J51: =G51/G56*100 -> 1.4657437 | K51: =N50:N51/G51*100 -> 100 | L51: =N51/G51*100 -> 100 | M51: =J51*K51/100 -> 1.4657437 | N51: 1200000 | O51: =J51*L51/100 -> 1.4657437 | P51: =G51-N51 -> 0
B52: Belanja Makan dan Minum Aktifitas Lapangan | G52: 9300000 | J52: =G52/G56*100 -> 11.359514 | K52: 100 | L52: =N52/G52*100 -> 80.322581 | M52: =J52*K52/100 -> 11.359514 | N52: 7470000 | O52: =J52*L52/100 -> 9.1242548 | P52: =G52-N52 -> 1830000
A53: 6 | B53: Belanja jasa Tenaga Administasi | G53: 3600000 | J53: =G53/G56*100 -> 4.3972312 | K53: =N52:N53/G53*100 -> 100 | L53: =N53/G53*100 -> 100 | M53: =J53*K53/100 -> 4.3972312 | N53: 3600000 | O53: =J53*L53/100 -> 4.3972312 | P53: =G53-N53 -> 0
A54: 7 | B54: Belanja Perjalanan Dinas Dalam Negeri | G54: 63569000 | J54: =G54/G56*100 -> 77.646553 | K54: 100 | L54: =N54/G54*100 -> 99.664459 | M54: =J54*K54/100 -> 77.646553 | N54: 63355700 | O54: =J54*L54/100 -> 77.386017 | P54: =G54-N54 -> 213300
J55: =G55/G56*100 -> 0 | M55: =J55*K55/100 -> 0 | O55: =J55*L55/100 -> 0 | P55: =G55-N55 -> 0
A56: TOTAL | G56: =SUM(G46:G55) -> 81869700 | J56: =SUM(J46:J55) -> 100 | K56: =SUM(K46:K54)/6 -> 150 | L56: =N56/G56*100 -> 96.850117 | M56: =SUM(M46:M54) -> 100 | N56: =SUM(N46:N54) -> 79290900 | O56: =SUM(O46:O55) -> 96.850117 | P56: =SUM(P46:P55) -> 2578800
L58: Benteng, 9 Desember 2025
L60: Pejabat Pelaksana Teknis Kegiatan
L64: =L30 -> AHMAD ANSAR,S.Sos
L65: =L31 -> NIP. 197907312007011014
A72: Kegiatan | B72: : | C72: Evaluasi Pengadaan ASN dan Pengadaan ASN
A73: Belanja | B73: : | C73: Langsung
M74: =M8 -> Keadaan Desember 2025
A75: No. Urt | B75: Uraian / Rincian Kegiatan / Target | E75: Lokasi | G75: Jumlah Dana ( Rp ) | H75: Nilai Kontrak ( Rp ) | I75: Nama Pelaksana | J75: Bobot ( % ) | K75: Realisasi Komunikatif ( % ) | M75: Realisasi Tertimbang ( % ) | P75: Sisa Dana (Rp )
E76: Desa / Kel | F76: Kec | K76: Fisik | L76: Keuangan | M76: Fisik | N76: Keuangan
N77: Rp. | O77: %
A78: 1 | B78: 2 | E78: 3 | F78: 4 | G78: 5 | H78: 6 | I78: 7 | J78: 8 | K78: 9 | L78: 10 | M78: 11 | N78: 12 | O78: 13 | P78: 14
A80: 1 | B80: Belanja Alat dan bahan Untuk Kegiatan Kantor- ATK | G80: 361200 | J80: =G80/G89*100 -> 1.903467 | K80: 100 | L80: =N80/G80*100 -> 89.932171 | M80: =J80*K80/100 -> 1.903467 | N80: 324835 | O80: =J80*L80/100 -> 1.7118292 | P80: =G80-N80 -> 36365
A81: 2 | B81: Belanja alat dan bahan untuk kegiatan Kantor -Kertas Cover | G81: 633900 | J81: =G81/G89*100 -> 3.340553 | K81: 100 | L81: =N81/G81*100 -> 93.4059 | M81: =J81*K81/100 -> 3.340553 | N81: 592100 | O81: =J81*L81/100 -> 3.1202736 | P81: =G81-N81 -> 41800
A82: 3 | B82: Belanja alat dan bahan untuk kegiatan Kantor -bahan Cetak | G82: 342900 | J82: =G82/G89*100 -> 1.8070289 | K82: 100 | L82: =N82/G82*100 -> 86.87664 | M82: =J82*K82/100 -> 1.8070289 | N82: 297900 | O82: =J82*L82/100 -> 1.569886 | P82: =G82-N82 -> 45000
A83: 4 | B83: Belanja Alat dan Bahan untuk kegiatan Kantor- Bahan Komputer | G83: 1765900 | J83: =G83/G89*100 -> 9.3060145 | K83: 100 | L83: =N83/G83*100 -> 93.402797 | M83: =J83*K83/100 -> 9.3060145 | N83: 1649400 | O83: =J83*L83/100 -> 8.6920778 | P83: =G83-N83 -> 116500
A84: 5 | B84: Belanja Makan dan Minum Rapat | J84: =G84/G89*100 -> 0 | M84: =J84*K84/100 -> 0 | O84: =J84*L84/100 -> 0 | P84: =G84-N84 -> 0
A85: 6 | B85: Belanja Perjalanan Dinas Dalam Negeri | G85: 15872000 | J85: =G85/G89*100 -> 83.642937 | K85: 100 | L85: =N85/G85*100 -> 99.091482 | M85: =J85*K85/100 -> 83.642937 | N85: 15727800 | O85: =J85*L85/100 -> 82.883025 | P85: =G85-N85 -> 144200
A89: TOTAL | G89: =SUM(G80:G88) -> 18975900 | J89: =SUM(J80:J88) -> 100 | K89: =SUM(K80:K84)/3 -> 133.33333 | L89: =N89/G89*100 -> 97.977092 | M89: =SUM(M80:M88) -> 100 | N89: =SUM(N80:N85) -> 18592035 | O89: =SUM(O80:O88) -> 97.977092 | P89: =SUM(P80:P85) -> 383865
L91: Benteng, 31 Desember 2025
L93: Pejabat Pelaksana Teknis Kegiatan
L97: =L64 -> AHMAD ANSAR,S.Sos
L98: =L65 -> NIP. 197907312007011014
A111: Kegiatan | B111: : | C111: Koordinasi Pelaksanaan Administrasi Pemberhentian
A112: Belanja | B112: : | C112: Langsung
M113: =M74 -> Keadaan Desember 2025
A114: No. Urt | B114: Uraian / Rincian Kegiatan / Target | E114: Lokasi | G114: Jumlah Dana ( Rp ) | H114: Nilai Kontrak ( Rp ) | I114: Nama Pelaksana | J114: Bobot ( % ) | K114: Realisasi Komunikatif ( % ) | M114: Realisasi Tertimbang ( % ) | P114: Sisa Dana (Rp )
E115: Desa / Kel | F115: Kec | K115: Fisik | L115: Keuangan | M115: Fisik | N115: Keuangan
N116: Rp. | O116: %
A117: 1 | B117: 2 | E117: 3 | F117: 4 | G117: 5 | H117: 6 | I117: 7 | J117: 8 | K117: 9 | L117: 10 | M117: 11 | N117: 12 | O117: 13 | P117: 14
A119: 1 | B119: Belanja Alat /Bahan untuk Kegiatan Kantor Alat Tulis Kantor | G119: 168500 | J119: =G119/G131*100 -> 1.4914012 | K119: 100 | L119: =N119/G119*100 -> 95.21365 | M119: =J119*K119/100 -> 1.4914012 | N119: 160435 | O119: =J119*L119/100 -> 1.4200175 | P119: =G119-N119 -> 8065
A120: 2 | B120: Belanja Alat /Bahan untuk Kegiatan Kantor- Kertas dan Cover | G120: 391600 | J120: =G120/G131*100 -> 3.4660695 | K120: 100 | L120: =N120/G120*100 -> 91.317671 | M120: =J120*K120/100 -> 3.4660695 | N120: 357600 | O120: =J120*L120/100 -> 3.165134 | P120: =G120-N120 -> 34000
A121: 3 | B121: Belanja Alat /Bahan untuk Kegiatan Kantor- Bahan Cetak | G121: 225000 | J121: =G121/G131*100 -> 1.9914853 | K121: 100 | L121: =N121/G121*100 -> 69.930222 | M121: =J121*K121/100 -> 1.9914853 | N121: 157343 | O121: =J121*L121/100 -> 1.3926501 | P121: =G121-N121 -> 67657
A122: 4 | B122: Belanja Alat dan Bahan untuk kegiatan Kantor- Bahan Komputer | G122: 325000 | J122: =G122/G131*100 -> 2.8765899 | K122: 100 | L122: =N122/G122*100 -> 85.384615 | M122: =J122*K122/100 -> 2.8765899 | N122: 277500 | O122: =J122*L122/100 -> 2.4561652 | P122: =G122-N122 -> 47500
A123: 5 | B123: Belanja Jasa Tenaga Administrasi | G123: 4800000 | J123: =G123/G131*100 -> 42.48502 | K123: =N122:N123/G123*100 -> 100 | L123: =N123/G123*100 -> 100 | M123: =J123*K123/100 -> 42.48502 | N123: 4800000 | O123: =J123*L123/100 -> 42.48502 | P123: =G123-N123 -> 0
A124: 6 | B124: Belanja Perjalanan Dinas Biasa (Luar Daerah) | G124: 5388000 | J124: =G124/G131*100 -> 47.689435 | K124: 100 | L124: =N124/G124*100 -> 83.036377 | M124: =J124*K124/100 -> 47.689435 | N124: 4474000 | O124: =J124*L124/100 -> 39.599579 | P124: =G124-N124 -> 914000
A131: TOTAL | G131: =SUM(G119:G130) -> 11298100 | J131: =SUM(J119:J130) -> 100 | K131: =SUM(K119:K124)/6 -> 100 | L131: =N131/G131*100 -> 90.518565 | M131: =SUM(M119:M130) -> 100 | N131: =SUM(N119:N124) -> 10226878 | O131: =SUM(O119:O130) -> 90.518565 | P131: =SUM(P119:P124) -> 1071222
L133: Benteng, 31 Desember 2025
L135: Pejabat Pelaksana Teknis Kegiatan
L139: =L64 -> AHMAD ANSAR,S.Sos
L140: =L65 -> NIP. 197907312007011014
A144: Kegiatan | B144: : | C144: Fasilitasi Lembaga Profesi ASN
A145: Belanja | B145: : | C145: Langsung
M146: =M74 -> Keadaan Desember 2025
A147: No. Urt | B147: Uraian / Rincian Kegiatan / Target | E147: Lokasi | G147: Jumlah Dana ( Rp ) | H147: Nilai Kontrak ( Rp ) | I147: Nama Pelaksana | J147: Bobot ( % ) | K147: Realisasi Komunikatif ( % ) | M147: Realisasi Tertimbang ( % ) | P147: Sisa Dana (Rp )
E148: Desa / Kel | F148: Kec | K148: Fisik | L148: Keuangan | M148: Fisik | N148: Keuangan
N149: Rp. | O149: %
A150: 1 | B150: 2 | E150: 3 | F150: 4 | G150: 5 | H150: 6 | I150: 7 | J150: 8 | K150: 9 | L150: 10 | M150: 11 | N150: 12 | O150: 13 | P150: 14
A153: 1 | B153: Belanja Alat dan bahan Untuk Kegiatan Kantor- ATK | G153: 369900 | J153: =G153/G166*100 -> 1.0660926 | K153: 100 | L153: =N153/G153*100 -> 64.720195 | M153: =J153*K153/100 -> 1.0660926 | N153: 239400 | O153: =J153*L153/100 -> 0.68997717 | P153: =G153-N153 -> 130500
A154: 2 | B154: Belanja alat dan bahan untuk kegiatan Kantor -Kertas Cover | G154: 708900 | J154: =G154/G166*100 -> 2.0431279 | K154: 100 | L154: 91.79 | M154: =J154*K154/100 -> 2.0431279 | N154: 650700 | O154: =J154*L154/100 -> 1.8753871 | P154: =G154-N154 -> 58200
A155: 3 | B155: Belanja alat dan bahan untuk kegiatan Kantor -bahan Cetak | G155: 253000 | J155: =G155/G166*100 -> 0.72917387 | K155: 100 | L155: 91.79 | M155: =J155*K155/100 -> 0.72917387 | N155: 175000 | O155: =J155*L155/100 -> 0.6693087 | P155: =G155-N155 -> 78000
A156: 4 | B156: Belanja Alat dan Bahan untuk kegiatan Kantor- Bahan Komputer | G156: 650000 | J156: =G156/G166*100 -> 1.8733716 | K156: 100 | L156: =N156/G156*100 -> 85.384615 | M156: =J156*K156/100 -> 1.8733716 | N156: 555000 | O156: =J156*L156/100 -> 1.5995711 | P156: =G156-N156 -> 95000
A157: 5 | B157: Belanja Makan dan Minum Rapat | G157: 720000 | J157: =G157/G166*100 -> 2.0751193 | K157: =N156:N157/G157*100 -> 100 | M157: =J157*K157/100 -> 2.0751193 | N157: 720000 | O157: =J157*L157/100 -> 0 | P157: =G157-N157 -> 0
A158: 7 | B158: Belanja Jasa Teaga Administrasi | G158: 4800000 | J158: =G158/G166*100 -> 13.834129 | K158: =N158:N158/G158*100 -> 100 | L158: =N158/G158*100 -> 100 | M158: =J158*K158/100 -> 13.834129 | N158: 4800000 | O158: =J158*L158/100 -> 13.834129 | P158: =G158-N158 -> 0
A159: 8 | B159: Belanja Perjalanan Dinas Dalam Negeri | G159: 27195000 | J159: =G159/G166*100 -> 78.378986 | K159: 100 | L159: =N159/G159*100 -> 99.578967 | M159: =J159*K159/100 -> 78.378986 | N159: 27080500 | O159: =J159*L159/100 -> 78.048984 | P159: =G159-N159 -> 114500
A166: TOTAL | G166: =SUM(G153:G165) -> 34696800 | J166: =SUM(J152:J165) -> 100 | K166: =SUM(K153:K154)/7 -> 28.571429 | L166: =N166/G166*100 -> 98.627539 | M166: =SUM(M152:M163) -> 100 | N166: =SUM(N153:N159) -> 34220600 | O166: =SUM(O151:O165) -> 96.717357 | P166: =SUM(P153:P159) -> 476200
L168: Benteng, 31 Desember 2025
L170: Pejabat Pelaksana Teknis Kegiatan
L174: =L64 -> AHMAD ANSAR,S.Sos
L178: =L65 -> NIP. 197907312007011014
A183: Kegiatan | B183: : | C183: Pengelolaan Data Kepegawaian
A184: Belanja | B184: : | C184: Langsung
M185: =M74 -> Keadaan Desember 2025
...

Sheet B' LIA
A1: REALISASI FISIK DAN KEUANGAN
A2: APBD KABUPATEN KEPULAUAN SELAYAR
A3: TAHUN ANGGARAN 2025
A4: SKPD | B4: : | C4: Badan Kepegawaian dan Pengembangan Sumber Daya Manusia
A5: Kegiatan | B5: : | C5: Penyedian Gaji dan Tunjangan ASN
A6: Belanja | B6: : | C6: Langsung
M7: ='B'' IDA'!M8 -> Keadaan Desember 2025
A8: No. Urt | B8: Uraian / Rincian Kegiatan / Target | E8: Lokasi | G8: Jumlah Dana ( Rp ) | H8: Nilai Kontrak ( Rp ) | I8: Nama Pelaksana | J8: Bobot ( % ) | K8: Realisasi Komunikatif ( % ) | M8: Realisasi Tertimbang ( % ) | P8: Sisa Dana (Rp )
E9: Desa / Kel | F9: Kec | K9: Fisik | L9: Keuangan | M9: Fisik | N9: Keuangan
N10: Rp. | O10: %
A11: 1 | B11: 2 | E11: 3 | F11: 4 | G11: 5 | H11: 6 | I11: 7 | J11: 8 | K11: 9 | L11: 10 | M11: 11 | N11: 12 | O11: 13 | P11: 14
A13: 1 | B13: Belanja Gaji pokok PNS | G13: 2070000000 | J13: =G13/G32*100 -> 54.002949 | K13: 100 | L13: =N13/G13*100 -> 96.305693 | M13: =J13*K13/100 -> 54.002949 | N13: 1993527846 | O13: =J13*L13/100 -> 52.007914 | P13: =G13-N13 -> 76472154
A14: 2 | B14: Belanja Gaji pokok PPPK | G14: 180000000 | J14: =G14/G32*100 -> 4.6959086 | K14: 100 | L14: =N14/G14*100 -> 93.981276 | M14: =J14*K14/100 -> 4.6959086 | N14: 169166296 | O14: =J14*L14/100 -> 4.4132748 | P14: =G14-N14 -> 10833704
A15: 3 | B15: Belanja Tunjangan keluarga PNS | G15: 152000000 | J15: =G15/G32*100 -> 3.9654339 | K15: 100 | L15: =N15/G15*100 -> 94.200297 | M15: =J15*K15/100 -> 3.9654339 | N15: 143184452 | O15: =J15*L15/100 -> 3.7354506 | P15: =G15-N15 -> 8815548
A16: 4 | B16: Belanja Tunjangan keluarga PPPK | G16: 9000000 | J16: =G16/G32*100 -> 0.23479543 | K16: 100 | L16: =N16/G16*100 -> 0 | M16: =J16*K16/100 -> 0.23479543 | O16: =J16*L16/100 -> 0 | P16: =G16-N16 -> 9000000
A17: 5 | B17: Belanja Tunjangan Jabatan PNS | G17: 100000000 | J17: =G17/G32*100 -> 2.6088381 | K17: 100 | L17: =N17/G17*100 -> 91.155 | M17: =J17*K17/100 -> 2.6088381 | N17: 91155000 | O17: =J17*L17/100 -> 2.3780864 | P17: =G17-N17 -> 8845000
A18: 6 | B18: Belanja Tunjangan Fungsional PNS | G18: 170000000 | J18: =G18/G32*100 -> 4.4350248 | K18: 100 | L18: =N18/G18*100 -> 98.4 | M18: =J18*K18/100 -> 4.4350248 | N18: 167280000 | O18: =J18*L18/100 -> 4.3640644 | P18: =G18-N18 -> 2720000
A19: 7 | B19: Belanja Tunjangan Funsional Umum PNS | G19: 50000000 | J19: =G19/G32*100 -> 1.3044191 | K19: 100 | L19: =N19/G19*100 -> 86.46 | M19: =J19*K19/100 -> 1.3044191 | N19: 43230000 | O19: =J19*L19/100 -> 1.1278007 | P19: =G19-N19 -> 6770000
A20: 8 | B20: Belanja Tunjangan Funsional Umum PPPK | G20: 15000000 | J20: =G20/G32*100 -> 0.39132572 | K20: 100 | L20: =N20/G20*100 -> 68.29166 | M20: =J20*K20/100 -> 0.39132572 | N20: 10243749 | O20: =J20*L20/100 -> 0.26724283 | P20: =G20-N20 -> 4756251
A21: 9 | B21: Belanja Tunjangan Beras ASN DAN PPPK | G21: 106000000 | J21: =G21/G32*100 -> 2.7653684 | K21: 100 | L21: =N21/G21*100 -> 93.787316 | M21: =J21*K21/100 -> 2.7653684 | N21: 99414555 | O21: =J21*L21/100 -> 2.5935648 | P21: =G21-N21 -> 6585445
A22: 11 | B22: Belanja TunjanganPPh/Tunjangan Khusus ASN | G22: 15300000 | J22: =G22/G32*100 -> 0.39915223 | K22: 100 | L22: =N22/G22*100 -> 83.541196 | M22: =J22*K22/100 -> 0.39915223 | N22: 12781803 | O22: =J22*L22/100 -> 0.33345655 | P22: =G22-N22 -> 2518197
A23: 12 | B23: Belanja Pembulatan Gaji PNS DAN PPPK | G23: 200000 | J23: =G23/G32*100 -> 0.0052176762 | K23: 100 | L23: =N23/G23*100 -> 16.3395 | M23: =J23*K23/100 -> 0.0052176762 | N23: 32679 | O23: =J23*L23/100 -> 0.00085254221 | P23: =G23-N23 -> 167321
A24: 14 | B24: Belanja iuran Jaminan Kesehatan PNS | G24: 130000000 | J24: =G24/G32*100 -> 3.3914896 | K24: 100 | L24: =N24/G24*100 -> 87.525966 | M24: =J24*K24/100 -> 3.3914896 | N24: 113783756 | O24: =J24*L24/100 -> 2.968434 | P24: =G24-N24 -> 16216244
A25: 15 | B25: Belanja Iuran Jaminan Kesehatan PPPK | G25: 9500000 | J25: =G25/G32*100 -> 0.24783962 | K25: 100 | L25: =N25/G25*100 -> 67.229726 | M25: =J25*K25/100 -> 0.24783962 | N25: 6386824 | O25: =J25*L25/100 -> 0.1666219 | P25: =G25-N25 -> 3113176
A26: 16 | B26: Belanja iuran Jaminan kecelakaan PNS dan PPPK | G26: 8700000 | J26: =G26/G32*100 -> 0.22696892 | K26: 100 | L26: =N26/G26*100 -> 51.140621 | M26: =J26*K26/100 -> 0.22696892 | N26: 4449234 | O26: =J26*L26/100 -> 0.11607331 | P26: =G26-N26 -> 4250766
A27: 17 | B27: Belanja Iuran Jaminan Kematian PNS dan PPPK | G27: 17000000 | J27: =G27/G32*100 -> 0.44350248 | K27: 100 | L27: =N27/G27*100 -> 78.515876 | M27: =J27*K27/100 -> 0.44350248 | N27: 13347699 | O27: =J27*L27/100 -> 0.34821986 | P27: =G27-N27 -> 3652301
A28: 18 | B28: Belanja Iuran Simpanan Peserta Tabungan Perumahan Rakyat PNS | J28: =G28/G32*100 -> 0 | P28: =G28-N28 -> 0
A29: 19 | B29: Tambahan Penghasilan Berdasarkan Beban kerja PNS | G29: 800424000 | J29: =G29/G32*100 -> 20.881766 | K29: 100 | L29: =N29/G29*100 -> 94.626042 | M29: =J29*K29/100 -> 20.881766 | N29: 757409553 | O29: =J29*L29/100 -> 19.759589 | P29: =G29-N29 -> 43014447
O30: =J30*L30/100 -> 0 | P30: =G30-N30 -> 0
A32: TOTAL | G32: =SUM(G13:G30) -> 3833124000 | J32: =SUM(J13:J31) -> 100 | K32: =SUM(K13:K13)/4 -> 25 | L32: =N32/G32*100 -> 94.580646 | M32: =SUM(M13:M29) -> 100 | N32: =SUM(N13:N30) -> 3625393446 | O32: =SUM(O13:O30) -> 94.580646 | P32: =SUM(P13:P30) -> 207730554
L34: ='B'' IDA'!L28 -> Benteng, 31 Desember 2025
L36: Pejabat Pelaksana Teknis Kegiatan
L39: ANDI NURWALIYAH,SE
L40: NIP. 197601022005022005
A43: Kegiatan | B43: : | C43: Penyediaan Administrasi Pelaksanaan Tugas ASN
A44: Belanja | B44: : | C44: Langsung
M45: ='B'' IDA'!M8 -> Keadaan Desember 2025
A46: No. Urt | B46: Uraian / Rincian Kegiatan / Target | E46: Lokasi | G46: Jumlah Dana ( Rp ) | H46: Nilai Kontrak ( Rp ) | I46: Nama Pelaksana | J46: Bobot ( % ) | K46: Realisasi Komunikatif ( % ) | M46: Realisasi Tertimbang ( % ) | P46: Sisa Dana (Rp )
E47: Desa / Kel | F47: Kec | K47: Fisik | L47: Keuangan | M47: Fisik | N47: Keuangan
N48: Rp. | O48: %
A49: 1 | B49: 2 | E49: 3 | F49: 4 | G49: 5 | H49: 6 | I49: 7 | J49: 8 | K49: 9 | L49: 10 | M49: 11 | N49: 12 | O49: 13 | P49: 14
A51: 1 | B51: Belanja Alat/ Bahan untuk kegiatan Alat Tulis Kantor | G51: 584900 | J51: =G51/G63*100 -> 0.94542128 | K51: 100 | L51: =N51/G51*100 -> 93.770559 | M51: =J51*K51/100 -> 0.94542128 | N51: 548464 | O51: =J51*L51/100 -> 0.88652682 | P51: =G51-N51 -> 36436
A52: 2 | B52: Belanja Alat/ Bahan untuk kegiatan Kantor Kertas dan Cover | G52: 1506400 | J52: =G52/G63*100 -> 2.4349164 | K52: 100 | L52: =N52/G52*100 -> 90.95393 | M52: =J52*K52/100 -> 2.4349164 | N52: 1370130 | O52: =J52*L52/100 -> 2.2146522 | P52: =G52-N52 -> 136270
A53: 3 | B53: Belanja Alat/Bahan untuk kegiatan Kantor Bahan Cetak | G53: 912300 | J53: =G53/G63*100 -> 1.4746244 | K53: 100 | L53: =N53/G53*100 -> 99.900033 | M53: =J53*K53/100 -> 1.4746244 | N53: 911388 | O53: =J53*L53/100 -> 1.4731503 | P53: =G53-N53 -> 912
A54: 4 | B54: Belanja Alat/Bahan untuk kegiatan Kantor - Bahan Komputer | G54: 6175000 | J54: =G54/G63*100 -> 9.981153 | K54: 100 | L54: =N54/G54*100 -> 88.306381 | M54: =J54*K54/100 -> 9.981153 | N54: 5452919 | O54: =J54*L54/100 -> 8.813995 | P54: =G54-N54 -> 722081
A55: 5 | B55: Belanja Alat/Bahan untuk kegiatan Kantor - Benda Pos | J55: =G55/G63*100 -> 0 | M55: =J55*K55/100 -> 0 | O55: =J55*L55/100 -> 0 | P55: =G55-N55 -> 0
A56: 6 | B56: Belanja Jasa Tenaga Administrasi | G56: 4800000 | J56: =G56/G63*100 -> 7.7586291 | K56: =N56/G56*100 -> 100 | L56: =N56/G56*100 -> 100 | M56: =J56*K56/100 -> 7.7586291 | N56: 4800000 | O56: =J56*L56/100 -> 7.7586291 | P56: =G56-N56 -> 0
A57: 7 | B57: Belanja Jasa Tenaga Kebersihan | G57: 9000000 | J57: =G57/G63*100 -> 14.547429 | K57: =N57/G57*100 -> 100 | L57: =N57/G57*100 -> 100 | M57: =J57*K57/100 -> 14.547429 | N57: 9000000 | O57: =J57*L57/100 -> 14.547429 | P57: =G57-N57 -> 0
A58: 8 | B58: Belanja Jasa Tenaga Operator Kumputer | G58: 17000000 | J58: =G58/G63*100 -> 27.478478 | K58: =N58/G58*100 -> 100 | L58: =N58/G58*100 -> 100 | M58: =J58*K58/100 -> 27.478478 | N58: 17000000 | O58: =J58*L58/100 -> 27.478478 | P58: =G58-N58 -> 0
A59: 9 | B59: Belanja Jasa Tenaga Supir | G59: 9000000 | J59: =G59/G63*100 -> 14.547429 | K59: =N59/G59*100 -> 100 | L59: =N59/G59*100 -> 100 | M59: =J59*K59/100 -> 14.547429 | N59: 9000000 | O59: =J59*L59/100 -> 14.547429 | P59: =G59-N59 -> 0
A60: 10 | B60: Belanja Jasa Transaksi Keuangan | G60: 9000000 | J60: =G60/G63*100 -> 14.547429 | K60: =N60/G60*100 -> 100 | L60: =N60/G60*100 -> 100 | M60: =J60*K60/100 -> 14.547429 | N60: 9000000 | O60: =J60*L60/100 -> 14.547429 | P60: =G60-N60 -> 0
A61: 11 | B61: Belanja Iuran Jaminan Kecelakaan Kerja Bagi Non ASN | G61: 3888000 | J61: =G61/G63*100 -> 6.2844895 | K61: 100 | L61: =N61/G61*100 -> 79.444444 | M61: =J61*K61/100 -> 6.2844895 | N61: 3088800 | O61: =J61*L61/100 -> 4.9926778 | P61: =G61-N61 -> 799200
A63: TOTAL | G63: =SUM(G51:G61) -> 61866600 | J63: =SUM(J51:J62) -> 100 | K63: =SUM(K51:K56)/3 -> 166.66667 | L63: =N63/G63*100 -> 97.260397 | M63: =SUM(M51:M61) -> 100 | N63: =SUM(N51:N61) -> 60171701 | O63: =SUM(O51:O62) -> 97.260397 | P63: =SUM(P51:P61) -> 1694899
L65: ='B'' IDA'!L28 -> Benteng, 31 Desember 2025
L67: Pejabat Pelaksana Teknis Kegiatan
L71: ANDI NURWALIYAH,SE
L72: NIP. 197601022005022005
A84: Kegiatan | B84: : | C84: Koordinasi dan Pelaksanaan Angkuntansi SKPD
A85: Belanja | B85: : | C85: Langsung
M86: ='B'' IDA'!M8 -> Keadaan Desember 2025
A87: No. Urt | B87: Uraian / Rincian Kegiatan / Target | E87: Lokasi | G87: Jumlah Dana ( Rp ) | H87: Nilai Kontrak ( Rp ) | I87: Nama Pelaksana | J87: Bobot ( % ) | K87: Realisasi Komunikatif ( % ) | M87: Realisasi Tertimbang ( % ) | P87: Sisa Dana (Rp )
E88: Desa / Kel | F88: Kec | K88: Fisik | L88: Keuangan | M88: Fisik | N88: Keuangan
N89: Rp. | O89: %
A90: 1 | B90: 2 | E90: 3 | F90: 4 | G90: 5 | H90: 6 | I90: 7 | J90: 8 | K90: 9 | L90: 10 | M90: 11 | N90: 12 | O90: 13 | P90: 14
A92: 1 | B92: Belanja Alat/ Bahan untuk kegiatan Alat Tulis Kantor | G92: 1505700 | J92: =G92/G98*100 -> 11.224338 | K92: 100 | L92: =N92/G92*100 -> 91.765093 | M92: =J92*K92/100 -> 11.224338 | N92: 1381707 | O92: =J92*L92/100 -> 10.300024 | P92: =G92-N92 -> 123993
A93: 2 | B93: Belanja Alat/ Bahan untuk kegiatan Kantor Kertas dan Cover | G93: 4403200 | J93: =G93/G98*100 -> 32.823938 | K93: 100 | L93: =N93/G93*100 -> 91.996684 | M93: =J93*K93/100 -> 32.823938 | N93: 4050798 | O93: =J93*L93/100 -> 30.196935 | P93: =G93-N93 -> 352402
A94: 3 | B94: Belanja Alat/Bahan untuk kegiatan Kantor Bahan Cetak | G94: 1987800 | J94: =G94/G98*100 -> 14.818183 | K94: 100 | L94: =N94/G94*100 -> 99.89999 | M94: =J94*K94/100 -> 14.818183 | N94: 1985812 | O94: =J94*L94/100 -> 14.803363 | P94: =G94-N94 -> 1988
A95: 4 | B95: Belanja Alat/Bahan untuk kegiatan Kantor - Bahan Komputer | G95: 5517900 | J95: =G95/G98*100 -> 41.133541 | K95: 100 | L95: =N95/G95*100 -> 87.884866 | M95: =J95*K95/100 -> 41.133541 | N95: 4849399 | O95: =J95*L95/100 -> 36.150157 | P95: =G95-N95 -> 668501
A98: TOTAL | G98: =SUM(G92:G97) -> 13414600 | J98: =SUM(J92:J95) -> 100 | K98: =SUM(K92:K95)/3 -> 133.33333 | L98: =N98/G98*100 -> 91.450479 | M98: =SUM(M92:M95) -> 100 | N98: =SUM(N92:N95) -> 12267716 | O98: =SUM(O92:O95) -> 91.450479 | P98: =SUM(P92:P95) -> 1146884
L100: ='B'' IDA'!L28 -> Benteng, 31 Desember 2025
L102: Pejabat Pelaksana Teknis Kegiatan
L106: ANDI NURWALIYAH,SE
L107: NIP. 197601022005022005
A124: Kegiatan | B124: : | C124: Koordinasi dan Penyusunan Laporan Keuangan Akhir Tahun SKPD
A125: Belanja | B125: : | C125: Langsung
M126: ='B'' IDA'!M8 -> Keadaan Desember 2025
A127: No. Urt | B127: Uraian / Rincian Kegiatan / Target | E127: Lokasi | G127: Jumlah Dana ( Rp ) | H127: Nilai Kontrak ( Rp ) | I127: Nama Pelaksana | J127: Bobot ( % ) | K127: Realisasi Komunikatif ( % ) | M127: Realisasi Tertimbang ( % ) | P127: Sisa Dana (Rp )
E128: Desa / Kel | F128: Kec | K128: Fisik | L128: Keuangan | M128: Fisik | N128: Keuangan
N129: Rp. | O129: %
A130: 1 | B130: 2 | E130: 3 | F130: 4 | G130: 5 | H130: 6 | I130: 7 | J130: 8 | K130: 9 | L130: 10 | M130: 11 | N130: 12 | O130: 13 | P130: 14
A132: 1 | B132: Belanja Alat/ Bahan untuk kegiatan Alat Tulis Kantor | G132: 334000 | J132: =G132/G138*100 -> 13.354658 | K132: 100 | L132: =N132/G132*100 -> 92.170659 | M132: =J132*K132/100 -> 13.354658 | N132: 307850 | O132: =J132*L132/100 -> 12.309076 | P132: =G132-N132 -> 26150
A133: 2 | B133: Belanja Alat/ Bahan untuk kegiatan Kantor Kertas dan Cover | G133: 795000 | J133: =G133/G138*100 -> 31.787285 | K133: 100 | L133: =N133/G133*100 -> 92.893082 | M133: =J133*K133/100 -> 31.787285 | N133: 738500 | O133: =J133*L133/100 -> 29.528189 | P133: =G133-N133 -> 56500
A134: 3 | B134: Belanja Alat/Bahan untuk kegiatan Kantor Bahan Cetak | G134: 722000 | J134: =G134/G138*100 -> 28.868453 | K134: 100 | L134: =N134/G134*100 -> 97.470914 | M134: =J134*K134/100 -> 28.868453 | N134: 703740 | O134: =J134*L134/100 -> 28.138345 | P134: =G134-N134 -> 18260
A135: 4 | B135: Belanja Alat/Bahan untuk kegiatan Kantor - Bahan Komputer | G135: 650000 | J135: =G135/G138*100 -> 25.989604 | K135: 100 | L135: =N135/G135*100 -> 85.384615 | M135: =J135*K135/100 -> 25.989604 | N135: 555000 | O135: =J135*L135/100 -> 22.191124 | P135: =G135-N135 -> 95000
A138: TOTAL | G138: =SUM(G132:G135) -> 2501000 | J138: =SUM(J132:J137) -> 100 | K138: =SUM(K132:K134)/3 -> 100 | L138: =N138/G138*100 -> 92.166733 | M138: =SUM(M132:M136) -> 100 | N138: =SUM(N132:N135) -> 2305090 | O138: =SUM(O132:O135) -> 92.166733 | P138: =SUM(P132:P136) -> 195910
L140: ='B'' IDA'!L28 -> Benteng, 31 Desember 2025
L142: Pejabat Pelaksana Teknis Kegiatan
L146: ANDI NURWALIYAH,SE
L147: NIP. 197601022005022005
A164: Kegiatan | B164: : | C164: Penyusunan Pelaporan dan Analisis Prognosis Realisasi Anggaran
A165: Belanja | B165: : | C165: Langsung
M166: ='B'' IDA'!M8 -> Keadaan Desember 2025
A167: No. Urt | B167: Uraian / Rincian Kegiatan / Target | E167: Lokasi | G167: Jumlah Dana ( Rp ) | H167: Nilai Kontrak ( Rp ) | I167: Nama Pelaksana | J167: Bobot ( % ) | K167: Realisasi Komunikatif ( % ) | M167: Realisasi Tertimbang ( % ) | P167: Sisa Dana (Rp )
E168: Desa / Kel | F168: Kec | K168: Fisik | L168: Keuangan | M168: Fisik | N168: Keuangan
N169: Rp. | O169: %
A170: 1 | B170: 2 | E170: 3 | F170: 4 | G170: 5 | H170: 6 | I170: 7 | J170: 8 | K170: 9 | L170: 10 | M170: 11 | N170: 12 | O170: 13 | P170: 14
A172: 1 | B172: Belanja Alat/ Bahan untuk kegiatan Alat Tulis Kantor | G172: 1187150 | J172: =G172/G181*100 -> 17.281336 | K172: 100 | L172: =N172/G172*100 -> 93.362086 | M172: =J172*K172/100 -> 17.281336 | N172: 1108348 | O172: =J172*L172/100 -> 16.134215 | P172: =G172-N172 -> 78802
A173: 2 | B173: Belanja Alat/ Bahan untuk kegiatan Kantor Kertas dan Cover | G173: 2056500 | J173: =G173/G181*100 -> 29.936459 | K173: 100 | L173: =N173/G173*100 -> 92.567469 | M173: =J173*K173/100 -> 29.936459 | N173: 1903650 | O173: =J173*L173/100 -> 27.711422 | P173: =G173-N173 -> 152850
A174: 3 | B174: Belanja Alat/Bahan untuk kegiatan Kantor Bahan Cetak | G174: 375900 | J174: =G174/G181*100 -> 5.4719741 | K174: 100 | L174: =N174/G174*100 -> 93.01676 | M174: =J174*K174/100 -> 5.4719741 | N174: 349650 | O174: =J174*L174/100 -> 5.089853 | P174: =G174-N174 -> 26250
A175: 4 | B175: Belanja Alat/Bahan untuk kegiatan Kantor - Bahan Komputer | G175: 3250000 | J175: =G175/G181*100 -> 47.310231 | K175: 100 | L175: =N175/G175*100 -> 88.160308 | M175: =J175*K175/100 -> 47.310231 | N175: 2865210 | O175: =J175*L175/100 -> 41.708846 | P175: =G175-N175 -> 384790
...

Sheet B' IDA
A1: REALISASI FISIK DAN KEUANGAN
A2: APBD KABUPATEN KEPULAUAN SELAYAR
A3: TAHUN ANGGARAN 2025
A5: SKPD | B5: : | C5: Badan Kepegawaian dan Pengembangan Sumber Daya Manusia
A6: Kegiatan | B6: : | C6: Penatausahaan Barang Milik Daerah pada SKPD
A7: Belanja | B7: : | C7: Langsung
M8: Keadaan Desember 2025
A9: No. Urt | B9: Uraian / Rincian Kegiatan / Target | E9: Lokasi | G9: Jumlah Dana (Rp) | H9: Nilai Kontrak ( Rp ) | I9: Nama Pelaksana | J9: Bobot ( % ) | K9: Realisasi Komunikatif ( % ) | M9: Realisasi Tertimbang ( % ) | P9: Sisa Dana (Rp )
E10: Desa / Kel | F10: Kec | K10: Fisik | L10: Keuangan | M10: Fisik | N10: Keuangan
N11: Rp. | O11: %
A12: 1 | B12: 2 | E12: 3 | F12: 4 | G12: 5 | H12: 6 | I12: 7 | J12: 8 | K12: 9 | L12: 10 | M12: 11 | N12: 12 | O12: 13 | P12: 14
A14: 1 | B14: Belanja Alat/Bahan Untuk Kegiatan Kantor-Alat Tulis Kantor | G14: 697700 | J14: =G14/G25*100 -> 6.4472906 | K14: 100 | L14: =N14/G14*100 -> 92.314605 | M14: =J14*K14/100 -> 6.4472906 | N14: 644079 | O14: =J14*L14/100 -> 5.9517909 | P14: =G14-N14 -> 53621
A15: 2 | B15: Belanja alat bahan untuk kegiatan kantor -kertas dan Cover | G15: 384500 | J15: =G15/G25*100 -> 3.553079 | K15: 100 | L15: =N15/G15*100 -> 90.689207 | M15: =J15*K15/100 -> 3.553079 | N15: 348700 | O15: =J15*L15/100 -> 3.2222592 | P15: =G15-N15 -> 35800
A16: 3 | B16: Belanja Alat /Bahan Untuk Kegiatan Kantor- Bahan Cetak | G16: 999500 | J16: =G16/G25*100 -> 9.2361573 | K16: 100 | L16: =N16/G16*100 -> 69.929965 | M16: =J16*K16/100 -> 9.2361573 | N16: 698950 | O16: =J16*L16/100 -> 6.4588416 | P16: =G16-N16 -> 300550
A17: 4 | B17: Belanja Alat /bahan Untuk Kegiatan Kantor- Bahan komputer | G17: 1539900 | J17: =G17/G25*100 -> 14.229874 | K17: 100 | L17: =N17/G17*100 -> 93.551529 | M17: =J17*K17/100 -> 14.229874 | N17: 1440600 | O17: =J17*L17/100 -> 13.312264 | P17: =G17-N17 -> 99300
A18: 5 | B18: Belanja Jasa Tenaga Administrasi | G18: 7200000 | J18: =G18/G25*100 -> 66.533599 | K18: =N18/G18*100 -> 100 | L18: =N18/G18*100 -> 100 | M18: =J18*K18/100 -> 66.533599 | N18: 7200000 | O18: =J18*L18/100 -> 66.533599 | P18: =G18-N18 -> 0
A25: TOTAL | G25: =SUM(G14:G24) -> 10821600 | J25: =SUM(J14:J24) -> 100 | K25: =SUM(K14:K24)/3 -> 166.66667 | L25: =N25/G25*100 -> 95.478755 | M25: =SUM(M14:M24) -> 100 | N25: =SUM(N14:N18) -> 10332329 | O25: =SUM(O14:O24) -> 95.478755 | P25: =SUM(P14:P24) -> 489271
L28: Benteng, 31 Desember 2025
L30: Pejabat Pelaksana Teknis Kegiatan
L34: NURWAHIDA, S.Sos
L35: NIP. 19761231 200701 2 040
A37: Kegiatan | B37: : | C37: Pendataan dan Pengolahan Administrasi Kepegawaian
A38: Belanja | B38: : | C38: Langsung
M39: Keadaan Desember 2025
A40: No. Urt | B40: Uraian / Rincian Kegiatan / Target | E40: Lokasi | G40: Jumlah Dana (Rp) | H40: Nilai Kontrak ( Rp ) | I40: Nama Pelaksana | J40: Bobot ( % ) | K40: Realisasi Komunikatif ( % ) | M40: Realisasi Tertimbang ( % ) | P40: Sisa Dana (Rp )
E41: Desa / Kel | F41: Kec | K41: Fisik | L41: Keuangan | M41: Fisik | N41: Keuangan
N42: Rp. | O42: %
A43: 1 | B43: 2 | E43: 3 | F43: 4 | G43: 5 | H43: 6 | I43: 7 | J43: 8 | K43: 9 | L43: 10 | M43: 11 | N43: 12 | O43: 13 | P43: 14
A45: 1 | B45: Belanja Alat/Bahan Untuk Kegiatan Kantor-Alat Tulis Kantor | G45: 725100 | J45: =G45/G53*100 -> 8.6115367 | K45: 100 | L45: =N45/G45*100 -> 84.710109 | M45: =J45*K45/100 -> 8.6115367 | N45: 614233 | O45: =J45*L45/100 -> 7.2948421 | P45: =G45-N45 -> 110867
A46: 2 | B46: Belanja alat bahan untuk kegiatan kantor -kertas dan Cover | G46: 802000 | J46: =G46/G53*100 -> 9.5248275 | K46: 100 | L46: =N46/G46*100 -> 73.630923 | M46: =J46*K46/100 -> 9.5248275 | N46: 590520 | O46: =J46*L46/100 -> 7.0132184 | P46: =G46-N46 -> 211480
A47: 3 | B47: Belanja Alat /Bahan Untuk Kegiatan Kantor- Bahan Cetak | G47: 1456700 | J47: =G47/G53*100 -> 17.30027 | K47: 100 | L47: =N47/G47*100 -> 72.676186 | M47: =J47*K47/100 -> 17.30027 | N47: 1058674 | O47: =J47*L47/100 -> 12.573176 | P47: =G47-N47 -> 398026
A48: 4 | B48: Belanja Alat /bahan Untuk Kegiatan Kantor- Bahan komputer | G48: 1836300 | J48: =G48/G53*100 -> 21.80853 | K48: 100 | L48: =N48/G48*100 -> 42.434243 | M48: =J48*K48/100 -> 21.80853 | N48: 779220 | O48: =J48*L48/100 -> 9.2542844 | P48: =G48-N48 -> 1057080
A49: 5 | B49: Belanja Jasa Tenaga Administrasi | G49: 3600000 | J49: =G49/G53*100 -> 42.754837 | K49: =N49/G49*100 -> 100 | L49: =N49/G49*100 -> 100 | M49: =J49*K49/100 -> 42.754837 | N49: 3600000 | O49: =J49*L49/100 -> 42.754837 | P49: =G49-N49 -> 0
A53: TOTAL | G53: =SUM(G45:G52) -> 8420100 | J53: =SUM(J45:J52) -> 100 | K53: =SUM(K45:K52)/3 -> 166.66667 | L53: =N53/G53*100 -> 78.890358 | M53: =SUM(M45:M52) -> 100 | N53: =SUM(N45:N49) -> 6642647 | O53: =SUM(O45:O52) -> 78.890358 | P53: =SUM(P45:P52) -> 1777453
L56: Benteng, 31 Desember 2025
L58: Pejabat Pelaksana Teknis Kegiatan
L62: NURWAHIDA, S.Sos
L63: NIP. 19761231 200701 2 040
A68: Kegiatan | B68: : | C68: Penyediaan Komponen Instalasi Listrik /Penerangan Bangunan Kantor
A69: Belanja | B69: : | C69: Langsung
M70: =M39 -> Keadaan Desember 2025
A71: No. Urt | B71: Uraian / Rincian Kegiatan / Target | E71: Lokasi | G71: Jumlah Dana ( Rp ) | H71: Nilai Kontrak ( Rp ) | I71: Nama Pelaksana | J71: Bobot ( % ) | K71: Realisasi Komunikatif ( % ) | M71: Realisasi Tertimbang ( % ) | P71: Sisa Dana (Rp )
E72: Desa / Kel | F72: Kec | K72: Fisik | L72: Keuangan | M72: Fisik | N72: Keuangan
N73: Rp. | O73: %
A74: 1 | B74: 2 | E74: 3 | F74: 4 | G74: 5 | H74: 6 | I74: 7 | J74: 8 | K74: 9 | L74: 10 | M74: 11 | N74: 12 | O74: 13 | P74: 14
A76: 1 | B76: Belanja Alat/ Bahan untuk Kegiatan Alat Listrik | G76: 6238400 | J76: 100 | K76: 100 | L76: =N76/G76*100 -> 96.273051 | M76: =J76*K76/100 -> 100 | N76: 6005898 | O76: =J76*L76/100 -> 96.273051 | P76: =G76-N76 -> 232502
A84: TOTAL | G84: =SUM(G76:G83) -> 6238400 | J84: =SUM(J76:J83) -> 100 | K84: =SUM(K76:K83)/1 -> 100 | L84: =N84/G84*100 -> 96.273051 | M84: =SUM(M76:M83) -> 100 | N84: =N76 -> 6005898 | O84: =SUM(O76:O83) -> 96.273051 | P84: =SUM(P76:P83) -> 232502
L87: =L56 -> Benteng, 31 Desember 2025
L89: Pejabat Pelaksana Teknis Kegiatan
L93: =L62 -> NURWAHIDA, S.Sos
L94: =L63 -> NIP. 19761231 200701 2 040
A99: Kegiatan | B99: : | C99: Penyediaan Barang Cetakan dan Penggandaan
A100: Belanja | B100: : | C100: Langsung
M101: =M70 -> Keadaan Desember 2025
A102: No. Urt | B102: Uraian / Rincian Kegiatan / Target | E102: Lokasi | G102: Jumlah Dana ( Rp ) | H102: Nilai Kontrak ( Rp ) | I102: Nama Pelaksana | J102: Bobot ( % ) | K102: Realisasi Komunikatif ( % ) | M102: Realisasi Tertimbang ( % ) | P102: Sisa Dana (Rp )
E103: Desa / Kel | F103: Kec | K103: Fisik | L103: Keuangan | M103: Fisik | N103: Keuangan
N104: Rp. | O104: %
A105: 1 | B105: 2 | E105: 3 | F105: 4 | G105: 5 | H105: 6 | I105: 7 | J105: 8 | K105: 9 | L105: 10 | M105: 11 | N105: 12 | O105: 13 | P105: 14
A107: 1 | B107: Belanja Alat/ Bahan untuk Kengiatan Kantor - Bahan Cetak | G107: 9334600 | J107: =G107/G115*100 -> 100 | K107: 100 | L107: =N107/G107*100 -> 88.053093 | M107: =J107*K107/100 -> 100 | N107: 8219404 | O107: =J107*L107/100 -> 88.053093 | P107: =G107-N107 -> 1115196
A115: TOTAL | G115: =SUM(G107:G114) -> 9334600 | J115: =SUM(J107:J114) -> 100 | K115: =SUM(K107:K114)/2 -> 50 | L115: =N115/G115*100 -> 88.053093 | M115: =SUM(M107:M114) -> 100 | N115: =N107 -> 8219404 | O115: =SUM(O107:O114) -> 88.053093 | P115: =SUM(P107:P114) -> 1115196
L118: =L87 -> Benteng, 31 Desember 2025
L120: Pejabat Pelaksana Teknis Kegiatan
L124: =L93 -> NURWAHIDA, S.Sos
L125: =L94 -> NIP. 19761231 200701 2 040
A135: Kegiatan | B135: : | C135: Penyediaan Bahan Bacaan dan Peraturan Perundang- undangan
A136: Belanja | B136: : | C136: Langsung
M137: =M70 -> Keadaan Desember 2025
A138: No. Urt | B138: Uraian / Rincian Kegiatan / Target | E138: Lokasi | G138: Jumlah Dana ( Rp ) | H138: Nilai Kontrak ( Rp ) | I138: Nama Pelaksana | J138: Bobot ( % ) | K138: Realisasi Komunikatif ( % ) | M138: Realisasi Tertimbang ( % ) | P138: Sisa Dana (Rp )
E139: Desa / Kel | F139: Kec | K139: Fisik | L139: Keuangan | M139: Fisik | N139: Keuangan
N140: Rp. | O140: %
A141: 1 | B141: 2 | E141: 3 | F141: 4 | G141: 5 | H141: 6 | I141: 7 | J141: 8 | K141: 9 | L141: 10 | M141: 11 | N141: 12 | O141: 13 | P141: 14
A142: 1 | B142: Belanja Jasa Iklan /Reklame,Film dan Pemotretan | G142: 850000 | J142: =G142/G151*100 -> 35.714286 | K142: =N142/G142*100 -> 100 | L142: =N142/G142*100 -> 100 | M142: =J142*K142/100 -> 35.714286 | N142: 850000 | O142: =J142*L142/100 -> 35.714286 | P142: =G142-N142 -> 0
A143: 2 | B143: Belanja langganan Jurnal /Surat Kabar /Majallah | G143: 1530000 | J143: =G143/G151*100 -> 64.285714 | K143: =N143/G143*100 -> 100 | L143: =N143/G143*100 -> 100 | M143: =J143*K143/100 -> 64.285714 | N143: 1530000 | O143: =J143*L143/100 -> 64.285714 | P143: =G143-N143 -> 0
A151: TOTAL | G151: =G142+G143 -> 2380000 | J151: =SUM(J142:J148) -> 100 | K151: =SUM(K144:K145)/4 -> 0 | L151: =N151/G151*100 -> 100 | M151: =SUM(M142:M149) -> 100 | N151: =N142+N143 -> 2380000 | O151: =SUM(O142:O148) -> 100 | P151: =SUM(P142:P144) -> 0
L154: =L87 -> Benteng, 31 Desember 2025
L156: Pejabat Pelaksana Teknis Kegiatan
L160: =L93 -> NURWAHIDA, S.Sos
L161: =L94 -> NIP. 19761231 200701 2 040
A172: Kegiatan | B172: : | C172: Penyediaan Jasa Peralatan dan Perlengkapan Kantor
A173: Belanja | B173: : | C173: Langsung
M174: =M137 -> Keadaan Desember 2025
A175: No. Urt | B175: Uraian / Rincian Kegiatan / Target | E175: Lokasi | G175: Jumlah Dana ( Rp ) | H175: Nilai Kontrak ( Rp ) | I175: Nama Pelaksana | J175: Bobot ( % ) | K175: Realisasi Komunikatif ( % ) | M175: Realisasi Tertimbang ( % ) | P175: Sisa Dana (Rp )
E176: Desa / Kel | F176: Kec | K176: Fisik | L176: Keuangan | M176: Fisik | N176: Keuangan
N177: Rp. | O177: %
A178: 1 | B178: 2 | E178: 3 | F178: 4 | G178: 5 | H178: 6 | I178: 7 | J178: 8 | K178: 9 | L178: 10 | M178: 11 | N178: 12 | O178: 13 | P178: 14
A180: 1 | B180: Servis AC | G180: 3660000 | J180: =G180/G183*100 -> 84.137931 | K180: 100 | L180: =N180/G180*100 -> 100 | M180: =J180*K180/100 -> 84.137931 | N180: 3660000 | O180: =J180*L180/100 -> 84.137931 | P180: =G180-N180 -> 0
A181: 2 | B181: Servis Komputer/Laptop | G181: 690000 | J181: =G181/G183*100 -> 15.862069 | K181: 100 | L181: =G181/G183*100 -> 15.862069 | M181: =J181*K181/100 -> 15.862069 | N181: 665000 | O181: =J181*L181/100 -> 2.5160523 | P181: =G181-N181 -> 25000
A182: 3 | B182: Servis Printer | J182: =G182/G183*100 -> 0 | P182: =G182-N182 -> 0
A183: TOTAL | G183: =SUM(G180:G182) -> 4350000 | J183: =SUM(J180:J182) -> 100 | K183: =SUM(#REF!)/2 -> #REF! | L183: =N183/G183*100 -> 99.425287 | M183: =SUM(M180:M182) -> 100 | N183: =SUM(N179:N182) -> 4325000 | O183: =SUM(O180:O182) -> 86.653983 | P183: =SUM(P180:P182) -> 25000
L186: =L154 -> Benteng, 31 Desember 2025
L188: Pejabat Pelaksana Teknis Kegiatan
T189: 1
L192: =L160 -> NURWAHIDA, S.Sos
L193: =L161 -> NIP. 19761231 200701 2 040
A209: Kegiatan | B209: : | C209: Penyelenggaraan Rapat Koordinasi dan Konsultasi SKPD
A210: Belanja | B210: : | C210: Langsung
M211: =M39 -> Keadaan Desember 2025
A212: No. Urt | B212: Uraian / Rincian Kegiatan / Target | E212: Lokasi | G212: Jumlah Dana ( Rp ) | H212: Nilai Kontrak ( Rp ) | I212: Nama Pelaksana | J212: Bobot ( % ) | K212: Realisasi Komunikatif ( % ) | M212: Realisasi Tertimbang ( % ) | P212: Sisa Dana (Rp )
E213: Desa / Kel | F213: Kec | K213: Fisik | L213: Keuangan | M213: Fisik | N213: Keuangan
N214: Rp. | O214: %
...

Sheet B Nini
A1: REALISASI FISIK DAN KEUANGAN
A2: APBD KABUPATEN KEPULAUAN SELAYAR
A3: TAHUN ANGGARAN 2025
A5: SKPD | B5: : | C5: Badan Kepegawaian dan Pengembangan Sumber Daya Manusia
A6: Kegiatan | B6: : | C6: Penyusunan Dokumen Perencanaan Perangkat Daerah
A7: Belanja | B7: : | C7: Langsung
M8: ='B'' IDA'!M8 -> Keadaan Desember 2025
A9: No. Urt | B9: Uraian / Rincian Kegiatan / Target | E9: Lokasi | G9: Jumlah Dana ( Rp ) | H9: Nilai Kontrak ( Rp ) | I9: Nama Pelaksana | J9: Bobot ( % ) | K9: Realisasi Komunikatif ( % ) | M9: Realisasi Tertimbang ( % ) | P9: Sisa Dana (Rp )
E10: Desa / Kel | F10: Kec | K10: Fisik | L10: Keuangan | M10: Fisik | N10: Keuangan
N11: Rp. | O11: %
A12: 1 | B12: 2 | E12: 3 | F12: 4 | G12: 5 | H12: 6 | I12: 7 | J12: 8 | K12: 9 | L12: 10 | M12: 11 | N12: 12 | O12: 13 | P12: 14
A14: 1 | B14: Belanja Alat dan bahan Untuk Kegiatan Kantor- ATK | G14: 1379200 | J14: =G14/G21*100 -> 11.179923 | K14: 100 | L14: 89.1 | M14: =J14*K14/100 -> 11.179923 | N14: 1228908 | O14: =J14*K14/100 -> 11.179923 | P14: =G14-N14 -> 150292
A15: 2 | B15: Belanja Alat/bahan Untuk kegiatan Kantor -Bahan cetak | G15: 2228900 | J15: =G15/G21*100 -> 18.06767 | K15: 100 | L15: 98.64 | M15: =J15*K15/100 -> 18.06767 | N15: 2198610 | O15: =J15*K15/100 -> 18.06767 | P15: =G15-N15 -> 30290
A16: 3 | B16: Belanja Alat dan bahan Untuk Kegiatan Kantor- kertas dan cover | G16: 878300 | J16: =G16/G21*100 -> 7.1195811 | K16: 100 | L16: 92.05 | M16: =J16*K16/100 -> 7.1195811 | N16: 808500 | O16: =J16*K16/100 -> 7.1195811 | P16: =G16-N16 -> 69800
A17: 4 | B17: Belanja Alat/bahan Untuk kegiatan Kantor -Bahan komputer | G17: 1300000 | J17: =G17/G21*100 -> 10.53792 | K17: 100 | L17: 85.38 | M17: =J17*K17/100 -> 10.53792 | N17: 1110000 | O17: =J17*K17/100 -> 10.53792 | P17: =G17-N17 -> 190000
A18: 5 | B18: Belanja jasa Tenaga Administrasi | G18: 6550000 | J18: =G18/G21*100 -> 53.094906 | K18: =N18/G18*100 -> 100 | L18: =N18/G18*100 -> 100 | M18: =J18*K18/100 -> 53.094906 | N18: 6550000 | O18: =J18*K18/100 -> 53.094906 | P18: =G18-N18 -> 0
M19: =J19*K19/100 -> 0 | O19: =J19*K19/100 -> 0
A21: TOTAL | G21: =SUM(G14:G20) -> 12336400 | J21: =SUM(J14:J20) -> 100 | K21: =SUM(K14:K15)/2 -> 100 | L21: =N21/G21*100 -> 96.430223 | M21: =SUM(M14:M19) -> 100 | N21: =SUM(N14:N18) -> 11896018 | O21: =SUM(O14:O20) -> 100 | P21: =SUM(P14:P18) -> 440382
L23: ='B'' IDA'!L87 -> Benteng, 31 Desember 2025
L24: Pejabat Pelaksana Teknis Kegiatan
L28: NUR SURYA NINGRAT, SE
L29: NIP. 19770815 201410 2 001
A32: Kegiatan | B32: : | C32: Evaluasi Kinerja Perangkat Daerah | J32: ='B Nini'!N182 -> 0
A33: Belanja | B33: : | C33: Langsung
M34: ='B'' IDA'!M8 -> Keadaan Desember 2025
A35: No. Urt | B35: Uraian / Rincian Kegiatan / Target | E35: Lokasi | G35: Jumlah Dana ( Rp ) | H35: Nilai Kontrak ( Rp ) | I35: Nama Pelaksana | J35: Bobot ( % ) | K35: Realisasi Komunikatif ( % ) | M35: Realisasi Tertimbang ( % ) | P35: Sisa Dana (Rp )
E36: Desa / Kel | F36: Kec | K36: Fisik | L36: Keuangan | M36: Fisik | N36: Keuangan
N37: Rp. | O37: %
A38: 1 | B38: 2 | E38: 3 | F38: 4 | G38: 5 | H38: 6 | I38: 7 | J38: 8 | K38: 9 | L38: 10 | M38: 11 | N38: 12 | O38: 13 | P38: 14
A40: 1 | B40: Belanja Alat dan bahan Untuk Kegiatan Kantor- ATK | G40: 257400 | J40: =G40/G47*100 -> 7.3844565 | K40: 100 | L40: =N40/G40*100 -> 87.773504 | M40: =J40*K40/100 -> 7.3844565 | N40: 225929 | O40: =J40*L40/100 -> 6.4815962 | P40: =G40-N40 -> 31471
A41: 2 | B41: Belanja Alat/bahan Untuk kegiatan Kantor -Bahan cetak | G41: 819900 | J41: =G41/G47*100 -> 23.521818 | K41: 100 | L41: =N41/G41*100 -> 95.665081 | M41: =J41*K41/100 -> 23.521818 | N41: 784358 | O41: =J41*L41/100 -> 22.502166 | P41: =G41-N41 -> 35542
A42: 3 | B42: Belanja Alat dan bahan Untuk Kegiatan Kantor- kertas dan cover | G42: 557500 | J42: =G42/G47*100 -> 15.993918 | K42: 100 | L42: =N42/G42*100 -> 92.035874 | M42: =J42*K42/100 -> 15.993918 | N42: 513100 | O42: =J42*L42/100 -> 14.720142 | P42: =G42-N42 -> 44400
A43: 4 | B43: Belanja Alat/bahan Untuk kegiatan Kantor -Bahan komputer | G43: 1850900 | J43: =G43/G47*100 -> 53.099808 | K43: 100 | L43: =N43/G43*100 -> 90.118861 | M43: =J43*K43/100 -> 53.099808 | N43: 1668010 | O43: =J43*L43/100 -> 47.852942 | P43: =G43-N43 -> 182890
A47: TOTAL | G47: =G40+G41+G42+G43 -> 3485700 | J47: =SUM(J40:J46) -> 100 | K47: =SUM(K40:K42)/3 -> 100 | L47: =N47/G47*100 -> 91.556847 | M47: =SUM(M40:M46) -> 100 | N47: =N40+N41+N42+N43 -> 3191397 | O47: =SUM(O40:O46) -> 91.556847 | P47: =SUM(P40:P45) -> 294303
L50: =L23 -> Benteng, 31 Desember 2025
L51: Pejabat Pelaksana Teknis Kegiatan
L55: =L28 -> NUR SURYA NINGRAT, SE
L56: =L29 -> NIP. 19770815 201410 2 001
A68: Kegiatan | B68: : | C68: Koordinasi dan Penyusunan Dokumen RKA-SKPD
A69: Belanja | B69: : | C69: Langsung
M70: =M8 -> Keadaan Desember 2025
A71: No. Urt | B71: Uraian / Rincian Kegiatan / Target | E71: Lokasi | G71: Jumlah Dana ( Rp ) | H71: Nilai Kontrak ( Rp ) | I71: Nama Pelaksana | J71: Bobot ( % ) | K71: Realisasi Komunikatif ( % ) | M71: Realisasi Tertimbang ( % ) | P71: Sisa Dana (Rp )
E72: Desa / Kel | K72: Fisik | L72: Keuangan | M72: Fisik | N72: Keuangan
N73: Rp. | O73: %
A74: 1 | B74: 2 | E74: 3 | F74: 4 | G74: 5 | H74: 6 | I74: 7 | J74: 8 | K74: 9 | L74: 10 | M74: 11 | N74: 12 | O74: 13 | P74: 14
A76: 1 | B76: Belanja Alat dan bahan Untuk Kegiatan Kantor- ATK | G76: 114100 | J76: =G76/G83*100 -> 7.5577929 | K76: 100 | L76: =N76/G76*100 -> 94.101665 | M76: =J76*K76/100 -> 7.5577929 | N76: 107370 | O76: =J76*L76/100 -> 7.112009 | P76: =G76-N76 -> 6730
A77: 2 | B77: Belanja Alat/bahan Untuk kegiatan Kantor -Bahan cetak | G77: 585200 | J77: =G77/G83*100 -> 38.762668 | K77: 100 | L77: =N77/G77*100 -> 98.701299 | M77: =J77*K77/100 -> 38.762668 | N77: 577600 | O77: =J77*L77/100 -> 38.259257 | P77: =G77-N77 -> 7600
A78: 3 | B78: Belanja Alat dan bahan Untuk Kegiatan Kantor- kertas dan cover | G78: 160400 | J78: =G78/G83*100 -> 10.624627 | K78: 100 | L78: =N78/G78*100 -> 92.082294 | M78: =J78*K78/100 -> 10.624627 | N78: 147700 | O78: =J78*L78/100 -> 9.7834007 | P78: =G78-N78 -> 12700
A79: 4 | B79: Belanja Alat/bahan Untuk kegiatan Kantor -Bahan komputer | G79: 650000 | J79: =G79/G83*100 -> 43.054912 | K79: 100 | L79: =N79/G79*100 -> 85.384615 | M79: =J79*K79/100 -> 43.054912 | N79: 555000 | O79: =J79*L79/100 -> 36.762271 | P79: =G79-N79 -> 95000
A83: TOTAL | G83: =SUM(G76:G79) -> 1509700 | J83: =SUM(J76:J82) -> 100 | K83: =SUM(K76:K78)/4 -> 75 | L83: =N83/G83*100 -> 91.916937 | M83: =SUM(M76:M79) -> 100 | N83: =SUM(N76:N79) -> 1387670 | O83: =SUM(O76:O79) -> 91.916937 | P83: =SUM(P76:P79) -> 122030
L85: =L23 -> Benteng, 31 Desember 2025
L87: Pejabat Pelaksana Teknis Kegiatan
L91: =L55 -> NUR SURYA NINGRAT, SE
L92: NIP. 19770815 201410 2 001
A98: Kegiatan | B98: : | C98: Koordinasi dan Penyusunan Dokumen Perubahan RKA-SKPD
A99: Belanja | B99: : | C99: Langsung
M100: =M34 -> Keadaan Desember 2025
A101: No. Urt | B101: Uraian / Rincian Kegiatan / Target | E101: Lokasi | G101: Jumlah Dana ( Rp ) | H101: Nilai Kontrak ( Rp ) | I101: Nama Pelaksana | J101: Bobot ( % ) | K101: Realisasi Komunikatif ( % ) | M101: Realisasi Tertimbang ( % ) | P101: Sisa Dana (Rp )
E102: Desa / Kel | K102: Fisik | L102: Keuangan | M102: Fisik | N102: Keuangan
N103: Rp. | O103: %
A104: 1 | B104: 2 | E104: 3 | F104: 4 | G104: 5 | H104: 6 | I104: 7 | J104: 8 | K104: 9 | L104: 10 | M104: 11 | N104: 12 | O104: 13 | P104: 14
A106: 1 | B106: Belanja Alat dan bahan Untuk Kegiatan Kantor- ATK | G106: 223300 | J106: =G106/G114*100 -> 14.976526 | K106: 100 | L106: 86.07 | M106: =J106*K106/100 -> 14.976526 | N106: 192200 | O106: =J106*L106/100 -> 12.890296 | P106: =G106-N106 -> 31100
A107: 2 | B107: Belanja Alat dan bahan Untuk Kegiatan Kantor- kertas dan cover | G107: 160400 | J107: =G107/G114*100 -> 10.757881 | K107: 100 | L107: 92.08 | M107: =J107*K107/100 -> 10.757881 | N107: 147700 | O107: =J107*L107/100 -> 9.9058565 | P107: =G107-N107 -> 12700
A108: 3 | B108: Belanja Alat/bahan Untuk kegiatan Kantor -Bahan cetak | G108: 457300 | J108: =G108/G114*100 -> 30.670691 | K108: 100 | L108: 99.13 | M108: =J108*K108/100 -> 30.670691 | N108: 453335 | O108: =J108*L108/100 -> 30.403856 | P108: =G108-N108 -> 3965
A109: 4 | B109: Belanja Alat/bahan Untuk kegiatan Kantor -Bahan komputer | G109: 650000 | J109: =G109/G114*100 -> 43.594903 | K109: 100 | L109: 85.38 | M109: =J109*K109/100 -> 43.594903 | N109: 555000 | O109: =J109*L109/100 -> 37.221328 | P109: =G109-N109 -> 95000
A114: TOTAL | G114: =SUM(G106:G109) -> 1491000 | J114: =SUM(J106:J109) -> 100 | K114: =SUM(K106:K109)/4 -> 100 | L114: =N114/G114*100 -> 90.424883 | M114: =SUM(M106:M109) -> 100 | N114: =SUM(N106:N109) -> 1348235 | O114: =SUM(O106:O109) -> 90.421336 | P114: =SUM(P106:P109) -> 142765
L116: =L23 -> Benteng, 31 Desember 2025
L118: Pejabat Pelaksana Teknis Kegiatan
L122: =L55 -> NUR SURYA NINGRAT, SE
L123: NIP. 19770815 201410 2 001
A132: Kegiatan | B132: : | C132: Koordinasi dan Penyusunan Dokumen DPA-SKPD
A133: Belanja | B133: : | C133: Langsung
M134: =M70 -> Keadaan Desember 2025
A135: No. Urt | B135: Uraian / Rincian Kegiatan / Target | E135: Lokasi | G135: Jumlah Dana ( Rp ) | H135: Nilai Kontrak ( Rp ) | I135: Nama Pelaksana | J135: Bobot ( % ) | K135: Realisasi Komunikatif ( % ) | M135: Realisasi Tertimbang ( % ) | P135: Sisa Dana (Rp )
E136: Desa / Kel | K136: Fisik | L136: Keuangan | M136: Fisik | N136: Keuangan
N137: Rp. | O137: %
A138: 1 | B138: 2 | E138: 3 | F138: 4 | G138: 5 | H138: 6 | I138: 7 | J138: 8 | K138: 9 | L138: 10 | M138: 11 | N138: 12 | O138: 13 | P138: 14
A140: 1 | B140: Belanja Alat dan bahan Untuk Kegiatan Kantor- ATK | G140: 17700 | J140: =G140/G147*100 -> 0.95105045 | K140: 100 | M140: =J140*K140/100 -> 0.95105045 | O140: =J140*L140/100 -> 0 | P140: =G140-N140 -> 17700
A141: 2 | B141: Belanja Alat dan bahan Untuk Kegiatan Kantor- kertas dan cover | G141: 641600 | J141: =G141/G147*100 -> 34.474236 | K141: 100 | L141: =N141/G141*100 -> 92.082294 | M141: =J141*K141/100 -> 34.474236 | N141: 590800 | O141: =J141*L141/100 -> 31.744667 | P141: =G141-N141 -> 50800
A142: 3 | B142: Belanja Alat/bahan Untuk kegiatan Kantor -Bahan cetak | G142: 714300 | J142: =G142/G147*100 -> 38.380528 | K142: 100 | L142: =N142/G142*100 -> 98.426851 | M142: =J142*K142/100 -> 38.380528 | N142: 703063 | O142: =J142*L142/100 -> 37.776745 | P142: =G142-N142 -> 11237
A143: 4 | B143: Belanja Alat/bahan Untuk kegiatan Kantor -Bahan komputer | G143: 487500 | J143: =G143/G147*100 -> 26.194186 | K143: 100 | L143: =N143/G143*100 -> 85.384615 | M143: =J143*K143/100 -> 26.194186 | N143: 416250 | O143: =J143*L143/100 -> 22.365805 | P143: =G143-N143 -> 71250
A147: TOTAL | G147: =SUM(G140:G143) -> 1861100 | J147: =SUM(J140:J146) -> 100 | K147: =SUM(K140:K142)/4 -> 75 | L147: =N147/G147*100 -> 91.887217 | M147: =SUM(M140:M143) -> 100 | N147: =N140+N141+N142+N143 -> 1710113 | O147: =SUM(O140:O143) -> 91.887217 | P147: =SUM(P140:P143) -> 150987
L149: =L23 -> Benteng, 31 Desember 2025
L151: Pejabat Pelaksana Teknis Kegiatan
L155: =L55 -> NUR SURYA NINGRAT, SE
L156: NIP. 19770815 201410 2 001
A166: Kegiatan | B166: : | C166: Koordinasi dan Penyusunan Dokumen Perubahan DPA-SKPD
A167: Belanja | B167: : | C167: Langsung
M168: =M100 -> Keadaan Desember 2025
A169: No. Urt | B169: Uraian / Rincian Kegiatan / Target | E169: Lokasi | G169: Jumlah Dana ( Rp ) | H169: Nilai Kontrak ( Rp ) | I169: Nama Pelaksana | J169: Bobot ( % ) | K169: Realisasi Komunikatif ( % ) | M169: Realisasi Tertimbang ( % ) | P169: Sisa Dana (Rp )
E170: Desa / Kel | K170: Fisik | L170: Keuangan | M170: Fisik | N170: Keuangan
N171: Rp. | O171: %
A172: 1 | B172: 2 | E172: 3 | F172: 4 | G172: 5 | H172: 6 | I172: 7 | J172: 8 | K172: 9 | L172: 10 | M172: 11 | N172: 12 | O172: 13 | P172: 14
A174: 1 | B174: Belanja Alat dan bahan Untuk Kegiatan Kantor- ATK | G174: 46100 | J174: =G174/G183*100 -> 3.0283124 | K174: 100 | M174: =J174*K174/100 -> 3.0283124 | O174: =J174*L174/100 -> 0 | P174: =G174-N174 -> 46100
A175: 2 | B175: Belanja Alat dan bahan Untuk Kegiatan Kantor- kertas dan cover | G175: 320800 | J175: =G175/G183*100 -> 21.073376 | K175: 100 | L175: 92.08 | M175: =J175*K175/100 -> 21.073376 | N175: 295400 | O175: =J175*L175/100 -> 19.404364 | P175: =G175-N175 -> 25400
A176: 3 | B176: Belanja Alat dan bahan Untuk Keg. Kantor- Bahan Cetak | G176: 505400 | J176: =G176/G183*100 -> 33.199764 | K176: 100 | L176: 98.51 | M176: =J176*K176/100 -> 33.199764 | N176: 497879 | O176: =J176*L176/100 -> 32.705087 | P176: =G176-N176 -> 7521
A177: 4 | B177: Belanja Alat/bahan Untuk kegiatan Kantor -Bahan komputer | G177: 650000 | J177: =G177/G183*100 -> 42.698548 | K177: 100 | L177: 85.38 | M177: =J177*K177/100 -> 42.698548 | N177: 555000 | O177: =J177*L177/100 -> 36.45602 | P177: =G177-N177 -> 95000
A183: TOTAL | G183: =SUM(G174:G178) -> 1522300 | J183: =SUM(J174:J178) -> 100 | K183: =SUM(K174:K178)/4 -> 100 | L183: =N183/G183*100 -> 88.568548 | M183: =SUM(M174:M178) -> 100 | N183: =SUM(N174:N178) -> 1348279 | O183: =SUM(O174:O178) -> 88.565472 | P183: =SUM(P174:P178) -> 174021
L185: =L23 -> Benteng, 31 Desember 2025
L187: Pejabat Pelaksana Teknis Kegiatan
...

Sheet Sheet1
A1: DANA SERAPAN DAN REALISASI BELANJA LANGSUNG
A2: APBD KABUPATEN KEPULAUAN SELAYAR
A3: TAHUN ANGGARAN 2025
A4: SKPD : Badan Kepegawaian Dan Pengembangan Sumber Daya Manusia
A5: Belanja : Langsung | L5: ='B'' IDA'!M8 -> Keadaan Desember 2025
A7: No. Urt | B7: PROGRAM | C7: Jumlah Kegiatan / Nama Kegiatan | E7: Jumlah Dana ( Rp ) | F7: Bobot ( % ) | G7: Realisasi Komulatif (%) | I7: Realisasi Tertimbang (%) | L7: Sisa Dana (Rp ) | M7: Masalah Yang dihadapi | N7: Pemecahan Masalah | O7: Saran Tindak Lanjut
G9: Fisik | H9: Keu | I9: Fisik | J9: Keuangan | K9: %
A11: 1 | B11: 2 | C11: 3 | E11: 4 | F11: 5 | G11: 6 | H11: 7 | I11: 8 | J11: 9 | K11: 10 | L11: 11 | M11: 12 | N11: 13 | O11: 14
E12: =E13+E41+E56 -> 5706403500 | F12: =F13+F56+F41 -> 100
A13: 1 | D13: Jumlah 14 Keg | E13: =SUM(E14:E39) -> 4578056500 | F13: =SUM(F14:F39) -> 80.226652 | I13: =SUM(I14:I39) -> 80.226652 | J13: =SUM(J14:J39) -> 4346300568 | K13: =SUM(K14:K39) -> 76.172962 | L13: =E13-J13 -> 231755932
B14: PENUNJANG URUSAN PEMERINTAH DAERAH DAN KABUPATEN | C14: 1 | D14: ='B'' IDA'!C6 -> Penatausahaan Barang Milik Daerah pada SKPD | E14: ='B'' IDA'!G25 -> 10821600 | F14: =E14/E12*100 -> 0.18963959 | G14: ='B'' IDA'!M25 -> 100 | H14: =J14/E14*100 -> 95.478755 | I14: =F14*G14/100 -> 0.18963959 | J14: ='B'' IDA'!N25 -> 10332329 | K14: =F14*H14/100 -> 0.18106552 | L14: =E14-J14 -> 489271
C15: 2 | D15: ='B'' IDA'!C37 -> Pendataan dan Pengolahan Administrasi Kepegawaian | E15: ='B'' IDA'!G53 -> 8420100 | F15: =E15/E12*100 -> 0.14755529 | G15: ='B'' IDA'!M53 -> 100 | H15: =J15/E15*100 -> 78.890358 | I15: =F15*G15/100 -> 0.14755529 | J15: ='B'' IDA'!N53 -> 6642647 | K15: =F15*H15/100 -> 0.11640689 | L15: =E15-J15 -> 1777453
C16: 3 | D16: ='B'' IDA'!C68 -> Penyediaan Komponen Instalasi Listrik /Penerangan Bangunan Kantor | E16: ='B'' IDA'!G84 -> 6238400 | F16: =E16/E12*100 -> 0.1093228 | G16: ='B'' IDA'!M84 -> 100 | H16: =J16/E16*100 -> 96.273051 | I16: =F16*G16/100 -> 0.1093228 | J16: ='B'' IDA'!N84 -> 6005898 | K16: =F16*H16/100 -> 0.10524839 | L16: =E16-J16 -> 232502
C17: 4 | D17: ='B'' IDA'!C99 -> Penyediaan Barang Cetakan dan Penggandaan | E17: ='B'' IDA'!G115 -> 9334600 | F17: =E17/E12*100 -> 0.16358114 | G17: ='B'' IDA'!M115 -> 100 | H17: =J17/E17*100 -> 88.053093 | I17: =F17*G17/100 -> 0.16358114 | J17: ='B'' IDA'!N115 -> 8219404 | K17: =F17*H17/100 -> 0.14403825 | L17: =E17-J17 -> 1115196
C18: 5 | D18: ='B'' IDA'!C135 -> Penyediaan Bahan Bacaan dan Peraturan Perundang- undangan | E18: ='B'' IDA'!G151 -> 2380000 | F18: =E18/E12*100 -> 0.041707531 | G18: ='B'' IDA'!M151 -> 100 | H18: =J18/E18*100 -> 100 | I18: =F18*G18/100 -> 0.041707531 | J18: ='B'' IDA'!N151 -> 2380000 | K18: =F18*H18/100 -> 0.041707531 | L18: =E18-J18 -> 0
C19: 6 | D19: ='B'' IDA'!C172 -> Penyediaan Jasa Peralatan dan Perlengkapan Kantor | E19: ='B'' IDA'!G183 -> 4350000 | F19: =E19/E12*100 -> 0.076230151 | G19: ='B'' IDA'!M183 -> 100 | H19: =J19/E19*100 -> 99.425287 | I19: =F19*G19/100 -> 0.076230151 | J19: ='B'' IDA'!N183 -> 4325000 | K19: =F19*H19/100 -> 0.075792047 | L19: =E19-J19 -> 25000
C20: 7 | D20: ='B'' IDA'!C209 -> Penyelenggaraan Rapat Koordinasi dan Konsultasi SKPD | E20: ='B'' IDA'!G223 -> 153794000 | F20: =E20/E12*100 -> 2.6951126 | G20: ='B'' IDA'!M223 -> 100 | H20: =J20/E20*100 -> 99.993329 | I20: =F20*G20/100 -> 2.6951126 | J20: ='B'' IDA'!N223 -> 153783740 | K20: =F20*H20/100 -> 2.6949328 | L20: =E20-J20 -> 10260
C21: 8 | D21: ='B'' IDA'!C241 -> Penyediaan Jasa Surat Menyurat | E21: ='B'' IDA'!G256 -> 13679200 | F21: =E21/E12*100 -> 0.23971666 | G21: ='B'' IDA'!M256 -> 100 | H21: =J21/E21*100 -> 84.714362 | I21: =F21*G21/100 -> 0.23971666 | J21: ='B'' IDA'!N256 -> 11588247 | K21: 0.23 | L21: =E21-J21 -> 2090953
C22: 9 | D22: ='B'' IDA'!C274 -> Penyediaan Jasa Komunikasi Sumber Daya Air dan Listrik | E22: ='B'' IDA'!G290 -> 78353450 | F22: =E22/E12*100 -> 1.3730794 | G22: ='B'' IDA'!M290 -> 100 | H22: =J22/E22*100 -> 88.770607 | I22: =F22*G22/100 -> 1.3730794 | J22: ='B'' IDA'!N290 -> 69554833 | K22: =F22*H22/100 -> 1.2188909 | L22: =E22-J22 -> 8798617
C23: 10 | D23: ='B'' IDA'!C310 -> Penyediaan Jasa Pemeliharaan ,Biaya Pemeliharaan ,Pajak dan Perizinan Kendaraan Dinas | E23: ='B'' IDA'!G327 -> 95540000 | F23: =E23/E12*100 -> 1.6742595 | G23: ='B'' IDA'!M327 -> 100 | H23: =J23/E23*100 -> 96.789457 | I23: =F23*G23/100 -> 1.6742595 | J23: ='B'' IDA'!N327 -> 92472647 | K23: =F23*H23/100 -> 1.6205066 | L23: =E23-J23 -> 3067353
C24: 11 | D24: Belanja Peralatan dan Perlengkapan Kantor | E24: ='B'' IDA'!G362 -> 92545000 | F24: =E24/E12*100 -> 1.6217746 | G24: ='B'' IDA'!M362 -> 100 | H24: ='B'' IDA'!O362 -> 98.806958 | I24: =F24*G24/100 -> 1.6217746 | J24: ='B'' IDA'!N362 -> 91440899 | K24: =F24*H24/100 -> 1.6024261 | L24: =E24-J24 -> 1104101
C25: 12 | D25: Dukungan Pelaksanaan Sistem Pemerintahan Berbasis Elektonik pada SKPD | E25: ='B'' IDA'!G395 -> 115000000 | F25: =E25/E12*100 -> 2.0152799 | G25: ='B'' IDA'!M395 -> 100 | H25: =J25/E25*100 -> 99.926087 | I25: =F25*G25/100 -> 2.0152799 | J25: ='B'' IDA'!N395 -> 114915000 | K25: =F25*H25/100 -> 2.0137903 | L25: =E25-J25 -> 85000
C26: 13 | D26: ='B'' IDA'!C420 -> Pemeliharaan /Rehabilitasi sarana dan Prasarana Gedung Kantor atau bangunan Lainnya | E26: 35150000 | F26: =E26/E12*100 -> 0.61597467 | G26: ='B'' IDA'!M435 -> 100 | H26: =J26/E26*100 -> 100 | I26: =F26*G26/100 -> 0.61597467 | J26: ='B'' IDA'!N435 -> 35150000 | K26: =F26*H26/100 -> 0.61597467 | L26: =E26-J26 -> 0
C27: 14 | D27: Penyediaan Jasa Pelayanan Umum Kantor | E27: ='B'' IDA'!G471 -> 9360000 | F27: =E27/E12*100 -> 0.16402626 | G27: ='B'' IDA'!M471 -> 100 | H27: =J27/E27*100 -> 100 | I27: =F27*G27/100 -> 0.16402626 | J27: ='B'' IDA'!N471 -> 9360000 | K27: =F27*H27/100 -> 0.16402626 | L27: =E27-J27 -> 0
C28: 15 | D28: ='B Nini'!C6 -> Penyusunan Dokumen Perencanaan Perangkat Daerah | E28: ='B Nini'!G21 -> 12336400 | F28: =E28/E12*100 -> 0.2161852 | G28: ='B Nini'!M21 -> 100 | H28: ='B Nini'!O21 -> 100 | I28: =F28*G28/100 -> 0.2161852 | J28: ='B Nini'!N21 -> 11896018 | K28: =F28*H28/100 -> 0.2161852 | L28: =E28-J28 -> 440382
C29: 16 | D29: ='B Nini'!C32 -> Evaluasi Kinerja Perangkat Daerah | E29: ='B Nini'!G47 -> 3485700 | F29: =E29/E12*100 -> 0.061084009 | G29: ='B Nini'!M47 -> 100 | H29: =J29/E29*100 -> 91.556847 | I29: =F29*G29/100 -> 0.061084009 | J29: ='B Nini'!N47 -> 3191397 | K29: =F29*H29/100 -> 0.055926592 | L29: =E29-J29 -> 294303
C30: 17 | D30: ='B Nini'!C68 -> Koordinasi dan Penyusunan Dokumen RKA-SKPD | E30: ='B Nini'!G83 -> 1509700 | F30: =E30/E12*100 -> 0.026456243 | G30: ='B Nini'!M83 -> 100 | H30: =J30/E30*100 -> 91.916937 | I30: =F30*G30/100 -> 0.026456243 | J30: ='B Nini'!N83 -> 1387670 | K30: =F30*H30/100 -> 0.024317769 | L30: =E30-J30 -> 122030
C31: 18 | D31: ='B Nini'!C98 -> Koordinasi dan Penyusunan Dokumen Perubahan RKA-SKPD | E31: ='B Nini'!G114 -> 1491000 | F31: =E31/E12*100 -> 0.026128541 | G31: ='B Nini'!M114 -> 100 | H31: =J31/E31*100 -> 90.424883 | I31: =F31*G31/100 -> 0.026128541 | J31: ='B Nini'!N114 -> 1348235 | K31: =F31*H31/100 -> 0.023626703 | L31: =E31-J31 -> 142765
C32: 19 | D32: ='B Nini'!C132 -> Koordinasi dan Penyusunan Dokumen DPA-SKPD | E32: ='B Nini'!G147 -> 1861100 | F32: =E32/E12*100 -> 0.032614238 | G32: ='B Nini'!M147 -> 100 | H32: =J32/E32*100 -> 91.887217 | I32: =F32*G32/100 -> 0.032614238 | J32: ='B Nini'!N147 -> 1710113 | K32: =F32*H32/100 -> 0.029968315 | L32: =E32-J32 -> 150987
C33: 20 | D33: ='B Nini'!C166 -> Koordinasi dan Penyusunan Dokumen Perubahan DPA-SKPD | E33: ='B Nini'!G183 -> 1522300 | F33: =E33/E12*100 -> 0.026677048 | G33: ='B Nini'!M183 -> 100 | H33: =J33/E33*100 -> 88.568548 | I33: =F33*G33/100 -> 0.026677048 | J33: ='B Nini'!N183 -> 1348279 | K33: =F33*H33/100 -> 0.023627474 | L33: =E33-J33 -> 174021
C34: 21 | D34: ='B Nini'!C195 -> Koordinasi dan Penyusunan Laporan Capaian Kinerja dan Iktisar Realisasi Kerja SKPD | E34: ='B Nini'!G212 -> 3108200 | F34: =E34/E12*100 -> 0.054468633 | G34: ='B Nini'!M212 -> 100 | H34: =J34/E34*100 -> 92.76755 | I34: =F34*G34/100 -> 0.054468633 | J34: ='B Nini'!N212 -> 2883401 | K34: =F34*H34/100 -> 0.050529217 | L34: =E34-J34 -> 224799
C35: 22 | D35: ='B'' LIA'!C5 -> Penyedian Gaji dan Tunjangan ASN | E35: ='B'' LIA'!G32 -> 3833124000 | F35: =E35/E12*100 -> 67.172327 | G35: ='B'' LIA'!M32 -> 100 | H35: =J35/E35*100 -> 94.580646 | I35: =F35*G35/100 -> 67.172327 | J35: ='B'' LIA'!N32 -> 3625393446 | K35: 63.51 | L35: =E35-J35 -> 207730554
C36: 23 | D36: ='B'' LIA'!C43 -> Penyediaan Administrasi Pelaksanaan Tugas ASN | E36: ='B'' LIA'!G63 -> 61866600 | F36: =E36/E12*100 -> 1.084161 | G36: ='B'' LIA'!M63 -> 100 | H36: =J36/E36*100 -> 97.260397 | I36: =F36*G36/100 -> 1.084161 | J36: ='B'' LIA'!N63 -> 60171701 | K36: =F36*H36/100 -> 1.0544593 | L36: =E36-J36 -> 1694899
C37: 24 | D37: ='B'' LIA'!C84 -> Koordinasi dan Pelaksanaan Angkuntansi SKPD | E37: ='B'' LIA'!G98 -> 13414600 | F37: =E37/E12*100 -> 0.23507977 | G37: ='B'' LIA'!M98 -> 100 | H37: ='B'' LIA'!O98 -> 91.450479 | I37: =F37*G37/100 -> 0.23507977 | J37: ='B'' LIA'!N98 -> 12267716 | K37: 0.21 | L37: =E37-J37 -> 1146884
C38: 24 | D38: ='B'' LIA'!C124 -> Koordinasi dan Penyusunan Laporan Keuangan Akhir Tahun SKPD | E38: ='B'' LIA'!G138 -> 2501000 | F38: =E38/E12*100 -> 0.043827956 | G38: ='B'' LIA'!M138 -> 100 | H38: =J38/E38*100 -> 92.166733 | I38: =F38*G38/100 -> 0.043827956 | J38: ='B'' LIA'!N138 -> 2305090 | K38: =F38*H38/100 -> 0.040394795 | L38: =E38-J38 -> 195910
C39: 26 | D39: ='B'' LIA'!C164 -> Penyusunan Pelaporan dan Analisis Prognosis Realisasi Anggaran | E39: ='B'' LIA'!G181 -> 6869550 | F39: =E39/E12*100 -> 0.12038318 | G39: ='B'' LIA'!M181 -> 100 | H39: =J39/E39*100 -> 90.644336 | I39: =F39*G39/100 -> 0.12038318 | J39: ='B'' LIA'!N181 -> 6226858 | K39: =F39*H39/100 -> 0.10912053 | L39: =E39-J39 -> 642692
A41: 4 | B41: KEPEGAWAIAN DAERAH | D41: Jumlah 8 Keg | E41: =SUM(E42:E54) -> 520277500 | F41: =F42+F43+F44+F45+F46+F47+F48+F49+F50+F51+F52+F53+F54 -> 9.1174327 | G41: =SUM(G42:G44) -> 300 | H41: =SUM(H42:H44) -> 291.52371 | I41: =SUM(I42:I54) -> 9.1174327 | J41: =SUM(J42:J54) -> 505491540 | K41: =SUM(K42:K54) -> 8.858321 | L41: =SUM(L42:L54) -> 14785960
C42: 1 | D42: ='Pak Alex'!C6 -> Penyusunan Rencana Kebutuhan ,Jenis dan Jumlah Jabatan untuk Pelaksanaan Pengadaan ASN | E42: ='Pak Alex'!G22 -> 6596300 | F42: =E42/E12*100 -> 0.1155947 | G42: ='Pak Alex'!M22 -> 100 | H42: =J42/E42*100 -> 96.696497 | I42: =F42*G42/100 -> 0.1155947 | J42: ='Pak Alex'!N22 -> 6378391 | K42: =F42*H42/100 -> 0.11177602 | L42: =E42-J42 -> 217909
C43: 2 | D43: ='Pak Alex'!C38 -> Koordinasi dan Fasilitasi Pengadaan PNS dan PPPK | E43: ='Pak Alex'!G56 -> 81869700 | F43: =E43/E12*100 -> 1.4346988 | G43: ='Pak Alex'!M56 -> 100 | H43: =J43/E43*100 -> 96.850117 | I43: =F43*G43/100 -> 1.4346988 | J43: ='Pak Alex'!N56 -> 79290900 | K43: =F43*H43/100 -> 1.3895074 | L43: =E43-J43 -> 2578800
C44: 3 | D44: ='Pak Alex'!C72 -> Evaluasi Pengadaan ASN dan Pengadaan ASN | E44: ='Pak Alex'!G89 -> 18975900 | F44: =E44/E12*100 -> 0.33253695 | G44: ='Pak Alex'!M89 -> 100 | H44: ='Pak Alex'!O89 -> 97.977092 | I44: =F44*G44/100 -> 0.33253695 | J44: ='Pak Alex'!N89 -> 18592035 | K44: =F44*H44/100 -> 0.32581003 | L44: =E44-J44 -> 383865
C45: 4 | D45: ='Pak Alex'!C111 -> Koordinasi Pelaksanaan Administrasi Pemberhentian | E45: ='Pak Alex'!G131 -> 11298100 | F45: =E45/E12*100 -> 0.19798985 | G45: ='Pak Alex'!M131 -> 100 | H45: =J45/E45*100 -> 90.518565 | I45: =F45*G45/100 -> 0.19798985 | J45: ='Pak Alex'!N131 -> 10226878 | K45: =F45*H45/100 -> 0.17921758 | L45: =E45-J45 -> 1071222
C46: 5 | D46: ='Pak Alex'!C144 -> Fasilitasi Lembaga Profesi ASN | E46: ='Pak Alex'!G166 -> 34696800 | F46: =E46/E12*100 -> 0.60803271 | G46: ='Pak Alex'!M166 -> 100 | H46: =J46/E46*100 -> 98.627539 | I46: =F46*G46/100 -> 0.60803271 | J46: ='Pak Alex'!N166 -> 34220600 | K46: =F46*H46/100 -> 0.5996877 | L46: =E46-J46 -> 476200
C47: 6 | D47: ='Pak Alex'!C183 -> Pengelolaan Data Kepegawaian | E47: ='Pak Alex'!G197 -> 16136400 | F47: =E47/E12*100 -> 0.28277706 | G47: ='Pak Alex'!M197 -> 100 | H47: =J47/E47*100 -> 98.766515 | I47: =F47*G47/100 -> 0.28277706 | J47: ='Pak Alex'!N197 -> 15937360 | K47: =F47*H47/100 -> 0.27928905 | L47: =E47-J47 -> 199040
C48: 7 | D48: ='Pak Alex'!C222 -> Evaluasi Data,Informasi dan Sistem Informasi Kepegawaian | E48: ='Pak Alex'!G238 -> 7405900 | F48: =E48/E12*100 -> 0.12978227 | G48: ='Pak Alex'!M238 -> 100 | H48: ='Pak Alex'!O238 -> 91.581914 | I48: =F48*G48/100 -> 0.12978227 | J48: ='Pak Alex'!N238 -> 6782465 | K48: =F48*H48/100 -> 0.11885709 | L48: =E48-J48 -> 623435
C49: 8 | D49: ='Pak Alex'!C261 -> Penatausahaan Arsip Dinamis Pada SKPD | E49: ='Pak Alex'!G274 -> 6080000 | F49: =E49/E12*100 -> 0.10654697 | G49: ='Pak Alex'!M274 -> 100 | H49: =J49/E49*100 -> 87.838816 | I49: =F49*G49/100 -> 0.10654697 | J49: ='Pak Alex'!N274 -> 5340600 | K49: =F49*H49/100 -> 0.093589596 | L49: =E49-J49 -> 739400
C50: 9 | D50: ='IBU YUSTI'!C6 -> Pengelolaan Mutasi ASN | E50: ='IBU YUSTI'!G27 -> 29396400 | F50: =E50/E12*100 -> 0.51514759 | G50: ='IBU YUSTI'!M27 -> 100 | H50: =J50/E50*100 -> 97.402845 | I50: =F50*G50/100 -> 0.51514759 | J50: ='IBU YUSTI'!N27 -> 28632930 | K50: =F50*H50/100 -> 0.50176841 | L50: =E50-J50 -> 763470
C51: 10 | D51: ='IBU YUSTI'!C41 -> Pengelolaan Kenaikan Pangkat ASN | E51: ='IBU YUSTI'!G56 -> 45336700 | F51: =E51/E12*100 -> 0.79448816 | G51: ='IBU YUSTI'!M56 -> 100 | H51: =J51/E51*100 -> 95.937699 | I51: =F51*G51/100 -> 0.79448816 | J51: ='IBU YUSTI'!N56 -> 43494987 | K51: =F51*H51/100 -> 0.76221366 | L51: =E51-J51 -> 1841713
C52: 11 | D52: ='IBU YUSTI'!C77 -> Pengelolaan Promosi ASN | E52: ='IBU YUSTI'!G95 -> 230891000 | F52: =E52/E12*100 -> 4.0461737 | G52: ='IBU YUSTI'!M95 -> 100 | H52: =J52/E52*100 -> 97.716131 | I52: =F52*G52/100 -> 4.0461737 | J52: ='IBU YUSTI'!N95 -> 225617752 | K52: =F52*H52/100 -> 3.9537644 | L52: =E52-J52 -> 5273248
C53: 12 | D53: ='IBU YUSTI'!C113 -> Evaluasi Pelaksanaan Pemberian Penghargaan dan tanda Jasa Aparatur | E53: ='IBU YUSTI'!G127 -> 27137100 | F53: =E53/E12*100 -> 0.47555522 | G53: ='IBU YUSTI'!M127 -> 100 | H53: =J53/E53*100 -> 99.108166 | I53: =F53*G53/100 -> 0.47555522 | J53: ='IBU YUSTI'!N127 -> 26895082 | K53: =F53*H53/100 -> 0.47131406 | L53: =E53-J53 -> 242018
C54: 13 | D54: ='IBU YUSTI'!C150 -> Pembinaan Disiplin ASN | E54: ='IBU YUSTI'!G166 -> 4457200 | F54: =E54/E12*100 -> 0.078108742 | G54: ='IBU YUSTI'!M166 -> 100 | H54: =J54/E54*100 -> 91.572288 | I54: =F54*G54/100 -> 0.078108742 | J54: ='IBU YUSTI'!N166 -> 4081560 | K54: =F54*H54/100 -> 0.071525962 | L54: =E54-J54 -> 375640
A56: 5 | B56: PENGEMBANGAN SUMBER DAYA MANUSIA | D56: Jumlah 4 Keg | E56: =SUM(E57:E60) -> 608069500 | F56: =SUM(F57:F60) -> 10.655915 | G56: =SUM(G57:G58) -> 200 | H56: =SUM(H57:H58) -> 197.95137 | I56: =SUM(I57:I60) -> 10.655915 | J56: =SUM(J57:J60) -> 589129118 | K56: =SUM(K57:K60) -> 10.324 | L56: =SUM(L57:L60) -> 18940382
C57: 1 | D57: ='IBU ASNI'!C6 -> Pengelolaan Pendidikan Lanjutan ASN | E57: ='IBU ASNI'!G22 -> 234758000 | F57: =E57/E12*100 -> 4.1139397 | G57: ='IBU ASNI'!M22 -> 100 | H57: ='IBU ASNI'!O22 -> 99.842322 | I57: =F57*G57/100 -> 4.1139397 | J57: ='IBU ASNI'!N22 -> 234387839 | K57: =F57*H57/100 -> 4.107453 | L57: =E57-J57 -> 370161
C58: 2 | D58: ='IBU ASNI'!C45 -> Koordinasi dan Kerjasama Pelaksanaan Diklat Jabatan Fungsional | E58: ='IBU ASNI'!G60 -> 45000000 | F58: =E58/E12*100 -> 0.78858777 | G58: ='IBU ASNI'!M60 -> 100 | H58: =J58/E58*100 -> 98.109044 | I58: =F58*G58/100 -> 0.78858777 | J58: ='IBU ASNI'!N60 -> 44149070 | K58: =F58*H58/100 -> 0.77367592 | L58: =E58-J58 -> 850930
C59: 3 | D59: ='IBU ASNI'!C86 -> Penyelenggaraan Pengembangan Kompotensi Teknis Umum ,inti,dan Pilihan bagi jabatan Administrasi Penyelenggara urusan Pemerintah Konkuren, | E59: ='IBU ASNI'!G106 -> 188338400 | F59: =E59/E12*100 -> 3.3004746 | G59: ='IBU ASNI'!M106 -> 100 | H59: =J59/E59*100 -> 93.929101 | I59: =F59*G59/100 -> 3.3004746 | J59: ='IBU ASNI'!N106 -> 176904566 | K59: =F59*H59/100 -> 3.1001062 | L59: =E59-J59 -> 11433834
C60: 4 | D60: ='IBU ASNI'!C126 -> Penyelenggaraan Pengembangan Kompotensi bagi Pimpinan Daerah ,Jabatan Pimpinan | E60: ='IBU ASNI'!G149 -> 139973100 | F60: =E60/E12*100 -> 2.4529128 | G60: ='IBU ASNI'!M149 -> 100 | H60: =J60/E60*100 -> 95.509525 | I60: =F60*G60/100 -> 2.4529128 | J60: ='IBU ASNI'!N149 -> 133687643 | K60: =F60*H60/100 -> 2.3427653 | L60: =E60-J60 -> 6285457
B62: TOTAL | E62: =E13+E41+E56 -> 5706403500 | F62: =F13+F41+F56 -> 100 | G62: =G13+#REF!+#REF!+#REF!+G41+G45+G56+G59+#REF!+#REF!+#REF!+#REF!+#REF!+#REF!+#REF!+#REF! -> #REF! | H62: =H13+#REF!+#REF!+#REF!+H41+H45+H56+H59+#REF!+#REF!+#REF!+#REF!+#REF!+#REF!+#REF!+#REF! -> #REF! | I62: =I13+I41+I56 -> 100 | J62: =J13+J41+J56 -> 5440921226 | K62: =K13+K41+K56 -> 95.355284 | L62: =L13+L41+L56 -> 265482274
J64: ='B'' IDA'!L87 -> Benteng, 31 Desember 2025
I65: KEPALA BADAN KEPEGAWAIAN DAN PENGEMBANGAN SUMBER DAYA MANUSIA
I69: ANDI TRIYANTI MUDALIFAH,SE,M.M
I70: Pangkat : Pembina
I71: NIP. 19780520200604 2 036

Sheet Sheet2

Sheet RFK II
A2: APBD KABUPATEN KEPULAUAN SELAYAR
A3: TAHUN ANGGARAN 2025
A4: SKPD : Badan Kepegawaian Dan Pengembangan Sumber Daya Manusia
A5: Belanja : Langsung | L5: ='B'' IDA'!M8 -> Keadaan Desember 2025
A7: No. Urt | B7: Nama PPTK | C7: Jumlah Kegiatan / Nama Kegiatan | E7: Jumlah Dana ( Rp ) | F7: Bobot ( % ) | G7: Realisasi Komulatif (%) | I7: Realisasi Tertimbang (%) | L7: Sisa Dana (Rp ) | M7: Masalah Yang dihadapi | N7: Pemecahan Masalah | O7: Saran Tindak Lanjut
G9: Fisik | H9: Keu | I9: Fisik | J9: Keuangan | K9: %
A11: 1 | B11: 2 | C11: 3 | E11: 4 | F11: 5 | G11: 6 | H11: 7 | I11: 8 | J11: 9 | K11: 10 | L11: 11 | M11: 12 | N11: 13 | O11: 14
A13: 1 | B13: ='B'' IDA'!L62 -> NURWAHIDA, S.Sos | D13: Jumlah 14 Keg | E13: =SUM(E14:E27) -> 634966350 | F13: =SUM(F14:F29) -> 11.12726 | I13: =SUM(I14:I29) -> 11.12726 | J13: =SUM(J14:J29) -> 616170644 | K13: =SUM(K14:K29) -> 10.824806 | L13: =SUM(L14:L29) -> 18795706
B14: ='B'' IDA'!L63 -> NIP. 19761231 200701 2 040 | C14: 1 | D14: ='B'' IDA'!C6 -> Penatausahaan Barang Milik Daerah pada SKPD | E14: ='B'' IDA'!G25 -> 10821600 | F14: =E14/E72*100 -> 0.18963959 | G14: ='B'' IDA'!M25 -> 100 | H14: =J14/E14*100 -> 95.478755 | I14: =F14*G14/100 -> 0.18963959 | J14: ='B'' IDA'!N25 -> 10332329 | K14: =F14*H14/100 -> 0.18106552 | L14: =E14-J14 -> 489271
C15: 2 | D15: ='B'' IDA'!C37 -> Pendataan dan Pengolahan Administrasi Kepegawaian | E15: ='B'' IDA'!G53 -> 8420100 | F15: =E15/E72*100 -> 0.14755529 | G15: ='B'' IDA'!M53 -> 100 | H15: =J15/E15*100 -> 78.890358 | I15: =F15*G15/100 -> 0.14755529 | J15: ='B'' IDA'!N53 -> 6642647 | K15: =F15*H15/100 -> 0.11640689 | L15: =E15-J15 -> 1777453
C16: 3 | D16: ='B'' IDA'!C68 -> Penyediaan Komponen Instalasi Listrik /Penerangan Bangunan Kantor | E16: ='B'' IDA'!G84 -> 6238400 | F16: =E16/E72*100 -> 0.1093228 | G16: ='B'' IDA'!M84 -> 100 | H16: =J16/E16*100 -> 96.273051 | I16: =F16*G16/100 -> 0.1093228 | J16: ='B'' IDA'!N84 -> 6005898 | K16: =F16*H16/100 -> 0.10524839 | L16: =E16-J16 -> 232502
C17: 4 | D17: ='B'' IDA'!C99 -> Penyediaan Barang Cetakan dan Penggandaan | E17: ='B'' IDA'!G115 -> 9334600 | F17: =E17/E72*100 -> 0.16358114 | G17: ='B'' IDA'!M115 -> 100 | H17: =J17/E17*100 -> 88.053093 | I17: =F17*G17/100 -> 0.16358114 | J17: ='B'' IDA'!N115 -> 8219404 | K17: =F17*H17/100 -> 0.14403825 | L17: =E17-J17 -> 1115196
C18: 5 | D18: ='B'' IDA'!C135 -> Penyediaan Bahan Bacaan dan Peraturan Perundang- undangan | E18: ='B'' IDA'!G151 -> 2380000 | F18: =E18/E72*100 -> 0.041707531 | G18: ='B'' IDA'!M151 -> 100 | H18: =J18/E18*100 -> 100 | I18: =F18*G18/100 -> 0.041707531 | J18: ='B'' IDA'!N151 -> 2380000 | K18: =F18*H18/100 -> 0.041707531 | L18: =E18-J18 -> 0
C19: 6 | D19: ='B'' IDA'!C172 -> Penyediaan Jasa Peralatan dan Perlengkapan Kantor | E19: ='B'' IDA'!G183 -> 4350000 | F19: =E19/E72*100 -> 0.076230151 | G19: ='B'' IDA'!M183 -> 100 | H19: =J19/E19*100 -> 99.425287 | I19: =F19*G19/100 -> 0.076230151 | J19: ='B'' IDA'!N183 -> 4325000 | K19: =F19*H19/100 -> 0.075792047 | L19: =E19-J19 -> 25000
C20: 7 | D20: ='B'' IDA'!C209 -> Penyelenggaraan Rapat Koordinasi dan Konsultasi SKPD | E20: ='B'' IDA'!G223 -> 153794000 | F20: =E20/E72*100 -> 2.6951126 | G20: ='B'' IDA'!M223 -> 100 | H20: =J20/E20*100 -> 99.993329 | I20: =F20*G20/100 -> 2.6951126 | J20: ='B'' IDA'!N223 -> 153783740 | K20: =F20*H20/100 -> 2.6949328 | L20: =E20-J20 -> 10260
C21: 8 | D21: ='B'' IDA'!C241 -> Penyediaan Jasa Surat Menyurat | E21: ='B'' IDA'!G256 -> 13679200 | F21: =E21/E72*100 -> 0.23971666 | G21: ='B'' IDA'!M256 -> 100 | H21: =J21/E21*100 -> 84.714362 | I21: =F21*G21/100 -> 0.23971666 | J21: ='B'' IDA'!N256 -> 11588247 | K21: 0.23 | L21: =E21-J21 -> 2090953
C22: 9 | D22: ='B'' IDA'!C274 -> Penyediaan Jasa Komunikasi Sumber Daya Air dan Listrik | E22: ='B'' IDA'!G290 -> 78353450 | F22: =E22/E72*100 -> 1.3730794 | G22: ='B'' IDA'!M290 -> 100 | H22: =J22/E22*100 -> 88.770607 | I22: =F22*G22/100 -> 1.3730794 | J22: ='B'' IDA'!N290 -> 69554833 | K22: =F22*H22/100 -> 1.2188909 | L22: =E22-J22 -> 8798617
C23: 10 | D23: ='B'' IDA'!C310 -> Penyediaan Jasa Pemeliharaan ,Biaya Pemeliharaan ,Pajak dan Perizinan Kendaraan Dinas | E23: ='B'' IDA'!G327 -> 95540000 | F23: =E23/E72*100 -> 1.6742595 | G23: ='B'' IDA'!M327 -> 100 | H23: =J23/E23*100 -> 96.789457 | I23: =F23*G23/100 -> 1.6742595 | J23: ='B'' IDA'!N327 -> 92472647 | K23: =F23*H23/100 -> 1.6205066 | L23: =E23-J23 -> 3067353
C24: 11 | D24: Belanja Peralatan dan Perlengkapan Kantor | E24: ='B'' IDA'!G362 -> 92545000 | F24: =E24/E72*100 -> 1.6217746 | G24: ='B'' IDA'!M362 -> 100 | H24: ='B'' IDA'!O362 -> 98.806958 | I24: =F24*G24/100 -> 1.6217746 | J24: ='B'' IDA'!N362 -> 91440899 | K24: =F24*H24/100 -> 1.6024261 | L24: =E24-J24 -> 1104101
C25: 12 | D25: Dukungan Pelaksanaan Sistem Pemerintahan Berbasis Elektonik pada SKPD | E25: ='B'' IDA'!G395 -> 115000000 | F25: =E25/E72*100 -> 2.0152799 | G25: ='B'' IDA'!M395 -> 100 | H25: =J25/E25*100 -> 99.926087 | I25: =F25*G25/100 -> 2.0152799 | J25: ='B'' IDA'!N395 -> 114915000 | K25: =F25*H25/100 -> 2.0137903 | L25: =E25-J25 -> 85000
C26: 13 | D26: ='B'' IDA'!C420 -> Pemeliharaan /Rehabilitasi sarana dan Prasarana Gedung Kantor atau bangunan Lainnya | E26: 35150000 | F26: =E26/E72*100 -> 0.61597467 | G26: ='B'' IDA'!M435 -> 100 | H26: =J26/E26*100 -> 100 | I26: =F26*G26/100 -> 0.61597467 | J26: ='B'' IDA'!N435 -> 35150000 | K26: =F26*H26/100 -> 0.61597467 | L26: =E26-J26 -> 0
C27: 14 | D27: Penyediaan Jasa Pelayanan Umum Kantor | E27: ='B'' IDA'!G471 -> 9360000 | F27: =E27/E72*100 -> 0.16402626 | G27: ='B'' IDA'!M471 -> 100 | H27: =J27/E27*100 -> 100 | I27: =F27*G27/100 -> 0.16402626 | J27: ='B'' IDA'!N471 -> 9360000 | K27: =F27*H27/100 -> 0.16402626 | L27: =E27-J27 -> 0
A31: 2 | B31: ='B Nini'!L55 -> NUR SURYA NINGRAT, SE | D31: Jumlah 7 Keg | E31: =SUM(E32:E38) -> 25314400 | F31: =SUM(F32:F38) -> 0.44361392 | G31: =SUM(G32:G33) -> 200 | H31: =SUM(H32:H33) -> 191.55685 | I31: =SUM(I32:I38) -> 0.44361392 | J31: =SUM(J32:J38) -> 23765113 | K31: =SUM(K32:K38) -> 0.42418127 | L31: =SUM(L32:L38) -> 1549287
B32: ='B Nini'!L56 -> NIP. 19770815 201410 2 001 | C32: 1 | D32: ='B Nini'!C6 -> Penyusunan Dokumen Perencanaan Perangkat Daerah | E32: ='B Nini'!G21 -> 12336400 | F32: =E32/E72*100 -> 0.2161852 | G32: ='B Nini'!M21 -> 100 | H32: ='B Nini'!O21 -> 100 | I32: =F32*G32/100 -> 0.2161852 | J32: ='B Nini'!N21 -> 11896018 | K32: =F32*H32/100 -> 0.2161852 | L32: =E32-J32 -> 440382
C33: 2 | D33: ='B Nini'!C32 -> Evaluasi Kinerja Perangkat Daerah | E33: ='B Nini'!G47 -> 3485700 | F33: =E33/E72*100 -> 0.061084009 | G33: ='B Nini'!M47 -> 100 | H33: =J33/E33*100 -> 91.556847 | I33: =F33*G33/100 -> 0.061084009 | J33: ='B Nini'!N47 -> 3191397 | K33: =F33*H33/100 -> 0.055926592 | L33: =E33-J33 -> 294303
C34: 3 | D34: ='B Nini'!C68 -> Koordinasi dan Penyusunan Dokumen RKA-SKPD | E34: ='B Nini'!G83 -> 1509700 | F34: =E34/E72*100 -> 0.026456243 | G34: ='B Nini'!M83 -> 100 | H34: =J34/E34*100 -> 91.916937 | I34: =F34*G34/100 -> 0.026456243 | J34: ='B Nini'!N83 -> 1387670 | K34: =F34*H34/100 -> 0.024317769 | L34: =E34-J34 -> 122030
C35: 4 | D35: ='B Nini'!C98 -> Koordinasi dan Penyusunan Dokumen Perubahan RKA-SKPD | E35: ='B Nini'!G114 -> 1491000 | F35: =E35/E72*100 -> 0.026128541 | G35: ='B Nini'!M114 -> 100 | H35: =J35/E35*100 -> 90.424883 | I35: =F35*G35/100 -> 0.026128541 | J35: ='B Nini'!N114 -> 1348235 | K35: =F35*H35/100 -> 0.023626703 | L35: =E35-J35 -> 142765
C36: 5 | D36: ='B Nini'!C132 -> Koordinasi dan Penyusunan Dokumen DPA-SKPD | E36: ='B Nini'!G147 -> 1861100 | F36: =E36/E72*100 -> 0.032614238 | G36: ='B Nini'!M147 -> 100 | H36: =J36/E36*100 -> 91.887217 | I36: =F36*G36/100 -> 0.032614238 | J36: ='B Nini'!N147 -> 1710113 | K36: =F36*H36/100 -> 0.029968315 | L36: =E36-J36 -> 150987
C37: 6 | D37: ='B Nini'!C166 -> Koordinasi dan Penyusunan Dokumen Perubahan DPA-SKPD | E37: ='B Nini'!G183 -> 1522300 | F37: =E37/E72*100 -> 0.026677048 | G37: ='B Nini'!M183 -> 100 | H37: =J37/E37*100 -> 88.568548 | I37: =F37*G37/100 -> 0.026677048 | J37: ='B Nini'!N183 -> 1348279 | K37: =F37*H37/100 -> 0.023627474 | L37: =E37-J37 -> 174021
C38: 7 | D38: ='B Nini'!C195 -> Koordinasi dan Penyusunan Laporan Capaian Kinerja dan Iktisar Realisasi Kerja SKPD | E38: ='B Nini'!G212 -> 3108200 | F38: =E38/E72*100 -> 0.054468633 | G38: ='B Nini'!M212 -> 100 | H38: =J38/E38*100 -> 92.76755 | I38: =F38*G38/100 -> 0.054468633 | J38: ='B Nini'!N212 -> 2883401 | K38: =F38*H38/100 -> 0.050529217 | L38: =E38-J38 -> 224799
A40: 3 | B40: ANDI NURWALIYAH,SE | D40: Jumlah 5 Keg | E40: =SUM(E41:E45) -> 3917775750 | F40: =SUM(F41:F45) -> 68.655779 | G40: =SUM(G41:G45) -> 500 | H40: =SUM(H41:H45) -> 466.10259 | I40: =SUM(I41:I45) -> 68.655779 | J40: =SUM(J41:J45) -> 3706364811 | K40: =SUM(K41:K45) -> 64.923975 | L40: =SUM(L41:L45) -> 211410939
B41: NIP.197602012005022005 | C41: 1 | D41: ='B'' LIA'!C5 -> Penyedian Gaji dan Tunjangan ASN | E41: ='B'' LIA'!G32 -> 3833124000 | F41: =E41/E72*100 -> 67.172327 | G41: ='B'' LIA'!M32 -> 100 | H41: =J41/E41*100 -> 94.580646 | I41: =F41*G41/100 -> 67.172327 | J41: ='B'' LIA'!N32 -> 3625393446 | K41: 63.51 | L41: =E41-J41 -> 207730554
C42: 2 | D42: ='B'' LIA'!C43 -> Penyediaan Administrasi Pelaksanaan Tugas ASN | E42: ='B'' LIA'!G63 -> 61866600 | F42: =E42/E72*100 -> 1.084161 | G42: ='B'' LIA'!M63 -> 100 | H42: =J42/E42*100 -> 97.260397 | I42: =F42*G42/100 -> 1.084161 | J42: ='B'' LIA'!N63 -> 60171701 | K42: =F42*H42/100 -> 1.0544593 | L42: =E42-J42 -> 1694899
C43: 3 | D43: ='B'' LIA'!C84 -> Koordinasi dan Pelaksanaan Angkuntansi SKPD | E43: ='B'' LIA'!G98 -> 13414600 | F43: =E43/E72*100 -> 0.23507977 | G43: ='B'' LIA'!M98 -> 100 | H43: ='B'' LIA'!O98 -> 91.450479 | I43: =F43*G43/100 -> 0.23507977 | J43: ='B'' LIA'!N98 -> 12267716 | K43: 0.21 | L43: =E43-J43 -> 1146884
C44: 4 | D44: ='B'' LIA'!C124 -> Koordinasi dan Penyusunan Laporan Keuangan Akhir Tahun SKPD | E44: ='B'' LIA'!G138 -> 2501000 | F44: =E44/E72*100 -> 0.043827956 | G44: ='B'' LIA'!M138 -> 100 | H44: =J44/E44*100 -> 92.166733 | I44: =F44*G44/100 -> 0.043827956 | J44: ='B'' LIA'!N138 -> 2305090 | K44: =F44*H44/100 -> 0.040394795 | L44: =E44-J44 -> 195910
C45: 5 | D45: ='B'' LIA'!C164 -> Penyusunan Pelaporan dan Analisis Prognosis Realisasi Anggaran | E45: ='B'' LIA'!G181 -> 6869550 | F45: =E45/E72*100 -> 0.12038318 | G45: ='B'' LIA'!M181 -> 100 | H45: =J45/E45*100 -> 90.644336 | I45: =F45*G45/100 -> 0.12038318 | J45: ='B'' LIA'!N181 -> 6226858 | K45: =F45*H45/100 -> 0.10912053 | L45: =E45-J45 -> 642692
A48: 4 | B48: ='Pak Alex'!L30 -> AHMAD ANSAR,S.Sos | D48: Jumlah 8 Keg | E48: =SUM(E49:E56) -> 183059100 | F48: =SUM(F49:F56) -> 3.2079593 | G48: =SUM(G49:G51) -> 300 | H48: =SUM(H49:H51) -> 291.52371 | I48: =SUM(I49:I56) -> 3.2079593 | J48: =SUM(J49:J56) -> 176769229 | K48: =SUM(K49:K56) -> 3.0977345 | L48: =SUM(L49:L56) -> 6289871
C49: 1 | D49: ='Pak Alex'!C6 -> Penyusunan Rencana Kebutuhan ,Jenis dan Jumlah Jabatan untuk Pelaksanaan Pengadaan ASN | E49: ='Pak Alex'!G22 -> 6596300 | F49: =E49/E72*100 -> 0.1155947 | G49: ='Pak Alex'!M22 -> 100 | H49: =J49/E49*100 -> 96.696497 | I49: =F49*G49/100 -> 0.1155947 | J49: ='Pak Alex'!N22 -> 6378391 | K49: =F49*H49/100 -> 0.11177602 | L49: =E49-J49 -> 217909
B50: ='Pak Alex'!L31 -> NIP. 197907312007011014 | C50: 2 | D50: ='Pak Alex'!C38 -> Koordinasi dan Fasilitasi Pengadaan PNS dan PPPK | E50: ='Pak Alex'!G56 -> 81869700 | F50: =E50/E72*100 -> 1.4346988 | G50: ='Pak Alex'!M56 -> 100 | H50: =J50/E50*100 -> 96.850117 | I50: =F50*G50/100 -> 1.4346988 | J50: ='Pak Alex'!N56 -> 79290900 | K50: =F50*H50/100 -> 1.3895074 | L50: =E50-J50 -> 2578800
C51: 3 | D51: ='Pak Alex'!C72 -> Evaluasi Pengadaan ASN dan Pengadaan ASN | E51: ='Pak Alex'!G89 -> 18975900 | F51: =E51/E72*100 -> 0.33253695 | G51: ='Pak Alex'!M89 -> 100 | H51: ='Pak Alex'!O89 -> 97.977092 | I51: =F51*G51/100 -> 0.33253695 | J51: ='Pak Alex'!N89 -> 18592035 | K51: =F51*H51/100 -> 0.32581003 | L51: =E51-J51 -> 383865
C52: 4 | D52: ='Pak Alex'!C111 -> Koordinasi Pelaksanaan Administrasi Pemberhentian | E52: ='Pak Alex'!G131 -> 11298100 | F52: =E52/E72*100 -> 0.19798985 | G52: ='Pak Alex'!M131 -> 100 | H52: =J52/E52*100 -> 90.518565 | I52: =F52*G52/100 -> 0.19798985 | J52: ='Pak Alex'!N131 -> 10226878 | K52: =F52*H52/100 -> 0.17921758 | L52: =E52-J52 -> 1071222
C53: 5 | D53: ='Pak Alex'!C144 -> Fasilitasi Lembaga Profesi ASN | E53: ='Pak Alex'!G166 -> 34696800 | F53: =E53/E72*100 -> 0.60803271 | G53: ='Pak Alex'!M166 -> 100 | H53: =J53/E53*100 -> 98.627539 | I53: =F53*G53/100 -> 0.60803271 | J53: ='Pak Alex'!N166 -> 34220600 | K53: =F53*H53/100 -> 0.5996877 | L53: =E53-J53 -> 476200
C54: 6 | D54: ='Pak Alex'!C183 -> Pengelolaan Data Kepegawaian | E54: ='Pak Alex'!G197 -> 16136400 | F54: =E54/E72*100 -> 0.28277706 | G54: ='Pak Alex'!M197 -> 100 | H54: =J54/E54*100 -> 98.766515 | I54: =F54*G54/100 -> 0.28277706 | J54: ='Pak Alex'!N197 -> 15937360 | K54: =F54*H54/100 -> 0.27928905 | L54: =E54-J54 -> 199040
C55: 7 | D55: ='Pak Alex'!C222 -> Evaluasi Data,Informasi dan Sistem Informasi Kepegawaian | E55: ='Pak Alex'!G238 -> 7405900 | F55: =E55/E72*100 -> 0.12978227 | G55: ='Pak Alex'!M238 -> 100 | H55: ='Pak Alex'!O238 -> 91.581914 | I55: =F55*G55/100 -> 0.12978227 | J55: ='Pak Alex'!N238 -> 6782465 | K55: =F55*H55/100 -> 0.11885709 | L55: =E55-J55 -> 623435
C56: 8 | D56: ='Pak Alex'!C261 -> Penatausahaan Arsip Dinamis Pada SKPD | E56: ='Pak Alex'!G274 -> 6080000 | F56: =E56/E72*100 -> 0.10654697 | G56: ='Pak Alex'!M274 -> 100 | H56: =J56/E56*100 -> 87.838816 | I56: =F56*G56/100 -> 0.10654697 | J56: ='Pak Alex'!N274 -> 5340600 | K56: =F56*H56/100 -> 0.093589596 | L56: =E56-J56 -> 739400
A58: 5 | B58: ='IBU ASNI'!L157 -> NUR HASNIATI,S.Sos,M.Si | D58: Jumlah 4 Keg | E58: =SUM(E59:E62) -> 608069500 | F58: =SUM(F59:F63) -> 10.655915 | G58: =SUM(G59:G60) -> 200 | H58: =SUM(H59:H60) -> 197.95137 | I58: =SUM(I59:I63) -> 10.655915 | J58: =SUM(J59:J62) -> 589129118 | K58: =SUM(K59:K63) -> 10.324 | L58: =SUM(L59:L63) -> 18940382
B59: ='IBU ASNI'!L31 -> NIP. 19710623 201001 2 003 | C59: 1 | D59: ='IBU ASNI'!C6 -> Pengelolaan Pendidikan Lanjutan ASN | E59: ='IBU ASNI'!G22 -> 234758000 | F59: =E59/E72*100 -> 4.1139397 | G59: ='IBU ASNI'!M22 -> 100 | H59: ='IBU ASNI'!O22 -> 99.842322 | I59: =F59*G59/100 -> 4.1139397 | J59: ='IBU ASNI'!N22 -> 234387839 | K59: =F59*H59/100 -> 4.107453 | L59: =E59-J59 -> 370161
C60: 2 | D60: ='IBU ASNI'!C45 -> Koordinasi dan Kerjasama Pelaksanaan Diklat Jabatan Fungsional | E60: ='IBU ASNI'!G60 -> 45000000 | F60: =E60/E72*100 -> 0.78858777 | G60: ='IBU ASNI'!M60 -> 100 | H60: =J60/E60*100 -> 98.109044 | I60: =F60*G60/100 -> 0.78858777 | J60: ='IBU ASNI'!N60 -> 44149070 | K60: =F60*H60/100 -> 0.77367592 | L60: =E60-J60 -> 850930
C61: 3 | D61: ='IBU ASNI'!C86 -> Penyelenggaraan Pengembangan Kompotensi Teknis Umum ,inti,dan Pilihan bagi jabatan Administrasi Penyelenggara urusan Pemerintah Konkuren, | E61: ='IBU ASNI'!G106 -> 188338400 | F61: =E61/E72*100 -> 3.3004746 | G61: ='IBU ASNI'!M106 -> 100 | H61: =J61/E61*100 -> 93.929101 | I61: =F61*G61/100 -> 3.3004746 | J61: ='IBU ASNI'!N106 -> 176904566 | K61: =F61*H61/100 -> 3.1001062 | L61: =E61-J61 -> 11433834
C62: 4 | D62: ='IBU ASNI'!C126 -> Penyelenggaraan Pengembangan Kompotensi bagi Pimpinan Daerah ,Jabatan Pimpinan | E62: ='IBU ASNI'!G149 -> 139973100 | F62: =E62/E72*100 -> 2.4529128 | G62: ='IBU ASNI'!M149 -> 100 | H62: =J62/E62*100 -> 95.509525 | I62: =F62*G62/100 -> 2.4529128 | J62: ='IBU ASNI'!N149 -> 133687643 | K62: =F62*H62/100 -> 2.3427653 | L62: =E62-J62 -> 6285457
A65: 6 | B65: ='IBU YUSTI'!L35 -> YUSTI ULIYANTI,S.Sos | D65: Jumlah 5 Keg | E65: =SUM(E66:E70) -> 337218400 | F65: =SUM(F66:F70) -> 5.9094735 | G65: =SUM(G66:G68) -> 300 | H65: =SUM(H66:H68) -> 291.05668 | I65: =SUM(I66:I70) -> 5.9094735 | J65: =SUM(J66:J70) -> 328722311 | K65: =SUM(K66:K70) -> 5.7605865 | L65: =SUM(L66:L70) -> 8496089
B66: ='IBU YUSTI'!L36 -> NIP. 19860830 2014072002 | C66: 1 | D66: ='IBU YUSTI'!C6 -> Pengelolaan Mutasi ASN | E66: ='IBU YUSTI'!G27 -> 29396400 | F66: =E66/E72*100 -> 0.51514759 | G66: ='IBU YUSTI'!M27 -> 100 | H66: =J66/E66*100 -> 97.402845 | I66: =F66*G66/100 -> 0.51514759 | J66: ='IBU YUSTI'!N27 -> 28632930 | K66: =F66*H66/100 -> 0.50176841 | L66: =E66-J66 -> 763470
C67: 2 | D67: ='IBU YUSTI'!C41 -> Pengelolaan Kenaikan Pangkat ASN | E67: ='IBU YUSTI'!G56 -> 45336700 | F67: =E67/E72*100 -> 0.79448816 | G67: ='IBU YUSTI'!M56 -> 100 | H67: =J67/E67*100 -> 95.937699 | I67: =F67*G67/100 -> 0.79448816 | J67: ='IBU YUSTI'!N56 -> 43494987 | K67: =F67*H67/100 -> 0.76221366 | L67: =E67-J67 -> 1841713
C68: 3 | D68: ='IBU YUSTI'!C77 -> Pengelolaan Promosi ASN | E68: ='IBU YUSTI'!G95 -> 230891000 | F68: =E68/E72*100 -> 4.0461737 | G68: ='IBU YUSTI'!M95 -> 100 | H68: =J68/E68*100 -> 97.716131 | I68: =F68*G68/100 -> 4.0461737 | J68: ='IBU YUSTI'!N95 -> 225617752 | K68: =F68*H68/100 -> 3.9537644 | L68: =E68-J68 -> 5273248
C69: 4 | D69: ='IBU YUSTI'!C113 -> Evaluasi Pelaksanaan Pemberian Penghargaan dan tanda Jasa Aparatur | E69: ='IBU YUSTI'!G127 -> 27137100 | F69: =E69/E72*100 -> 0.47555522 | G69: ='IBU YUSTI'!M127 -> 100 | H69: =J69/E69*100 -> 99.108166 | I69: =F69*G69/100 -> 0.47555522 | J69: ='IBU YUSTI'!N127 -> 26895082 | K69: =F69*H69/100 -> 0.47131406 | L69: =E69-J69 -> 242018
C70: 5 | D70: ='IBU YUSTI'!C150 -> Pembinaan Disiplin ASN | E70: ='IBU YUSTI'!G166 -> 4457200 | F70: =E70/E72*100 -> 0.078108742 | G70: ='IBU YUSTI'!M166 -> 100 | H70: =J70/E70*100 -> 91.572288 | I70: =F70*G70/100 -> 0.078108742 | J70: ='IBU YUSTI'!N166 -> 4081560 | K70: =F70*H70/100 -> 0.071525962 | L70: =E70-J70 -> 375640
B72: TOTAL | E72: =E65+E58+E48+E40+E31+E13 -> 5706403500 | F72: =F13+F31+F40+F48+F58+F65 -> 100 | G72: =G13+G31+G40+#REF!+G48+G52+G58+G61+#REF!+#REF!+G65+#REF!+#REF!+#REF!+#REF!+#REF! -> #REF! | H72: =H13+H31+H40+#REF!+H48+H52+H58+H61+#REF!+#REF!+H65+#REF!+#REF!+#REF!+#REF!+#REF! -> #REF! | I72: =I13+I31+I40+I48+I58+I65 -> 100 | J72: =J65+J58+J48+J40+J31+J13 -> 5440921226 | K72: =K65+K58+K48+K40+K31+K13 -> 95.355284 | L72: =L13+L31+L40+L48+L58+L65 -> 265482274
J74: ='B'' IDA'!L87 -> Benteng, 31 Desember 2025
I75: KEPALA BADAN KEPEGAWAIAN DAN PENGEMBANGAN SUMBER DAYA MANUSIA
I81: ANDI TRIYANTI MUDALIFAH,SE,M.M
I82: Pangkat : Pembina
I83: NIP. 19780520200604 2 036
